BEGIN:VCALENDAR
VERSION:2.0
PRODID:-//Evergreen - ECPv6.15.17.1//NONSGML v1.0//EN
CALSCALE:GREGORIAN
METHOD:PUBLISH
X-ORIGINAL-URL:https://ebcla.org
X-WR-CALDESC:Events for Evergreen
REFRESH-INTERVAL;VALUE=DURATION:PT1H
X-Robots-Tag:noindex
X-PUBLISHED-TTL:PT1H
BEGIN:VTIMEZONE
TZID:America/Los_Angeles
BEGIN:DAYLIGHT
TZOFFSETFROM:-0800
TZOFFSETTO:-0700
TZNAME:PDT
DTSTART:20190310T100000
END:DAYLIGHT
BEGIN:STANDARD
TZOFFSETFROM:-0700
TZOFFSETTO:-0800
TZNAME:PST
DTSTART:20191103T090000
END:STANDARD
BEGIN:DAYLIGHT
TZOFFSETFROM:-0800
TZOFFSETTO:-0700
TZNAME:PDT
DTSTART:20200308T100000
END:DAYLIGHT
BEGIN:STANDARD
TZOFFSETFROM:-0700
TZOFFSETTO:-0800
TZNAME:PST
DTSTART:20201101T090000
END:STANDARD
BEGIN:DAYLIGHT
TZOFFSETFROM:-0800
TZOFFSETTO:-0700
TZNAME:PDT
DTSTART:20210314T100000
END:DAYLIGHT
BEGIN:STANDARD
TZOFFSETFROM:-0700
TZOFFSETTO:-0800
TZNAME:PST
DTSTART:20211107T090000
END:STANDARD
END:VTIMEZONE
BEGIN:VEVENT
DTSTART;TZID=America/Los_Angeles:20201212T083000
DTEND;TZID=America/Los_Angeles:20201212T093000
DTSTAMP:20260419T201635
CREATED:20201028T220010Z
LAST-MODIFIED:20210311T235518Z
UID:3640-1607761800-1607765400@ebcla.org
SUMMARY:Men's Breakfast
DESCRIPTION:All men are invited to our monthly group to eat together and reflect on a book study.  For details and to RSVP\, please contact Pastor Jonathan. 
URL:https://ebcla.org/event/mens-breakfast-26-2020-12-12/
END:VEVENT
BEGIN:VEVENT
DTSTART;TZID=America/Los_Angeles:20201211T193000
DTEND;TZID=America/Los_Angeles:20201211T210000
DTSTAMP:20260419T201635
CREATED:20200827T212555Z
LAST-MODIFIED:20201209T212622Z
UID:3610-1607715000-1607720400@ebcla.org
SUMMARY:Youth Group
DESCRIPTION:All students in 5th-12th grade are invited to join the Youth Group on Friday nights! For more information\, please contact Pastor Ryan
URL:https://ebcla.org/event/youth-group-begins-2020-12-11/
END:VEVENT
BEGIN:VEVENT
DTSTART;TZID=America/Los_Angeles:20201208T190000
DTEND;TZID=America/Los_Angeles:20201208T203000
DTSTAMP:20260419T201635
CREATED:20200921T175053Z
LAST-MODIFIED:20210211T180742Z
UID:3627-1607454000-1607459400@ebcla.org
SUMMARY:Youth Group Check-In [ONLINE]
DESCRIPTION:If you’re in 5th-12th grade\, come play games and hang out with us! For more information\, please contact  Pastor Ryan
URL:https://ebcla.org/event/youth-group-check-in-online-2020-10-14-2020-12-08/
END:VEVENT
BEGIN:VEVENT
DTSTART;TZID=America/Los_Angeles:20201207T120000
DTEND;TZID=America/Los_Angeles:20201207T130000
DTSTAMP:20260419T201635
CREATED:20200911T232719Z
LAST-MODIFIED:20210226T233016Z
UID:3613-1607342400-1607346000@ebcla.org
SUMMARY:Prayer Meeting [ONLINE]
DESCRIPTION:Join us for our weekly prayer meeting! For Zoom details\, please contact info@ebcla.org
URL:https://ebcla.org/event/prayer-meeting-online-3-2020-12-07/
END:VEVENT
BEGIN:VEVENT
DTSTART;TZID=America/Los_Angeles:20201206T100000
DTEND;TZID=America/Los_Angeles:20201206T110000
DTSTAMP:20260419T201635
CREATED:20201124T192326Z
LAST-MODIFIED:20210312T004330Z
UID:3597-1607248800-1607252400@ebcla.org
SUMMARY:Zoom Communion Worship Service [ONLINE]
DESCRIPTION:Join us for a church-wide Zoom service! Please come to service with your own bread and cup for Communion. Contact info@ebcla.org for Zoom info. If you can’t join us on Zoom\, you can still enjoy the service through Facebook or YouTube.
URL:https://ebcla.org/event/zoom-sunday-worship-service-online/
END:VEVENT
BEGIN:VEVENT
DTSTART;TZID=America/Los_Angeles:20201206T083000
DTEND;TZID=America/Los_Angeles:20201206T093000
DTSTAMP:20260419T201635
CREATED:20201202T184732Z
LAST-MODIFIED:20201202T184804Z
UID:3634-1607243400-1607247000@ebcla.org
SUMMARY:Resource Plan Town Hall Meeting
DESCRIPTION:We are preparing to affirm our 2021 proposed budget. Come to the town hall if you have any questions for the Finance Committee or the Board. Contact info@ebcla.org for Zoom info.
URL:https://ebcla.org/event/resource-plan-town-hall-meeting/
END:VEVENT
BEGIN:VEVENT
DTSTART;TZID=America/Los_Angeles:20201204T193000
DTEND;TZID=America/Los_Angeles:20201204T210000
DTSTAMP:20260419T201635
CREATED:20200827T212555Z
LAST-MODIFIED:20201209T212622Z
UID:3605-1607110200-1607115600@ebcla.org
SUMMARY:Youth Group
DESCRIPTION:All students in 5th-12th grade are invited to join the Youth Group on Friday nights! For more information\, please contact Pastor Ryan
URL:https://ebcla.org/event/youth-group-begins-2020-12-04/
END:VEVENT
BEGIN:VEVENT
DTSTART;TZID=America/Los_Angeles:20201201T190000
DTEND;TZID=America/Los_Angeles:20201201T203000
DTSTAMP:20260419T201635
CREATED:20200921T175053Z
LAST-MODIFIED:20210211T180742Z
UID:3626-1606849200-1606854600@ebcla.org
SUMMARY:Youth Group Check-In [ONLINE]
DESCRIPTION:If you’re in 5th-12th grade\, come play games and hang out with us! For more information\, please contact  Pastor Ryan
URL:https://ebcla.org/event/youth-group-check-in-online-2020-10-14-2020-12-01/
END:VEVENT
BEGIN:VEVENT
DTSTART;TZID=America/Los_Angeles:20201130T120000
DTEND;TZID=America/Los_Angeles:20201130T130000
DTSTAMP:20260419T201635
CREATED:20200911T232719Z
LAST-MODIFIED:20210226T233016Z
UID:3508-1606737600-1606741200@ebcla.org
SUMMARY:Prayer Meeting [ONLINE]
DESCRIPTION:Join us for our weekly prayer meeting! For Zoom details\, please contact info@ebcla.org
URL:https://ebcla.org/event/prayer-meeting-online-3-2020-11-30/
END:VEVENT
BEGIN:VEVENT
DTSTART;TZID=America/Los_Angeles:20201124T190000
DTEND;TZID=America/Los_Angeles:20201124T203000
DTSTAMP:20260419T201635
CREATED:20200921T175053Z
LAST-MODIFIED:20210211T180728Z
UID:3601-1606244400-1606249800@ebcla.org
SUMMARY:Youth Group Check-In [ONLINE]
DESCRIPTION:If you’re in 5th-12th grade\, come play games and hang out with us! For more information\, please contact  Pastor Ryan
URL:https://ebcla.org/event/youth-group-check-in-online-2020-10-14-2020-11-24/
END:VEVENT
BEGIN:VEVENT
DTSTART;TZID=America/Los_Angeles:20201123T120000
DTEND;TZID=America/Los_Angeles:20201123T130000
DTSTAMP:20260419T201635
CREATED:20200911T232719Z
LAST-MODIFIED:20210226T233015Z
UID:3507-1606132800-1606136400@ebcla.org
SUMMARY:Prayer Meeting [ONLINE]
DESCRIPTION:Join us for our weekly prayer meeting! For Zoom details\, please contact info@ebcla.org
URL:https://ebcla.org/event/prayer-meeting-online-3-2020-11-23/
END:VEVENT
BEGIN:VEVENT
DTSTART;TZID=America/Los_Angeles:20201122T110000
DTEND;TZID=America/Los_Angeles:20201122T120000
DTSTAMP:20260419T201635
CREATED:20201028T220545Z
LAST-MODIFIED:20201028T220738Z
UID:3545-1606042800-1606046400@ebcla.org
SUMMARY:Caregivers Support Group
DESCRIPTION:Join us as we Care for each other\, Bear each other’s burdens\, and Share our stories of the joys and challenges of caregiving for ill or aging loved ones. Contact Sandra Jung for more information.
URL:https://ebcla.org/event/caregivers-support-group/
END:VEVENT
BEGIN:VEVENT
DTSTART;TZID=America/Los_Angeles:20201122T083000
DTEND;TZID=America/Los_Angeles:20201122T100000
DTSTAMP:20260419T201635
CREATED:20200921T174502Z
LAST-MODIFIED:20200921T174502Z
UID:3578-1606033800-1606039200@ebcla.org
SUMMARY:CLASS Community - How to be an Antiracist
DESCRIPTION:“How to be an Antiracist” book discussion. We invite you to engage in an interactive conversation on racism in America. Participants will grapple with its different forms\, increasing awareness of one’s conscious expression and practices. Using the book authored by Ibram Kendi as a primer\, there will be a concurrent reflections of selected Scripture texts from a Black liberation theology perspective. The aim is to embody a more Christ-like humanity toward a more just and fair treatment of all peoples. Copies of the book have been donated. Contact info@ebcla.org for more information.
URL:https://ebcla.org/event/class-community-how-to-be-an-antiracist-2020-11-22/
END:VEVENT
BEGIN:VEVENT
DTSTART;TZID=America/Los_Angeles:20201121T110000
DTEND;TZID=America/Los_Angeles:20201121T130000
DTSTAMP:20260419T201635
CREATED:20201113T005444Z
LAST-MODIFIED:20210312T005437Z
UID:3585-1605956400-1605963600@ebcla.org
SUMMARY:Rosemead Churches Community Food Distribution
DESCRIPTION:In response to the physical needs in our Rosemead community\, Branches Christian Ministries\, Evergreen Baptist Church\, Mission Community United Methodist Church\, and Open Bible Church are co-hosting a drive through food distribution on Saturday\, February 27 at 11:00am at Mission Community United Methodist Church\, 9032 Mission Dr\, Rosemead\, CA 91770. Contact info@ebcla.org for more information.
URL:https://ebcla.org/event/rosemead-churches-community-food-distribution-3/
END:VEVENT
BEGIN:VEVENT
DTSTART;TZID=America/Los_Angeles:20201121T083000
DTEND;TZID=America/Los_Angeles:20201121T093000
DTSTAMP:20260419T201635
CREATED:20201103T220209Z
LAST-MODIFIED:20201103T220209Z
UID:3557-1605947400-1605951000@ebcla.org
SUMMARY:Prime Timer's Drive Thru
DESCRIPTION:All Prime Timer’s (55+) are invited to an in-person Drive Thru in the church parking lot. The staff is looking forward to seeing you! Contact info@ebcla.org to RSVP.
URL:https://ebcla.org/event/prime-timers-drive-thru/
END:VEVENT
BEGIN:VEVENT
DTSTART;TZID=America/Los_Angeles:20201120T193000
DTEND;TZID=America/Los_Angeles:20201120T210000
DTSTAMP:20260419T201635
CREATED:20200827T212555Z
LAST-MODIFIED:20201209T212622Z
UID:3487-1605900600-1605906000@ebcla.org
SUMMARY:Youth Group
DESCRIPTION:All students in 5th-12th grade are invited to join the Youth Group on Friday nights! For more information\, please contact Pastor Ryan
URL:https://ebcla.org/event/youth-group-begins-2020-11-20/
END:VEVENT
BEGIN:VEVENT
DTSTART;TZID=America/Los_Angeles:20201117T190000
DTEND;TZID=America/Los_Angeles:20201117T203000
DTSTAMP:20260419T201635
CREATED:20200921T175053Z
LAST-MODIFIED:20210211T180728Z
UID:3495-1605639600-1605645000@ebcla.org
SUMMARY:Youth Group Check-In [ONLINE]
DESCRIPTION:If you’re in 5th-12th grade\, come play games and hang out with us! For more information\, please contact  Pastor Ryan
URL:https://ebcla.org/event/youth-group-check-in-online-2020-10-14-2020-11-17/
END:VEVENT
BEGIN:VEVENT
DTSTART;TZID=America/Los_Angeles:20201116T120000
DTEND;TZID=America/Los_Angeles:20201116T130000
DTSTAMP:20260419T201635
CREATED:20200911T232719Z
LAST-MODIFIED:20210226T233015Z
UID:3506-1605528000-1605531600@ebcla.org
SUMMARY:Prayer Meeting [ONLINE]
DESCRIPTION:Join us for our weekly prayer meeting! For Zoom details\, please contact info@ebcla.org
URL:https://ebcla.org/event/prayer-meeting-online-3-2020-11-16/
END:VEVENT
BEGIN:VEVENT
DTSTART;TZID=America/Los_Angeles:20201115T110000
DTEND;TZID=America/Los_Angeles:20201115T120000
DTSTAMP:20260419T201635
CREATED:20200827T203606Z
LAST-MODIFIED:20210107T213518Z
UID:3555-1605438000-1605441600@ebcla.org
SUMMARY:Sunday Lunch Fellowship [ONLINE]
DESCRIPTION:Join us as we gather on-line for lunch and fellowship! For Zoom details\, please contact info@ebcla.org.
URL:https://ebcla.org/event/sunday-lunch-fellowship-online-6-2020-11-15/
END:VEVENT
BEGIN:VEVENT
DTSTART;TZID=America/Los_Angeles:20201115T083000
DTEND;TZID=America/Los_Angeles:20201115T100000
DTSTAMP:20260419T201635
CREATED:20200921T174502Z
LAST-MODIFIED:20201113T005021Z
UID:3415-1605429000-1605434400@ebcla.org
SUMMARY:CLASS Community - How to be an Antiracist
DESCRIPTION:“How to be an Antiracist” book discussion. We invite you to engage in an interactive conversation on racism in America. Participants will grapple with its different forms\, increasing awareness of one’s conscious expression and practices. Using the book authored by Ibram Kendi as a primer\, there will be a concurrent reflections of selected Scripture texts from a Black liberation theology perspective. The aim is to embody a more Christ-like humanity toward a more just and fair treatment of all peoples. Copies of the book have been donated. Contact info@ebcla.org for more information.
URL:https://ebcla.org/event/class-community-how-to-be-an-antiracist-2020-11-15/
END:VEVENT
BEGIN:VEVENT
DTSTART;TZID=America/Los_Angeles:20201114T083000
DTEND;TZID=America/Los_Angeles:20201114T093000
DTSTAMP:20260419T201635
CREATED:20201028T220010Z
LAST-MODIFIED:20210311T235518Z
UID:3543-1605342600-1605346200@ebcla.org
SUMMARY:Men's Breakfast
DESCRIPTION:All men are invited to our monthly group to eat together and reflect on a book study.  For details and to RSVP\, please contact Pastor Jonathan. 
URL:https://ebcla.org/event/mens-breakfast-26/
END:VEVENT
BEGIN:VEVENT
DTSTART;TZID=America/Los_Angeles:20201113T193000
DTEND;TZID=America/Los_Angeles:20201113T210000
DTSTAMP:20260419T201635
CREATED:20200827T212555Z
LAST-MODIFIED:20201209T212613Z
UID:3486-1605295800-1605301200@ebcla.org
SUMMARY:Youth Group
DESCRIPTION:All students in 5th-12th grade are invited to join the Youth Group on Friday nights! For more information\, please contact Pastor Ryan
URL:https://ebcla.org/event/youth-group-begins-2020-11-13/
END:VEVENT
BEGIN:VEVENT
DTSTART;TZID=America/Los_Angeles:20201110T190000
DTEND;TZID=America/Los_Angeles:20201110T203000
DTSTAMP:20260419T201635
CREATED:20200921T175053Z
LAST-MODIFIED:20210211T180728Z
UID:3494-1605034800-1605040200@ebcla.org
SUMMARY:Youth Group Check-In [ONLINE]
DESCRIPTION:If you’re in 5th-12th grade\, come play games and hang out with us! For more information\, please contact  Pastor Ryan
URL:https://ebcla.org/event/youth-group-check-in-online-2020-10-14-2020-11-10/
END:VEVENT
BEGIN:VEVENT
DTSTART;TZID=America/Los_Angeles:20201109T120000
DTEND;TZID=America/Los_Angeles:20201109T130000
DTSTAMP:20260419T201635
CREATED:20200911T232719Z
LAST-MODIFIED:20210226T233014Z
UID:3505-1604923200-1604926800@ebcla.org
SUMMARY:Prayer Meeting [ONLINE]
DESCRIPTION:Join us for our weekly prayer meeting! For Zoom details\, please contact info@ebcla.org
URL:https://ebcla.org/event/prayer-meeting-online-3-2020-11-09/
END:VEVENT
BEGIN:VEVENT
DTSTART;TZID=America/Los_Angeles:20201108T110000
DTEND;TZID=America/Los_Angeles:20201108T123000
DTSTAMP:20260419T201635
CREATED:20200513T175606Z
LAST-MODIFIED:20210312T001032Z
UID:3540-1604833200-1604838600@ebcla.org
SUMMARY:The Open Door [ONLINE]
DESCRIPTION:A support and fellowship group for LGBT/Queer Christians and allies. Contact Pastor Ryan for more information.
URL:https://ebcla.org/event/open-door-online-10-2020-11-08/
END:VEVENT
BEGIN:VEVENT
DTSTART;TZID=America/Los_Angeles:20201108T110000
DTEND;TZID=America/Los_Angeles:20201108T120000
DTSTAMP:20260419T201635
CREATED:20201028T211807Z
LAST-MODIFIED:20210312T000916Z
UID:3538-1604833200-1604836800@ebcla.org
SUMMARY:Parent Connection [ONLINE]
DESCRIPTION:Community for parents who are expecting or who have kids ages 0-30. Share with and learn from other parents! New topics every week. Contact Shirley Lew for more information.
URL:https://ebcla.org/event/parent-connection-online-10/
END:VEVENT
BEGIN:VEVENT
DTSTART;TZID=America/Los_Angeles:20201108T110000
DTEND;TZID=America/Los_Angeles:20201108T120000
DTSTAMP:20260419T201635
CREATED:20201019T204028Z
LAST-MODIFIED:20201028T205016Z
UID:3480-1604833200-1604836800@ebcla.org
SUMMARY:Newcomer Welcome Reception
DESCRIPTION:Welcome Reception – We welcome all who have connected with us this year – whether in person or online. We want to enjoy lunch together with you and learn some of your personal story and share about the faith\, history\, and journey of Evergreen-LA. Please provide the address where we can deliver a simple meal on the 8th. We look forward to seeing you. Click here for details and to RSVP. 
URL:https://ebcla.org/event/newcomer-welcome-recpetion/
END:VEVENT
BEGIN:VEVENT
DTSTART;TZID=America/Los_Angeles:20201108T090000
DTEND;TZID=America/Los_Angeles:20201108T100000
DTSTAMP:20260419T201635
CREATED:20201019T210526Z
LAST-MODIFIED:20210311T235655Z
UID:3500-1604826000-1604829600@ebcla.org
SUMMARY:The Journey [ONLINE]
DESCRIPTION:All parents of children (of any age) with special needs are invited to join this monthly group. Contact Pastor Julie for more information.
URL:https://ebcla.org/event/the-journey-online-4/
END:VEVENT
BEGIN:VEVENT
DTSTART;TZID=America/Los_Angeles:20201108T083000
DTEND;TZID=America/Los_Angeles:20201108T100000
DTSTAMP:20260419T201635
CREATED:20200921T174502Z
LAST-MODIFIED:20201113T005021Z
UID:3414-1604824200-1604829600@ebcla.org
SUMMARY:CLASS Community - How to be an Antiracist
DESCRIPTION:“How to be an Antiracist” book discussion. We invite you to engage in an interactive conversation on racism in America. Participants will grapple with its different forms\, increasing awareness of one’s conscious expression and practices. Using the book authored by Ibram Kendi as a primer\, there will be a concurrent reflections of selected Scripture texts from a Black liberation theology perspective. The aim is to embody a more Christ-like humanity toward a more just and fair treatment of all peoples. Copies of the book have been donated. Contact info@ebcla.org for more information.
URL:https://ebcla.org/event/class-community-how-to-be-an-antiracist-2020-11-08/
END:VEVENT
BEGIN:VEVENT
DTSTART;TZID=America/Los_Angeles:20201106T193000
DTEND;TZID=America/Los_Angeles:20201106T210000
DTSTAMP:20260419T201635
CREATED:20200827T212555Z
LAST-MODIFIED:20201209T212613Z
UID:3485-1604691000-1604696400@ebcla.org
SUMMARY:Youth Group
DESCRIPTION:All students in 5th-12th grade are invited to join the Youth Group on Friday nights! For more information\, please contact Pastor Ryan
URL:https://ebcla.org/event/youth-group-begins-2020-11-06/
END:VEVENT
END:VCALENDAR