BEGIN:VCALENDAR
VERSION:2.0
PRODID:-//Evergreen - ECPv6.15.17.1//NONSGML v1.0//EN
CALSCALE:GREGORIAN
METHOD:PUBLISH
X-WR-CALNAME:Evergreen
X-ORIGINAL-URL:https://ebcla.org
X-WR-CALDESC:Events for Evergreen
REFRESH-INTERVAL;VALUE=DURATION:PT1H
X-Robots-Tag:noindex
X-PUBLISHED-TTL:PT1H
BEGIN:VTIMEZONE
TZID:America/Los_Angeles
BEGIN:DAYLIGHT
TZOFFSETFROM:-0800
TZOFFSETTO:-0700
TZNAME:PDT
DTSTART:20190310T100000
END:DAYLIGHT
BEGIN:STANDARD
TZOFFSETFROM:-0700
TZOFFSETTO:-0800
TZNAME:PST
DTSTART:20191103T090000
END:STANDARD
BEGIN:DAYLIGHT
TZOFFSETFROM:-0800
TZOFFSETTO:-0700
TZNAME:PDT
DTSTART:20200308T100000
END:DAYLIGHT
BEGIN:STANDARD
TZOFFSETFROM:-0700
TZOFFSETTO:-0800
TZNAME:PST
DTSTART:20201101T090000
END:STANDARD
BEGIN:DAYLIGHT
TZOFFSETFROM:-0800
TZOFFSETTO:-0700
TZNAME:PDT
DTSTART:20210314T100000
END:DAYLIGHT
BEGIN:STANDARD
TZOFFSETFROM:-0700
TZOFFSETTO:-0800
TZNAME:PST
DTSTART:20211107T090000
END:STANDARD
END:VTIMEZONE
BEGIN:VEVENT
DTSTART;TZID=America/Los_Angeles:20200927T090000
DTEND;TZID=America/Los_Angeles:20200927T100000
DTSTAMP:20260422T091659
CREATED:20200827T204009Z
LAST-MODIFIED:20200921T172517Z
UID:3323-1601197200-1601200800@ebcla.org
SUMMARY:Children's Worship [ONLINE]
DESCRIPTION:All children from infants to 4th graders are invited to weekly Children’s Worship. Contact Shirley Lew for more information.
URL:https://ebcla.org/event/childrens-worship-begins-2020-09-27/
END:VEVENT
BEGIN:VEVENT
DTSTART;TZID=America/Los_Angeles:20200927T083000
DTEND;TZID=America/Los_Angeles:20200927T100000
DTSTAMP:20260422T091659
CREATED:20200911T232353Z
LAST-MODIFIED:20201028T210203Z
UID:3308-1601195400-1601200800@ebcla.org
SUMMARY:CLASS Community - Faith in the Public Square for the Common Good
DESCRIPTION:“Faith in the Public Square for the Common Good” What does it mean to be salt and light in the world\, called to be In the world\, and yet not of the world (Matthew 5:16\, Romans 12:1-2). What is the apologetics of our Christian faith today in a divisive and contentious world? How can each of us bring a wise biblical and theological perspective to guide our practices and relationships in love and service to those around us? How can our life together as Evergreen seek and bear fruit for the common good? Join us in the upcoming weeks to listen\, engage\, and live as followers of Jesus. For Zoom details\, please contact info@ebcla.org
URL:https://ebcla.org/event/class-community-online-3-2020-09-27/
END:VEVENT
BEGIN:VEVENT
DTSTART;TZID=America/Los_Angeles:20200926T110000
DTEND;TZID=America/Los_Angeles:20200926T130000
DTSTAMP:20260422T091659
CREATED:20200921T172226Z
LAST-MODIFIED:20200921T172254Z
UID:3344-1601118000-1601125200@ebcla.org
SUMMARY:Rosemead Churches Community Food Distribution
DESCRIPTION:In response to the physical needs in our Rosemead community\, Branches Christian Ministries\, Evergreen Baptist Church\, Mission Community United Methodist Church\, and Open Bible Church are co-hosting a drive through food distribution on Saturday\, September 26 at 11:00am in the Evergreen Church parking lot. 1255 San Gabriel Blvd\, Rosemead\, CA 91770. Contact info@ebcla.org for more information.
URL:https://ebcla.org/event/rosemead-churches-community-food-distribution/
END:VEVENT
BEGIN:VEVENT
DTSTART;TZID=America/Los_Angeles:20200925T193000
DTEND;TZID=America/Los_Angeles:20200925T210000
DTSTAMP:20260422T091659
CREATED:20200827T212555Z
LAST-MODIFIED:20201209T212612Z
UID:3378-1601062200-1601067600@ebcla.org
SUMMARY:Youth Group
DESCRIPTION:All students in 5th-12th grade are invited to join the Youth Group on Friday nights! For more information\, please contact Pastor Ryan
URL:https://ebcla.org/event/youth-group-begins-2020-09-25/
END:VEVENT
BEGIN:VEVENT
DTSTART;TZID=America/Los_Angeles:20200923T160000
DTEND;TZID=America/Los_Angeles:20200923T173000
DTSTAMP:20260422T091659
CREATED:20200921T175053Z
LAST-MODIFIED:20201012T162246Z
UID:3379-1600876800-1600882200@ebcla.org
SUMMARY:Youth Group Check-In [ONLINE]
DESCRIPTION:If you’re in 5th-12th grade\, come play games and hang out with us! For more information\, please contact  Pastor Ryan
URL:https://ebcla.org/event/youth-group-check-in-online/
END:VEVENT
BEGIN:VEVENT
DTSTART;TZID=America/Los_Angeles:20200921T120000
DTEND;TZID=America/Los_Angeles:20200921T130000
DTSTAMP:20260422T091659
CREATED:20200911T232719Z
LAST-MODIFIED:20210226T232940Z
UID:3315-1600689600-1600693200@ebcla.org
SUMMARY:Prayer Meeting [ONLINE]
DESCRIPTION:Join us for our weekly prayer meeting! For Zoom details\, please contact info@ebcla.org
URL:https://ebcla.org/event/prayer-meeting-online-3-2020-09-21/
END:VEVENT
BEGIN:VEVENT
DTSTART;TZID=America/Los_Angeles:20200920T110000
DTEND;TZID=America/Los_Angeles:20200920T120000
DTSTAMP:20260422T091659
CREATED:20200827T203606Z
LAST-MODIFIED:20210107T213517Z
UID:3266-1600599600-1600603200@ebcla.org
SUMMARY:Sunday Lunch Fellowship [ONLINE]
DESCRIPTION:Join us as we gather on-line for lunch and fellowship! For Zoom details\, please contact info@ebcla.org.
URL:https://ebcla.org/event/sunday-lunch-fellowship-online-6/
END:VEVENT
BEGIN:VEVENT
DTSTART;TZID=America/Los_Angeles:20200920T090000
DTEND;TZID=America/Los_Angeles:20200920T100000
DTSTAMP:20260422T091659
CREATED:20200827T204009Z
LAST-MODIFIED:20200921T172517Z
UID:3322-1600592400-1600596000@ebcla.org
SUMMARY:Children's Worship [ONLINE]
DESCRIPTION:All children from infants to 4th graders are invited to weekly Children’s Worship. Contact Shirley Lew for more information.
URL:https://ebcla.org/event/childrens-worship-begins-2020-09-20/
END:VEVENT
BEGIN:VEVENT
DTSTART;TZID=America/Los_Angeles:20200920T083000
DTEND;TZID=America/Los_Angeles:20200920T100000
DTSTAMP:20260422T091659
CREATED:20200911T232353Z
LAST-MODIFIED:20201028T210203Z
UID:3307-1600590600-1600596000@ebcla.org
SUMMARY:CLASS Community - Faith in the Public Square for the Common Good
DESCRIPTION:“Faith in the Public Square for the Common Good” What does it mean to be salt and light in the world\, called to be In the world\, and yet not of the world (Matthew 5:16\, Romans 12:1-2). What is the apologetics of our Christian faith today in a divisive and contentious world? How can each of us bring a wise biblical and theological perspective to guide our practices and relationships in love and service to those around us? How can our life together as Evergreen seek and bear fruit for the common good? Join us in the upcoming weeks to listen\, engage\, and live as followers of Jesus. For Zoom details\, please contact info@ebcla.org
URL:https://ebcla.org/event/class-community-online-3-2020-09-20/
END:VEVENT
BEGIN:VEVENT
DTSTART;TZID=America/Los_Angeles:20200918T193000
DTEND;TZID=America/Los_Angeles:20200918T210000
DTSTAMP:20260422T091659
CREATED:20200827T212555Z
LAST-MODIFIED:20201209T212612Z
UID:3377-1600457400-1600462800@ebcla.org
SUMMARY:Youth Group
DESCRIPTION:All students in 5th-12th grade are invited to join the Youth Group on Friday nights! For more information\, please contact Pastor Ryan
URL:https://ebcla.org/event/youth-group-begins-2020-09-18/
END:VEVENT
BEGIN:VEVENT
DTSTART;TZID=America/Los_Angeles:20200914T120000
DTEND;TZID=America/Los_Angeles:20200914T130000
DTSTAMP:20260422T091659
CREATED:20200911T232719Z
LAST-MODIFIED:20210226T232940Z
UID:3313-1600084800-1600088400@ebcla.org
SUMMARY:Prayer Meeting [ONLINE]
DESCRIPTION:Join us for our weekly prayer meeting! For Zoom details\, please contact info@ebcla.org
URL:https://ebcla.org/event/prayer-meeting-online-3/
END:VEVENT
BEGIN:VEVENT
DTSTART;TZID=America/Los_Angeles:20200913T110000
DTEND;TZID=America/Los_Angeles:20200913T123000
DTSTAMP:20260422T091659
CREATED:20200513T175606Z
LAST-MODIFIED:20210312T001031Z
UID:3330-1599994800-1600000200@ebcla.org
SUMMARY:The Open Door [ONLINE]
DESCRIPTION:A support and fellowship group for LGBT/Queer Christians and allies. Contact Pastor Ryan for more information.
URL:https://ebcla.org/event/open-door-online-10-2020-09-13/
END:VEVENT
BEGIN:VEVENT
DTSTART;TZID=America/Los_Angeles:20200913T110000
DTEND;TZID=America/Los_Angeles:20200913T120000
DTSTAMP:20260422T091659
CREATED:20200827T200524Z
LAST-MODIFIED:20200827T200524Z
UID:3260-1599994800-1599998400@ebcla.org
SUMMARY:Parent Connection [ONLINE]
DESCRIPTION:Community for parents who are expecting or who have kids ages 0-30. Share with and learn from other parents! New topics every week. Contact Shirley Lew for more information.
URL:https://ebcla.org/event/parent-connection-online-7/
END:VEVENT
BEGIN:VEVENT
DTSTART;TZID=America/Los_Angeles:20200913T090000
DTEND;TZID=America/Los_Angeles:20200913T100000
DTSTAMP:20260422T091659
CREATED:20200827T204009Z
LAST-MODIFIED:20200921T172517Z
UID:3268-1599987600-1599991200@ebcla.org
SUMMARY:Children's Worship [ONLINE]
DESCRIPTION:All children from infants to 4th graders are invited to weekly Children’s Worship. Contact Shirley Lew for more information.
URL:https://ebcla.org/event/childrens-worship-begins/
END:VEVENT
BEGIN:VEVENT
DTSTART;TZID=America/Los_Angeles:20200913T090000
DTEND;TZID=America/Los_Angeles:20200913T100000
DTSTAMP:20260422T091659
CREATED:20200827T200848Z
LAST-MODIFIED:20200827T200848Z
UID:3264-1599987600-1599991200@ebcla.org
SUMMARY:The Journey [ONLINE]
DESCRIPTION:All parents of children (of any age) with special needs are invited to join this monthly group. Contact Pastor Julie for more information.
URL:https://ebcla.org/event/the-journey-online-2/
END:VEVENT
BEGIN:VEVENT
DTSTART;TZID=America/Los_Angeles:20200913T083000
DTEND;TZID=America/Los_Angeles:20200913T100000
DTSTAMP:20260422T091659
CREATED:20200911T232353Z
LAST-MODIFIED:20201028T210203Z
UID:3305-1599985800-1599991200@ebcla.org
SUMMARY:CLASS Community - Faith in the Public Square for the Common Good
DESCRIPTION:“Faith in the Public Square for the Common Good” What does it mean to be salt and light in the world\, called to be In the world\, and yet not of the world (Matthew 5:16\, Romans 12:1-2). What is the apologetics of our Christian faith today in a divisive and contentious world? How can each of us bring a wise biblical and theological perspective to guide our practices and relationships in love and service to those around us? How can our life together as Evergreen seek and bear fruit for the common good? Join us in the upcoming weeks to listen\, engage\, and live as followers of Jesus. For Zoom details\, please contact info@ebcla.org
URL:https://ebcla.org/event/class-community-online-3/
END:VEVENT
BEGIN:VEVENT
DTSTART;TZID=America/Los_Angeles:20200912T080000
DTEND;TZID=America/Los_Angeles:20200912T090000
DTSTAMP:20260422T091659
CREATED:20200827T200217Z
LAST-MODIFIED:20200827T200217Z
UID:3258-1599897600-1599901200@ebcla.org
SUMMARY:Men's Breakfast
DESCRIPTION:All men are invited to our monthly group to eat together and reflect on a book study.  For details and to RSVP\, please contact Pastor Jonathan. 
URL:https://ebcla.org/event/mens-breakfast-24/
END:VEVENT
BEGIN:VEVENT
DTSTART;TZID=America/Los_Angeles:20200911T193000
DTEND;TZID=America/Los_Angeles:20200911T210000
DTSTAMP:20260422T091659
CREATED:20200827T212555Z
LAST-MODIFIED:20201209T212611Z
UID:3270-1599852600-1599858000@ebcla.org
SUMMARY:Youth Group
DESCRIPTION:All students in 5th-12th grade are invited to join the Youth Group on Friday nights! For more information\, please contact Pastor Ryan
URL:https://ebcla.org/event/youth-group-begins/
END:VEVENT
BEGIN:VEVENT
DTSTART;TZID=America/Los_Angeles:20200906T100000
DTEND;TZID=America/Los_Angeles:20200906T110000
DTSTAMP:20260422T091659
CREATED:20200820T215005Z
LAST-MODIFIED:20200820T215123Z
UID:3248-1599386400-1599390000@ebcla.org
SUMMARY:Zoom Sunday Service
DESCRIPTION:Join us as we start the Fall with a church-wide Zoom service! We will enjoy a time of worship\, a church family devotional\, and our annual Sunday School Promotion. Please come to service with your own bread and cup for Communion. Contact info@ebcla.org for Zoom info. If you can’t join us on Zoom\, you can still enjoy the service through Facebook or YouTube.
URL:https://ebcla.org/event/zoom-sunday-service/
END:VEVENT
BEGIN:VEVENT
DTSTART;TZID=America/Los_Angeles:20200831T120000
DTEND;TZID=America/Los_Angeles:20200831T130000
DTSTAMP:20260422T091659
CREATED:20200512T210055Z
LAST-MODIFIED:20200512T210055Z
UID:3159-1598875200-1598878800@ebcla.org
SUMMARY:Prayer Meeting [ONLINE]
DESCRIPTION:Join us for our weekly prayer meeting! For Zoom details\, please contact info@ebcla.org
URL:https://ebcla.org/event/prayer-meeting-online-2-2020-08-31/
END:VEVENT
BEGIN:VEVENT
DTSTART;TZID=America/Los_Angeles:20200830T110000
DTEND;TZID=America/Los_Angeles:20200830T120000
DTSTAMP:20260422T091659
CREATED:20200728T182922Z
LAST-MODIFIED:20200805T155429Z
UID:3191-1598785200-1598788800@ebcla.org
SUMMARY:Caregivers Support Group [ONLINE]
DESCRIPTION:Join us as we Care for each other\, Bear each other’s burdens\, and Share our stories of the joys and challenges of caregiving for ill or aging loved ones. Pastor Melvin will be sharing his reflections on caregiving for loved ones in a three-part series.  Join us for part one: The Ministry of Caregiving on August 30.Contact Sandra Jung for more information.
URL:https://ebcla.org/event/caregivers-support-group-online-6/
END:VEVENT
BEGIN:VEVENT
DTSTART;TZID=America/Los_Angeles:20200824T120000
DTEND;TZID=America/Los_Angeles:20200824T130000
DTSTAMP:20260422T091659
CREATED:20200512T210055Z
LAST-MODIFIED:20200512T210055Z
UID:3158-1598270400-1598274000@ebcla.org
SUMMARY:Prayer Meeting [ONLINE]
DESCRIPTION:Join us for our weekly prayer meeting! For Zoom details\, please contact info@ebcla.org
URL:https://ebcla.org/event/prayer-meeting-online-2-2020-08-24/
END:VEVENT
BEGIN:VEVENT
DTSTART;TZID=America/Los_Angeles:20200823T110000
DTEND;TZID=America/Los_Angeles:20200823T123000
DTSTAMP:20260422T091659
CREATED:20200513T175606Z
LAST-MODIFIED:20210312T001030Z
UID:2797-1598180400-1598185800@ebcla.org
SUMMARY:The Open Door [ONLINE]
DESCRIPTION:A support and fellowship group for LGBT/Queer Christians and allies. Contact Pastor Ryan for more information.
URL:https://ebcla.org/event/open-door-online-10/
END:VEVENT
BEGIN:VEVENT
DTSTART;TZID=America/Los_Angeles:20200822T090000
DTEND;TZID=America/Los_Angeles:20200822T103000
DTSTAMP:20260422T091659
CREATED:20200731T162130Z
LAST-MODIFIED:20200731T162130Z
UID:3201-1598086800-1598092200@ebcla.org
SUMMARY:Family Ties Listening Spaces
DESCRIPTION:The Board and staff want to hear from you as we discern God’s direction for Evergreen together. Contact info@ebcla.org for details.
URL:https://ebcla.org/event/family-ties-listening-spaces/
END:VEVENT
BEGIN:VEVENT
DTSTART;TZID=America/Los_Angeles:20200817T120000
DTEND;TZID=America/Los_Angeles:20200817T130000
DTSTAMP:20260422T091659
CREATED:20200512T210055Z
LAST-MODIFIED:20200512T210055Z
UID:3157-1597665600-1597669200@ebcla.org
SUMMARY:Prayer Meeting [ONLINE]
DESCRIPTION:Join us for our weekly prayer meeting! For Zoom details\, please contact info@ebcla.org
URL:https://ebcla.org/event/prayer-meeting-online-2-2020-08-17/
END:VEVENT
BEGIN:VEVENT
DTSTART;TZID=America/Los_Angeles:20200816T110000
DTEND;TZID=America/Los_Angeles:20200816T120000
DTSTAMP:20260422T091659
CREATED:20200805T155718Z
LAST-MODIFIED:20200805T155718Z
UID:3212-1597575600-1597579200@ebcla.org
SUMMARY:Sunday Lunch Fellowship [ONLINE]
DESCRIPTION:Join us as we gather for lunch together! For Zoom details\, please contact info@ebcla.org.
URL:https://ebcla.org/event/sunday-lunch-fellowship-online-5/
END:VEVENT
BEGIN:VEVENT
DTSTART;TZID=America/Los_Angeles:20200815T100000
DTEND;TZID=America/Los_Angeles:20200815T120000
DTSTAMP:20260422T091659
CREATED:20200731T162440Z
LAST-MODIFIED:20200813T155825Z
UID:3203-1597485600-1597492800@ebcla.org
SUMMARY:Ice Cream Social (Pick-up)
DESCRIPTION:Drive through and pick up a free tub of Fossilman’s ice cream for each household from our staff! First come\, first serve and there will be non-dairy options as well. Bring your own cooler and ice packs to transport. Bring your recyclables and drop off book donations (K-5th grade). If you are an incoming 5th grader\, pick up a Bible from your Youth leaders.
URL:https://ebcla.org/event/ice-cream-social-pick-up/
END:VEVENT
BEGIN:VEVENT
DTSTART;TZID=America/Los_Angeles:20200810T120000
DTEND;TZID=America/Los_Angeles:20200810T130000
DTSTAMP:20260422T091659
CREATED:20200512T210055Z
LAST-MODIFIED:20200512T210055Z
UID:3156-1597060800-1597064400@ebcla.org
SUMMARY:Prayer Meeting [ONLINE]
DESCRIPTION:Join us for our weekly prayer meeting! For Zoom details\, please contact info@ebcla.org
URL:https://ebcla.org/event/prayer-meeting-online-2-2020-08-10/
END:VEVENT
BEGIN:VEVENT
DTSTART;TZID=America/Los_Angeles:20200809T110000
DTEND;TZID=America/Los_Angeles:20200809T123000
DTSTAMP:20260422T091659
CREATED:20200513T175524Z
LAST-MODIFIED:20200526T201855Z
UID:2795-1596970800-1596976200@ebcla.org
SUMMARY:The Open Door [ONLINE]
DESCRIPTION:A support and fellowship group for LGBT/Queer Christians and allies. Contact Pastor Ryan for more information.
URL:https://ebcla.org/event/open-door-online-9/
END:VEVENT
BEGIN:VEVENT
DTSTART;TZID=America/Los_Angeles:20200809T110000
DTEND;TZID=America/Los_Angeles:20200809T120000
DTSTAMP:20260422T091659
CREATED:20200717T231032Z
LAST-MODIFIED:20200717T231032Z
UID:3133-1596970800-1596974400@ebcla.org
SUMMARY:Parent Connection [ONLINE]
DESCRIPTION:Attention parents who are expecting or who have kids ages 0-30. Share with and learn from other parents! New topics every week. Contact Shirley Lew for more information.
URL:https://ebcla.org/event/parent-connection-online-6/
END:VEVENT
END:VCALENDAR