BEGIN:VCALENDAR
VERSION:2.0
PRODID:-//Evergreen - ECPv6.15.17.1//NONSGML v1.0//EN
CALSCALE:GREGORIAN
METHOD:PUBLISH
X-WR-CALNAME:Evergreen
X-ORIGINAL-URL:https://ebcla.org
X-WR-CALDESC:Events for Evergreen
REFRESH-INTERVAL;VALUE=DURATION:PT1H
X-Robots-Tag:noindex
X-PUBLISHED-TTL:PT1H
BEGIN:VTIMEZONE
TZID:America/Los_Angeles
BEGIN:DAYLIGHT
TZOFFSETFROM:-0800
TZOFFSETTO:-0700
TZNAME:PDT
DTSTART:20190310T100000
END:DAYLIGHT
BEGIN:STANDARD
TZOFFSETFROM:-0700
TZOFFSETTO:-0800
TZNAME:PST
DTSTART:20191103T090000
END:STANDARD
BEGIN:DAYLIGHT
TZOFFSETFROM:-0800
TZOFFSETTO:-0700
TZNAME:PDT
DTSTART:20200308T100000
END:DAYLIGHT
BEGIN:STANDARD
TZOFFSETFROM:-0700
TZOFFSETTO:-0800
TZNAME:PST
DTSTART:20201101T090000
END:STANDARD
BEGIN:DAYLIGHT
TZOFFSETFROM:-0800
TZOFFSETTO:-0700
TZNAME:PDT
DTSTART:20210314T100000
END:DAYLIGHT
BEGIN:STANDARD
TZOFFSETFROM:-0700
TZOFFSETTO:-0800
TZNAME:PST
DTSTART:20211107T090000
END:STANDARD
END:VTIMEZONE
BEGIN:VEVENT
DTSTART;TZID=America/Los_Angeles:20200830T110000
DTEND;TZID=America/Los_Angeles:20200830T120000
DTSTAMP:20260422T123118
CREATED:20200728T182922Z
LAST-MODIFIED:20200805T155429Z
UID:3191-1598785200-1598788800@ebcla.org
SUMMARY:Caregivers Support Group [ONLINE]
DESCRIPTION:Join us as we Care for each other\, Bear each other’s burdens\, and Share our stories of the joys and challenges of caregiving for ill or aging loved ones. Pastor Melvin will be sharing his reflections on caregiving for loved ones in a three-part series.  Join us for part one: The Ministry of Caregiving on August 30.Contact Sandra Jung for more information.
URL:https://ebcla.org/event/caregivers-support-group-online-6/
END:VEVENT
BEGIN:VEVENT
DTSTART;TZID=America/Los_Angeles:20200824T120000
DTEND;TZID=America/Los_Angeles:20200824T130000
DTSTAMP:20260422T123118
CREATED:20200512T210055Z
LAST-MODIFIED:20200512T210055Z
UID:3158-1598270400-1598274000@ebcla.org
SUMMARY:Prayer Meeting [ONLINE]
DESCRIPTION:Join us for our weekly prayer meeting! For Zoom details\, please contact info@ebcla.org
URL:https://ebcla.org/event/prayer-meeting-online-2-2020-08-24/
END:VEVENT
BEGIN:VEVENT
DTSTART;TZID=America/Los_Angeles:20200823T110000
DTEND;TZID=America/Los_Angeles:20200823T123000
DTSTAMP:20260422T123118
CREATED:20200513T175606Z
LAST-MODIFIED:20210312T001030Z
UID:2797-1598180400-1598185800@ebcla.org
SUMMARY:The Open Door [ONLINE]
DESCRIPTION:A support and fellowship group for LGBT/Queer Christians and allies. Contact Pastor Ryan for more information.
URL:https://ebcla.org/event/open-door-online-10/
END:VEVENT
BEGIN:VEVENT
DTSTART;TZID=America/Los_Angeles:20200822T090000
DTEND;TZID=America/Los_Angeles:20200822T103000
DTSTAMP:20260422T123118
CREATED:20200731T162130Z
LAST-MODIFIED:20200731T162130Z
UID:3201-1598086800-1598092200@ebcla.org
SUMMARY:Family Ties Listening Spaces
DESCRIPTION:The Board and staff want to hear from you as we discern God’s direction for Evergreen together. Contact info@ebcla.org for details.
URL:https://ebcla.org/event/family-ties-listening-spaces/
END:VEVENT
BEGIN:VEVENT
DTSTART;TZID=America/Los_Angeles:20200817T120000
DTEND;TZID=America/Los_Angeles:20200817T130000
DTSTAMP:20260422T123118
CREATED:20200512T210055Z
LAST-MODIFIED:20200512T210055Z
UID:3157-1597665600-1597669200@ebcla.org
SUMMARY:Prayer Meeting [ONLINE]
DESCRIPTION:Join us for our weekly prayer meeting! For Zoom details\, please contact info@ebcla.org
URL:https://ebcla.org/event/prayer-meeting-online-2-2020-08-17/
END:VEVENT
BEGIN:VEVENT
DTSTART;TZID=America/Los_Angeles:20200816T110000
DTEND;TZID=America/Los_Angeles:20200816T120000
DTSTAMP:20260422T123118
CREATED:20200805T155718Z
LAST-MODIFIED:20200805T155718Z
UID:3212-1597575600-1597579200@ebcla.org
SUMMARY:Sunday Lunch Fellowship [ONLINE]
DESCRIPTION:Join us as we gather for lunch together! For Zoom details\, please contact info@ebcla.org.
URL:https://ebcla.org/event/sunday-lunch-fellowship-online-5/
END:VEVENT
BEGIN:VEVENT
DTSTART;TZID=America/Los_Angeles:20200815T100000
DTEND;TZID=America/Los_Angeles:20200815T120000
DTSTAMP:20260422T123118
CREATED:20200731T162440Z
LAST-MODIFIED:20200813T155825Z
UID:3203-1597485600-1597492800@ebcla.org
SUMMARY:Ice Cream Social (Pick-up)
DESCRIPTION:Drive through and pick up a free tub of Fossilman’s ice cream for each household from our staff! First come\, first serve and there will be non-dairy options as well. Bring your own cooler and ice packs to transport. Bring your recyclables and drop off book donations (K-5th grade). If you are an incoming 5th grader\, pick up a Bible from your Youth leaders.
URL:https://ebcla.org/event/ice-cream-social-pick-up/
END:VEVENT
BEGIN:VEVENT
DTSTART;TZID=America/Los_Angeles:20200810T120000
DTEND;TZID=America/Los_Angeles:20200810T130000
DTSTAMP:20260422T123118
CREATED:20200512T210055Z
LAST-MODIFIED:20200512T210055Z
UID:3156-1597060800-1597064400@ebcla.org
SUMMARY:Prayer Meeting [ONLINE]
DESCRIPTION:Join us for our weekly prayer meeting! For Zoom details\, please contact info@ebcla.org
URL:https://ebcla.org/event/prayer-meeting-online-2-2020-08-10/
END:VEVENT
BEGIN:VEVENT
DTSTART;TZID=America/Los_Angeles:20200809T110000
DTEND;TZID=America/Los_Angeles:20200809T123000
DTSTAMP:20260422T123118
CREATED:20200513T175524Z
LAST-MODIFIED:20200526T201855Z
UID:2795-1596970800-1596976200@ebcla.org
SUMMARY:The Open Door [ONLINE]
DESCRIPTION:A support and fellowship group for LGBT/Queer Christians and allies. Contact Pastor Ryan for more information.
URL:https://ebcla.org/event/open-door-online-9/
END:VEVENT
BEGIN:VEVENT
DTSTART;TZID=America/Los_Angeles:20200809T110000
DTEND;TZID=America/Los_Angeles:20200809T120000
DTSTAMP:20260422T123118
CREATED:20200717T231032Z
LAST-MODIFIED:20200717T231032Z
UID:3133-1596970800-1596974400@ebcla.org
SUMMARY:Parent Connection [ONLINE]
DESCRIPTION:Attention parents who are expecting or who have kids ages 0-30. Share with and learn from other parents! New topics every week. Contact Shirley Lew for more information.
URL:https://ebcla.org/event/parent-connection-online-6/
END:VEVENT
BEGIN:VEVENT
DTSTART;TZID=America/Los_Angeles:20200809T083000
DTEND;TZID=America/Los_Angeles:20200809T100000
DTSTAMP:20260422T123118
CREATED:20200731T162034Z
LAST-MODIFIED:20200731T162034Z
UID:3199-1596961800-1596967200@ebcla.org
SUMMARY:Family Ties Listening Space
DESCRIPTION:The Board and staff want to hear from you as we discern God’s direction for Evergreen together. Contact info@ebcla.org for details.
URL:https://ebcla.org/event/family-ties-listening-space/
END:VEVENT
BEGIN:VEVENT
DTSTART;TZID=America/Los_Angeles:20200808T080000
DTEND;TZID=America/Los_Angeles:20200808T090000
DTSTAMP:20260422T123118
CREATED:20200717T225828Z
LAST-MODIFIED:20200717T225828Z
UID:3131-1596873600-1596877200@ebcla.org
SUMMARY:Men’s Breakfast [ONLINE]
DESCRIPTION:All men are invited to our monthly group to eat together and reflect on a book study.  For Zoom information and to RSVP\, please contact Pastor Jonathan. 
URL:https://ebcla.org/event/mens-breakfast-online-5/
END:VEVENT
BEGIN:VEVENT
DTSTART;TZID=America/Los_Angeles:20200803T120000
DTEND;TZID=America/Los_Angeles:20200803T130000
DTSTAMP:20260422T123118
CREATED:20200512T210055Z
LAST-MODIFIED:20200512T210055Z
UID:3155-1596456000-1596459600@ebcla.org
SUMMARY:Prayer Meeting [ONLINE]
DESCRIPTION:Join us for our weekly prayer meeting! For Zoom details\, please contact info@ebcla.org
URL:https://ebcla.org/event/prayer-meeting-online-2-2020-08-03/
END:VEVENT
BEGIN:VEVENT
DTSTART;TZID=America/Los_Angeles:20200802T110000
DTEND;TZID=America/Los_Angeles:20200802T120000
DTSTAMP:20260422T123118
CREATED:20200717T225036Z
LAST-MODIFIED:20200717T225036Z
UID:3129-1596366000-1596369600@ebcla.org
SUMMARY:Communion & Sunday Fellowship [ONLINE]
DESCRIPTION:Join us as we gather for communion & lunch together! For Zoom details\, please contact info@ebcla.org.
URL:https://ebcla.org/event/communion-sunday-fellowship-online-2/
END:VEVENT
BEGIN:VEVENT
DTSTART;TZID=America/Los_Angeles:20200730T130000
DTEND;TZID=America/Los_Angeles:20200730T143000
DTSTAMP:20260422T123118
CREATED:20200609T180826Z
LAST-MODIFIED:20200723T200616Z
UID:3018-1596114000-1596119400@ebcla.org
SUMMARY:Youth Group Check-In [ONLINE]
DESCRIPTION:If you’re in 5th-12th grade\, come play games and hang out with us! For more information\, please contact  rgranucci@ebcla.org
URL:https://ebcla.org/event/youth-group-check-online-2-2020-07-30/
END:VEVENT
BEGIN:VEVENT
DTSTART;TZID=America/Los_Angeles:20200729T193000
DTEND;TZID=America/Los_Angeles:20200729T210000
DTSTAMP:20260422T123118
CREATED:20200723T200225Z
LAST-MODIFIED:20200723T200225Z
UID:3152-1596051000-1596056400@ebcla.org
SUMMARY:Young Adult Listening Space (18-35)
DESCRIPTION:As we finish our Family Ties: A Journey of Conflict & Covenant series\, EBCLA is moving into our second portion of the process in which staff and board listen to the congregation. Please join us for this listening space\, where you as the congregation share your journey through the series with staff and board members. Contact Pastor Ryan to sign up. 
URL:https://ebcla.org/event/young-adult-listening-space-18-35/
END:VEVENT
BEGIN:VEVENT
DTSTART;TZID=America/Los_Angeles:20200728T193000
DTEND;TZID=America/Los_Angeles:20200728T213000
DTSTAMP:20260422T123118
CREATED:20200609T180455Z
LAST-MODIFIED:20200723T200530Z
UID:2962-1595964600-1595971800@ebcla.org
SUMMARY:Youth Group [ONLINE]
DESCRIPTION:If you are in 5th-12th grade\, come join us for our summer youth group! For more information\, please contact  rgranucci@ebcla.org
URL:https://ebcla.org/event/youth-group-online-2-2020-07-28/
END:VEVENT
BEGIN:VEVENT
DTSTART;TZID=America/Los_Angeles:20200727T120000
DTEND;TZID=America/Los_Angeles:20200727T130000
DTSTAMP:20260422T123118
CREATED:20200512T210055Z
LAST-MODIFIED:20200723T200418Z
UID:3077-1595851200-1595854800@ebcla.org
SUMMARY:Prayer Meeting [ONLINE]
DESCRIPTION:Join us for our weekly prayer meeting! For Zoom details\, please contact info@ebcla.org
URL:https://ebcla.org/event/prayer-meeting-online-2-2020-07-27/
END:VEVENT
BEGIN:VEVENT
DTSTART;TZID=America/Los_Angeles:20200726T110000
DTEND;TZID=America/Los_Angeles:20200726T130000
DTSTAMP:20260422T123118
CREATED:20200513T175805Z
LAST-MODIFIED:20200513T175805Z
UID:2799-1595761200-1595768400@ebcla.org
SUMMARY:Quarterly Congregational Meeting [ONLINE]
DESCRIPTION:Please join us after service to hear what God has been doing in our church the past three months. Hear updates from Pastor Jason and our ministry staff. Thank you for your commitment and support. For Zoom meeting details\, please contact info@ebcla.org.
URL:https://ebcla.org/event/quarterly-congregational-meeting-online/
END:VEVENT
BEGIN:VEVENT
DTSTART;TZID=America/Los_Angeles:20200726T110000
DTEND;TZID=America/Los_Angeles:20200726T123000
DTSTAMP:20260422T123118
CREATED:20200513T175443Z
LAST-MODIFIED:20200526T201754Z
UID:2793-1595761200-1595766600@ebcla.org
SUMMARY:The Open Door [ONLINE]
DESCRIPTION:A support and fellowship group for LGBT/Queer Christians and allies. Contact Pastor Ryan for more information.
URL:https://ebcla.org/event/open-door-online-8/
END:VEVENT
BEGIN:VEVENT
DTSTART;TZID=America/Los_Angeles:20200723T130000
DTEND;TZID=America/Los_Angeles:20200723T143000
DTSTAMP:20260422T123118
CREATED:20200609T180826Z
LAST-MODIFIED:20200723T200616Z
UID:3017-1595509200-1595514600@ebcla.org
SUMMARY:Youth Group Check-In [ONLINE]
DESCRIPTION:If you’re in 5th-12th grade\, come play games and hang out with us! For more information\, please contact  rgranucci@ebcla.org
URL:https://ebcla.org/event/youth-group-check-online-2-2020-07-23/
END:VEVENT
BEGIN:VEVENT
DTSTART;TZID=America/Los_Angeles:20200721T193000
DTEND;TZID=America/Los_Angeles:20200721T213000
DTSTAMP:20260422T123118
CREATED:20200609T180455Z
LAST-MODIFIED:20200723T200530Z
UID:2961-1595359800-1595367000@ebcla.org
SUMMARY:Youth Group [ONLINE]
DESCRIPTION:If you are in 5th-12th grade\, come join us for our summer youth group! For more information\, please contact  rgranucci@ebcla.org
URL:https://ebcla.org/event/youth-group-online-2-2020-07-21/
END:VEVENT
BEGIN:VEVENT
DTSTART;TZID=America/Los_Angeles:20200720T120000
DTEND;TZID=America/Los_Angeles:20200720T130000
DTSTAMP:20260422T123118
CREATED:20200512T210055Z
LAST-MODIFIED:20200723T200417Z
UID:3076-1595246400-1595250000@ebcla.org
SUMMARY:Prayer Meeting [ONLINE]
DESCRIPTION:Join us for our weekly prayer meeting! For Zoom details\, please contact info@ebcla.org
URL:https://ebcla.org/event/prayer-meeting-online-2-2020-07-20/
END:VEVENT
BEGIN:VEVENT
DTSTART;TZID=America/Los_Angeles:20200719T110000
DTEND;TZID=America/Los_Angeles:20200719T120000
DTSTAMP:20260422T123118
CREATED:20200710T191153Z
LAST-MODIFIED:20200710T191153Z
UID:3100-1595156400-1595160000@ebcla.org
SUMMARY:Sunday Lunch Fellowship [ONLINE]
DESCRIPTION:Join us as we gather for lunch together! For Zoom details\, please contact info@ebcla.org.
URL:https://ebcla.org/event/sunday-lunch-fellowship-online-4/
END:VEVENT
BEGIN:VEVENT
DTSTART;TZID=America/Los_Angeles:20200719T083000
DTEND;TZID=America/Los_Angeles:20200719T094500
DTSTAMP:20260422T123118
CREATED:20200602T174413Z
LAST-MODIFIED:20200602T174413Z
UID:3094-1595147400-1595151900@ebcla.org
SUMMARY:CLASS Community [ONLINE]
DESCRIPTION:Join us for our Marriage and the Bible class\, from June 7-July 12th!  Join our reflections on the meaning and purpose of marriage. Tools and resources will be introduced to examine and unpack the biblical message in today’s context. Engage in thoughtful conversation on the various passages that reference marriage and human relationships. For Zoom details\, please contact info@ebcla.org \n 
URL:https://ebcla.org/event/class-community-online-2-2020-07-19/
END:VEVENT
BEGIN:VEVENT
DTSTART;TZID=America/Los_Angeles:20200716T130000
DTEND;TZID=America/Los_Angeles:20200716T143000
DTSTAMP:20260422T123118
CREATED:20200609T180826Z
LAST-MODIFIED:20200723T200616Z
UID:3016-1594904400-1594909800@ebcla.org
SUMMARY:Youth Group Check-In [ONLINE]
DESCRIPTION:If you’re in 5th-12th grade\, come play games and hang out with us! For more information\, please contact  rgranucci@ebcla.org
URL:https://ebcla.org/event/youth-group-check-online-2-2020-07-16/
END:VEVENT
BEGIN:VEVENT
DTSTART;TZID=America/Los_Angeles:20200714T193000
DTEND;TZID=America/Los_Angeles:20200714T213000
DTSTAMP:20260422T123118
CREATED:20200609T180455Z
LAST-MODIFIED:20200723T200530Z
UID:2960-1594755000-1594762200@ebcla.org
SUMMARY:Youth Group [ONLINE]
DESCRIPTION:If you are in 5th-12th grade\, come join us for our summer youth group! For more information\, please contact  rgranucci@ebcla.org
URL:https://ebcla.org/event/youth-group-online-2-2020-07-14/
END:VEVENT
BEGIN:VEVENT
DTSTART;TZID=America/Los_Angeles:20200713T120000
DTEND;TZID=America/Los_Angeles:20200713T130000
DTSTAMP:20260422T123118
CREATED:20200512T210055Z
LAST-MODIFIED:20200723T200413Z
UID:3075-1594641600-1594645200@ebcla.org
SUMMARY:Prayer Meeting [ONLINE]
DESCRIPTION:Join us for our weekly prayer meeting! For Zoom details\, please contact info@ebcla.org
URL:https://ebcla.org/event/prayer-meeting-online-2-2020-07-13/
END:VEVENT
BEGIN:VEVENT
DTSTART;TZID=America/Los_Angeles:20200712T110000
DTEND;TZID=America/Los_Angeles:20200712T123000
DTSTAMP:20260422T123118
CREATED:20200519T202508Z
LAST-MODIFIED:20200701T233643Z
UID:2829-1594551600-1594557000@ebcla.org
SUMMARY:Caregivers Support Group [ONLINE]
DESCRIPTION:Join us as we Care for each other\, Bear each other’s burdens\, and Share our stories of the joys and challenges of caregiving for ill or aging loved ones. Contact Sandra Jung for more information.
URL:https://ebcla.org/event/caregivers-support-group-online-4/
END:VEVENT
BEGIN:VEVENT
DTSTART;TZID=America/Los_Angeles:20200712T110000
DTEND;TZID=America/Los_Angeles:20200712T123000
DTSTAMP:20260422T123118
CREATED:20200513T175343Z
LAST-MODIFIED:20200526T201746Z
UID:2791-1594551600-1594557000@ebcla.org
SUMMARY:The Open Door [ONLINE]
DESCRIPTION:A support and fellowship group for LGBT/Queer Christians and allies. Contact Pastor Ryan for more information.
URL:https://ebcla.org/event/open-door-online-7/
END:VEVENT
END:VCALENDAR