BEGIN:VCALENDAR
VERSION:2.0
PRODID:-//Evergreen - ECPv6.15.17.1//NONSGML v1.0//EN
CALSCALE:GREGORIAN
METHOD:PUBLISH
X-WR-CALNAME:Evergreen
X-ORIGINAL-URL:https://ebcla.org
X-WR-CALDESC:Events for Evergreen
REFRESH-INTERVAL;VALUE=DURATION:PT1H
X-Robots-Tag:noindex
X-PUBLISHED-TTL:PT1H
BEGIN:VTIMEZONE
TZID:America/Los_Angeles
BEGIN:DAYLIGHT
TZOFFSETFROM:-0800
TZOFFSETTO:-0700
TZNAME:PDT
DTSTART:20190310T100000
END:DAYLIGHT
BEGIN:STANDARD
TZOFFSETFROM:-0700
TZOFFSETTO:-0800
TZNAME:PST
DTSTART:20191103T090000
END:STANDARD
BEGIN:DAYLIGHT
TZOFFSETFROM:-0800
TZOFFSETTO:-0700
TZNAME:PDT
DTSTART:20200308T100000
END:DAYLIGHT
BEGIN:STANDARD
TZOFFSETFROM:-0700
TZOFFSETTO:-0800
TZNAME:PST
DTSTART:20201101T090000
END:STANDARD
BEGIN:DAYLIGHT
TZOFFSETFROM:-0800
TZOFFSETTO:-0700
TZNAME:PDT
DTSTART:20210314T100000
END:DAYLIGHT
BEGIN:STANDARD
TZOFFSETFROM:-0700
TZOFFSETTO:-0800
TZNAME:PST
DTSTART:20211107T090000
END:STANDARD
END:VTIMEZONE
BEGIN:VEVENT
DTSTART;TZID=America/Los_Angeles:20200723T130000
DTEND;TZID=America/Los_Angeles:20200723T143000
DTSTAMP:20260422T155503
CREATED:20200609T180826Z
LAST-MODIFIED:20200723T200616Z
UID:3017-1595509200-1595514600@ebcla.org
SUMMARY:Youth Group Check-In [ONLINE]
DESCRIPTION:If you’re in 5th-12th grade\, come play games and hang out with us! For more information\, please contact  rgranucci@ebcla.org
URL:https://ebcla.org/event/youth-group-check-online-2-2020-07-23/
END:VEVENT
BEGIN:VEVENT
DTSTART;TZID=America/Los_Angeles:20200721T193000
DTEND;TZID=America/Los_Angeles:20200721T213000
DTSTAMP:20260422T155503
CREATED:20200609T180455Z
LAST-MODIFIED:20200723T200530Z
UID:2961-1595359800-1595367000@ebcla.org
SUMMARY:Youth Group [ONLINE]
DESCRIPTION:If you are in 5th-12th grade\, come join us for our summer youth group! For more information\, please contact  rgranucci@ebcla.org
URL:https://ebcla.org/event/youth-group-online-2-2020-07-21/
END:VEVENT
BEGIN:VEVENT
DTSTART;TZID=America/Los_Angeles:20200720T120000
DTEND;TZID=America/Los_Angeles:20200720T130000
DTSTAMP:20260422T155503
CREATED:20200512T210055Z
LAST-MODIFIED:20200723T200417Z
UID:3076-1595246400-1595250000@ebcla.org
SUMMARY:Prayer Meeting [ONLINE]
DESCRIPTION:Join us for our weekly prayer meeting! For Zoom details\, please contact info@ebcla.org
URL:https://ebcla.org/event/prayer-meeting-online-2-2020-07-20/
END:VEVENT
BEGIN:VEVENT
DTSTART;TZID=America/Los_Angeles:20200719T110000
DTEND;TZID=America/Los_Angeles:20200719T120000
DTSTAMP:20260422T155503
CREATED:20200710T191153Z
LAST-MODIFIED:20200710T191153Z
UID:3100-1595156400-1595160000@ebcla.org
SUMMARY:Sunday Lunch Fellowship [ONLINE]
DESCRIPTION:Join us as we gather for lunch together! For Zoom details\, please contact info@ebcla.org.
URL:https://ebcla.org/event/sunday-lunch-fellowship-online-4/
END:VEVENT
BEGIN:VEVENT
DTSTART;TZID=America/Los_Angeles:20200719T083000
DTEND;TZID=America/Los_Angeles:20200719T094500
DTSTAMP:20260422T155503
CREATED:20200602T174413Z
LAST-MODIFIED:20200602T174413Z
UID:3094-1595147400-1595151900@ebcla.org
SUMMARY:CLASS Community [ONLINE]
DESCRIPTION:Join us for our Marriage and the Bible class\, from June 7-July 12th!  Join our reflections on the meaning and purpose of marriage. Tools and resources will be introduced to examine and unpack the biblical message in today’s context. Engage in thoughtful conversation on the various passages that reference marriage and human relationships. For Zoom details\, please contact info@ebcla.org \n 
URL:https://ebcla.org/event/class-community-online-2-2020-07-19/
END:VEVENT
BEGIN:VEVENT
DTSTART;TZID=America/Los_Angeles:20200716T130000
DTEND;TZID=America/Los_Angeles:20200716T143000
DTSTAMP:20260422T155503
CREATED:20200609T180826Z
LAST-MODIFIED:20200723T200616Z
UID:3016-1594904400-1594909800@ebcla.org
SUMMARY:Youth Group Check-In [ONLINE]
DESCRIPTION:If you’re in 5th-12th grade\, come play games and hang out with us! For more information\, please contact  rgranucci@ebcla.org
URL:https://ebcla.org/event/youth-group-check-online-2-2020-07-16/
END:VEVENT
BEGIN:VEVENT
DTSTART;TZID=America/Los_Angeles:20200714T193000
DTEND;TZID=America/Los_Angeles:20200714T213000
DTSTAMP:20260422T155503
CREATED:20200609T180455Z
LAST-MODIFIED:20200723T200530Z
UID:2960-1594755000-1594762200@ebcla.org
SUMMARY:Youth Group [ONLINE]
DESCRIPTION:If you are in 5th-12th grade\, come join us for our summer youth group! For more information\, please contact  rgranucci@ebcla.org
URL:https://ebcla.org/event/youth-group-online-2-2020-07-14/
END:VEVENT
BEGIN:VEVENT
DTSTART;TZID=America/Los_Angeles:20200713T120000
DTEND;TZID=America/Los_Angeles:20200713T130000
DTSTAMP:20260422T155503
CREATED:20200512T210055Z
LAST-MODIFIED:20200723T200413Z
UID:3075-1594641600-1594645200@ebcla.org
SUMMARY:Prayer Meeting [ONLINE]
DESCRIPTION:Join us for our weekly prayer meeting! For Zoom details\, please contact info@ebcla.org
URL:https://ebcla.org/event/prayer-meeting-online-2-2020-07-13/
END:VEVENT
BEGIN:VEVENT
DTSTART;TZID=America/Los_Angeles:20200712T110000
DTEND;TZID=America/Los_Angeles:20200712T123000
DTSTAMP:20260422T155503
CREATED:20200519T202508Z
LAST-MODIFIED:20200701T233643Z
UID:2829-1594551600-1594557000@ebcla.org
SUMMARY:Caregivers Support Group [ONLINE]
DESCRIPTION:Join us as we Care for each other\, Bear each other’s burdens\, and Share our stories of the joys and challenges of caregiving for ill or aging loved ones. Contact Sandra Jung for more information.
URL:https://ebcla.org/event/caregivers-support-group-online-4/
END:VEVENT
BEGIN:VEVENT
DTSTART;TZID=America/Los_Angeles:20200712T110000
DTEND;TZID=America/Los_Angeles:20200712T123000
DTSTAMP:20260422T155503
CREATED:20200513T175343Z
LAST-MODIFIED:20200526T201746Z
UID:2791-1594551600-1594557000@ebcla.org
SUMMARY:The Open Door [ONLINE]
DESCRIPTION:A support and fellowship group for LGBT/Queer Christians and allies. Contact Pastor Ryan for more information.
URL:https://ebcla.org/event/open-door-online-7/
END:VEVENT
BEGIN:VEVENT
DTSTART;TZID=America/Los_Angeles:20200712T110000
DTEND;TZID=America/Los_Angeles:20200712T120000
DTSTAMP:20260422T155503
CREATED:20200625T194543Z
LAST-MODIFIED:20200625T194543Z
UID:3029-1594551600-1594555200@ebcla.org
SUMMARY:Parent Connection [ONLINE]
DESCRIPTION:Attention parents who are expecting or who have kids ages 0-30. Share with and learn from other parents! New topics every week. Contact Shirley Lew for more information.
URL:https://ebcla.org/event/parent-connection-online-4/
END:VEVENT
BEGIN:VEVENT
DTSTART;TZID=America/Los_Angeles:20200712T090000
DTEND;TZID=America/Los_Angeles:20200712T100000
DTSTAMP:20260422T155503
CREATED:20200625T195314Z
LAST-MODIFIED:20200625T195314Z
UID:3033-1594544400-1594548000@ebcla.org
SUMMARY:The Journey [ONLINE]
DESCRIPTION:All parents of children (of any age) with special needs are invited to join this monthly group. Contact Pastor Julie for more information.
URL:https://ebcla.org/event/the-journey-online/
END:VEVENT
BEGIN:VEVENT
DTSTART;TZID=America/Los_Angeles:20200712T083000
DTEND;TZID=America/Los_Angeles:20200712T094500
DTSTAMP:20260422T155503
CREATED:20200602T174413Z
LAST-MODIFIED:20200710T190943Z
UID:2909-1594542600-1594547100@ebcla.org
SUMMARY:CLASS Community [ONLINE]
DESCRIPTION:Join us for our Marriage and the Bible class\, from June 7-July 12th!  Join our reflections on the meaning and purpose of marriage. Tools and resources will be introduced to examine and unpack the biblical message in today’s context. Engage in thoughtful conversation on the various passages that reference marriage and human relationships. For Zoom details\, please contact info@ebcla.org \n 
URL:https://ebcla.org/event/class-community-online-2-2020-07-12/
END:VEVENT
BEGIN:VEVENT
DTSTART;TZID=America/Los_Angeles:20200711T080000
DTEND;TZID=America/Los_Angeles:20200711T100000
DTSTAMP:20260422T155503
CREATED:20200625T195049Z
LAST-MODIFIED:20200625T195212Z
UID:3031-1594454400-1594461600@ebcla.org
SUMMARY:Men’s Breakfast [ONLINE]
DESCRIPTION:All men are invited to our monthly group to eat together and reflect on a book study.  For more information and to RSVP\, please contact Pastor Jonathan. 
URL:https://ebcla.org/event/mens-breakfast-online-4/
END:VEVENT
BEGIN:VEVENT
DTSTART;TZID=America/Los_Angeles:20200709T130000
DTEND;TZID=America/Los_Angeles:20200709T143000
DTSTAMP:20260422T155503
CREATED:20200609T180826Z
LAST-MODIFIED:20200723T200616Z
UID:3015-1594299600-1594305000@ebcla.org
SUMMARY:Youth Group Check-In [ONLINE]
DESCRIPTION:If you’re in 5th-12th grade\, come play games and hang out with us! For more information\, please contact  rgranucci@ebcla.org
URL:https://ebcla.org/event/youth-group-check-online-2-2020-07-09/
END:VEVENT
BEGIN:VEVENT
DTSTART;TZID=America/Los_Angeles:20200707T193000
DTEND;TZID=America/Los_Angeles:20200707T213000
DTSTAMP:20260422T155503
CREATED:20200609T180455Z
LAST-MODIFIED:20200723T200530Z
UID:2959-1594150200-1594157400@ebcla.org
SUMMARY:Youth Group [ONLINE]
DESCRIPTION:If you are in 5th-12th grade\, come join us for our summer youth group! For more information\, please contact  rgranucci@ebcla.org
URL:https://ebcla.org/event/youth-group-online-2-2020-07-07/
END:VEVENT
BEGIN:VEVENT
DTSTART;TZID=America/Los_Angeles:20200706T120000
DTEND;TZID=America/Los_Angeles:20200706T130000
DTSTAMP:20260422T155503
CREATED:20200512T210055Z
LAST-MODIFIED:20200723T200413Z
UID:3074-1594036800-1594040400@ebcla.org
SUMMARY:Prayer Meeting [ONLINE]
DESCRIPTION:Join us for our weekly prayer meeting! For Zoom details\, please contact info@ebcla.org
URL:https://ebcla.org/event/prayer-meeting-online-2-2020-07-06/
END:VEVENT
BEGIN:VEVENT
DTSTART;TZID=America/Los_Angeles:20200705T110000
DTEND;TZID=America/Los_Angeles:20200705T120000
DTSTAMP:20260422T155503
CREATED:20200625T195427Z
LAST-MODIFIED:20200625T195427Z
UID:3035-1593946800-1593950400@ebcla.org
SUMMARY:Communion & Sunday Fellowship [ONLINE]
DESCRIPTION:Join us as we gather for communion & lunch together! For Zoom details\, please contact info@ebcla.org.
URL:https://ebcla.org/event/communion-sunday-fellowship-online/
END:VEVENT
BEGIN:VEVENT
DTSTART;TZID=America/Los_Angeles:20200705T083000
DTEND;TZID=America/Los_Angeles:20200705T094500
DTSTAMP:20260422T155503
CREATED:20200602T174413Z
LAST-MODIFIED:20200710T190943Z
UID:2908-1593937800-1593942300@ebcla.org
SUMMARY:CLASS Community [ONLINE]
DESCRIPTION:Join us for our Marriage and the Bible class\, from June 7-July 12th!  Join our reflections on the meaning and purpose of marriage. Tools and resources will be introduced to examine and unpack the biblical message in today’s context. Engage in thoughtful conversation on the various passages that reference marriage and human relationships. For Zoom details\, please contact info@ebcla.org \n 
URL:https://ebcla.org/event/class-community-online-2-2020-07-05/
END:VEVENT
BEGIN:VEVENT
DTSTART;TZID=America/Los_Angeles:20200704T130000
DTEND;TZID=America/Los_Angeles:20200704T150000
DTSTAMP:20260422T155503
CREATED:20200630T201744Z
LAST-MODIFIED:20200630T201744Z
UID:3071-1593867600-1593874800@ebcla.org
SUMMARY:Church Drive Thru Event
DESCRIPTION:Come out this 4th of July in your cars for a DRIVE-THRU experience in the church parking lot. We will have some stay-in-your-car fun along with homemade boba milk tea for the first 250 people (caffeine-free treat available for kids)!
URL:https://ebcla.org/event/church-drive-thru-event/
END:VEVENT
BEGIN:VEVENT
DTSTART;TZID=America/Los_Angeles:20200702T130000
DTEND;TZID=America/Los_Angeles:20200702T143000
DTSTAMP:20260422T155503
CREATED:20200609T180826Z
LAST-MODIFIED:20200723T200616Z
UID:3014-1593694800-1593700200@ebcla.org
SUMMARY:Youth Group Check-In [ONLINE]
DESCRIPTION:If you’re in 5th-12th grade\, come play games and hang out with us! For more information\, please contact  rgranucci@ebcla.org
URL:https://ebcla.org/event/youth-group-check-online-2-2020-07-02/
END:VEVENT
BEGIN:VEVENT
DTSTART;TZID=America/Los_Angeles:20200630T193000
DTEND;TZID=America/Los_Angeles:20200630T213000
DTSTAMP:20260422T155503
CREATED:20200609T180455Z
LAST-MODIFIED:20200723T200529Z
UID:2958-1593545400-1593552600@ebcla.org
SUMMARY:Youth Group [ONLINE]
DESCRIPTION:If you are in 5th-12th grade\, come join us for our summer youth group! For more information\, please contact  rgranucci@ebcla.org
URL:https://ebcla.org/event/youth-group-online-2-2020-06-30/
END:VEVENT
BEGIN:VEVENT
DTSTART;TZID=America/Los_Angeles:20200629T120000
DTEND;TZID=America/Los_Angeles:20200629T130000
DTSTAMP:20260422T155503
CREATED:20200512T210055Z
LAST-MODIFIED:20200723T200413Z
UID:2783-1593432000-1593435600@ebcla.org
SUMMARY:Prayer Meeting [ONLINE]
DESCRIPTION:Join us for our weekly prayer meeting! For Zoom details\, please contact info@ebcla.org
URL:https://ebcla.org/event/prayer-meeting-online-2-2020-06-29/
END:VEVENT
BEGIN:VEVENT
DTSTART;TZID=America/Los_Angeles:20200628T110000
DTEND;TZID=America/Los_Angeles:20200628T123000
DTSTAMP:20260422T155503
CREATED:20200519T202257Z
LAST-MODIFIED:20200519T202257Z
UID:2827-1593342000-1593347400@ebcla.org
SUMMARY:Caregivers Support Group [ONLINE]
DESCRIPTION:Join us as we Care for each other\, Bear each other’s burdens\, and Share our stories of the joys and challenges of caregiving for ill or aging loved ones. Contact Sandra Jung for more information.
URL:https://ebcla.org/event/caregivers-support-group-online-3/
END:VEVENT
BEGIN:VEVENT
DTSTART;TZID=America/Los_Angeles:20200628T110000
DTEND;TZID=America/Los_Angeles:20200628T123000
DTSTAMP:20260422T155503
CREATED:20200512T204811Z
LAST-MODIFIED:20200526T201653Z
UID:2777-1593342000-1593347400@ebcla.org
SUMMARY:The Open Door [ONLINE]
DESCRIPTION:A support and fellowship group for LGBT/Queer Christians and allies. Contact Pastor Ryan for more information.
URL:https://ebcla.org/event/open-door-online-6/
END:VEVENT
BEGIN:VEVENT
DTSTART;TZID=America/Los_Angeles:20200628T083000
DTEND;TZID=America/Los_Angeles:20200628T094500
DTSTAMP:20260422T155503
CREATED:20200602T174413Z
LAST-MODIFIED:20200710T190943Z
UID:2907-1593333000-1593337500@ebcla.org
SUMMARY:CLASS Community [ONLINE]
DESCRIPTION:Join us for our Marriage and the Bible class\, from June 7-July 12th!  Join our reflections on the meaning and purpose of marriage. Tools and resources will be introduced to examine and unpack the biblical message in today’s context. Engage in thoughtful conversation on the various passages that reference marriage and human relationships. For Zoom details\, please contact info@ebcla.org \n 
URL:https://ebcla.org/event/class-community-online-2-2020-06-28/
END:VEVENT
BEGIN:VEVENT
DTSTART;TZID=America/Los_Angeles:20200625T130000
DTEND;TZID=America/Los_Angeles:20200625T143000
DTSTAMP:20260422T155503
CREATED:20200609T180826Z
LAST-MODIFIED:20200723T200616Z
UID:3013-1593090000-1593095400@ebcla.org
SUMMARY:Youth Group Check-In [ONLINE]
DESCRIPTION:If you’re in 5th-12th grade\, come play games and hang out with us! For more information\, please contact  rgranucci@ebcla.org
URL:https://ebcla.org/event/youth-group-check-online-2-2020-06-25/
END:VEVENT
BEGIN:VEVENT
DTSTART;TZID=America/Los_Angeles:20200623T193000
DTEND;TZID=America/Los_Angeles:20200623T213000
DTSTAMP:20260422T155503
CREATED:20200609T180455Z
LAST-MODIFIED:20200723T200529Z
UID:2957-1592940600-1592947800@ebcla.org
SUMMARY:Youth Group [ONLINE]
DESCRIPTION:If you are in 5th-12th grade\, come join us for our summer youth group! For more information\, please contact  rgranucci@ebcla.org
URL:https://ebcla.org/event/youth-group-online-2-2020-06-23/
END:VEVENT
BEGIN:VEVENT
DTSTART;TZID=America/Los_Angeles:20200622T120000
DTEND;TZID=America/Los_Angeles:20200622T130000
DTSTAMP:20260422T155503
CREATED:20200512T210055Z
LAST-MODIFIED:20200723T200413Z
UID:2782-1592827200-1592830800@ebcla.org
SUMMARY:Prayer Meeting [ONLINE]
DESCRIPTION:Join us for our weekly prayer meeting! For Zoom details\, please contact info@ebcla.org
URL:https://ebcla.org/event/prayer-meeting-online-2-2020-06-22/
END:VEVENT
BEGIN:VEVENT
DTSTART;TZID=America/Los_Angeles:20200621T110000
DTEND;TZID=America/Los_Angeles:20200621T120000
DTSTAMP:20260422T155503
CREATED:20200602T174959Z
LAST-MODIFIED:20200602T174959Z
UID:2912-1592737200-1592740800@ebcla.org
SUMMARY:Sunday Lunch Fellowship [ONLINE]
DESCRIPTION:Join us as we gather for lunch together! For Zoom details\, please contact info@ebcla.org.
URL:https://ebcla.org/event/sunday-lunch-fellowship-online-3/
END:VEVENT
END:VCALENDAR