BEGIN:VCALENDAR
VERSION:2.0
PRODID:-//Evergreen - ECPv6.15.17.1//NONSGML v1.0//EN
CALSCALE:GREGORIAN
METHOD:PUBLISH
X-ORIGINAL-URL:https://ebcla.org
X-WR-CALDESC:Events for Evergreen
REFRESH-INTERVAL;VALUE=DURATION:PT1H
X-Robots-Tag:noindex
X-PUBLISHED-TTL:PT1H
BEGIN:VTIMEZONE
TZID:America/Los_Angeles
BEGIN:DAYLIGHT
TZOFFSETFROM:-0800
TZOFFSETTO:-0700
TZNAME:PDT
DTSTART:20190310T100000
END:DAYLIGHT
BEGIN:STANDARD
TZOFFSETFROM:-0700
TZOFFSETTO:-0800
TZNAME:PST
DTSTART:20191103T090000
END:STANDARD
BEGIN:DAYLIGHT
TZOFFSETFROM:-0800
TZOFFSETTO:-0700
TZNAME:PDT
DTSTART:20200308T100000
END:DAYLIGHT
BEGIN:STANDARD
TZOFFSETFROM:-0700
TZOFFSETTO:-0800
TZNAME:PST
DTSTART:20201101T090000
END:STANDARD
BEGIN:DAYLIGHT
TZOFFSETFROM:-0800
TZOFFSETTO:-0700
TZNAME:PDT
DTSTART:20210314T100000
END:DAYLIGHT
BEGIN:STANDARD
TZOFFSETFROM:-0700
TZOFFSETTO:-0800
TZNAME:PST
DTSTART:20211107T090000
END:STANDARD
END:VTIMEZONE
BEGIN:VEVENT
DTSTART;TZID=America/Los_Angeles:20200520T120000
DTEND;TZID=America/Los_Angeles:20200520T130000
DTSTAMP:20260423T023151
CREATED:20200519T204017Z
LAST-MODIFIED:20200519T204017Z
UID:2835-1589976000-1589979600@ebcla.org
SUMMARY:TTT Lunch [ONLINE]
DESCRIPTION:Join us for lunch together! For Zoom details\, please contact info@ebcla.org.
URL:https://ebcla.org/event/ttt-lunch-online-2/
END:VEVENT
BEGIN:VEVENT
DTSTART;TZID=America/Los_Angeles:20200518T120000
DTEND;TZID=America/Los_Angeles:20200518T130000
DTSTAMP:20260423T023151
CREATED:20200421T153518Z
LAST-MODIFIED:20200421T153518Z
UID:2720-1589803200-1589806800@ebcla.org
SUMMARY:Prayer Meeting [ONLINE]
DESCRIPTION:Join us for our weekly prayer meeting! For Zoom details\, please contact info@ebcla.org
URL:https://ebcla.org/event/prayer-meeting-online-2020-05-18/
END:VEVENT
BEGIN:VEVENT
DTSTART;TZID=America/Los_Angeles:20200517T110000
DTEND;TZID=America/Los_Angeles:20200517T120000
DTSTAMP:20260423T023151
CREATED:20200421T154655Z
LAST-MODIFIED:20200429T185918Z
UID:2605-1589713200-1589716800@ebcla.org
SUMMARY:Sunday Lunch Fellowship [ONLINE]
DESCRIPTION:Join us as we gather for lunch together! For Zoom details\, please contact info@ebcla.org.
URL:https://ebcla.org/event/sunday-lunch-fellowship-online-2/
END:VEVENT
BEGIN:VEVENT
DTSTART;TZID=America/Los_Angeles:20200517T083000
DTEND;TZID=America/Los_Angeles:20200517T100000
DTSTAMP:20260423T023151
CREATED:20200421T154450Z
LAST-MODIFIED:20200506T184117Z
UID:2601-1589704200-1589709600@ebcla.org
SUMMARY:CLASS Community [ONLINE]
DESCRIPTION:Join us for class from April 26-May 31st! Our study will be on “What is the meaning of all this?” from the book of Ecclesiastes. For Zoom details\, please contact info@ebcla.org
URL:https://ebcla.org/event/class-community-online-2020-05-17/
END:VEVENT
BEGIN:VEVENT
DTSTART;TZID=America/Los_Angeles:20200515T193000
DTEND;TZID=America/Los_Angeles:20200515T213000
DTSTAMP:20260423T023151
CREATED:20200512T202456Z
LAST-MODIFIED:20200512T202456Z
UID:2771-1589571000-1589578200@ebcla.org
SUMMARY:Youth Group [ONLINE]
DESCRIPTION:If you are in 5th-12th grade\, come join us as we continue our series\, “Can I Ask That? Unity in Diverse Answers.” For more information\, please contact  rgranucci@ebcla.org \n 
URL:https://ebcla.org/event/youth-group-online-2020-05-15/
END:VEVENT
BEGIN:VEVENT
DTSTART;TZID=America/Los_Angeles:20200511T120000
DTEND;TZID=America/Los_Angeles:20200511T130000
DTSTAMP:20260423T023151
CREATED:20200421T153518Z
LAST-MODIFIED:20200429T193310Z
UID:2584-1589198400-1589202000@ebcla.org
SUMMARY:Prayer Meeting [ONLINE]
DESCRIPTION:Join us for our weekly prayer meeting! For Zoom details\, please contact info@ebcla.org
URL:https://ebcla.org/event/prayer-meeting-online-2020-05-11/
END:VEVENT
BEGIN:VEVENT
DTSTART;TZID=America/Los_Angeles:20200510T110000
DTEND;TZID=America/Los_Angeles:20200510T123000
DTSTAMP:20260423T023151
CREATED:20200429T190939Z
LAST-MODIFIED:20200526T201601Z
UID:2699-1589108400-1589113800@ebcla.org
SUMMARY:The Open Door [ONLINE]
DESCRIPTION:A support and fellowship group for LGBT/Queer Christians and allies. Contact Pastor Ryan for more information.
URL:https://ebcla.org/event/open-door-online-4/
END:VEVENT
BEGIN:VEVENT
DTSTART;TZID=America/Los_Angeles:20200510T084500
DTEND;TZID=America/Los_Angeles:20200510T094500
DTSTAMP:20260423T023151
CREATED:20200429T191607Z
LAST-MODIFIED:20200429T191608Z
UID:2707-1589100300-1589103900@ebcla.org
SUMMARY:Parent Connection [ONLINE]
DESCRIPTION:Attention parents who are expecting or who have kids ages 0-30. Share with and learn from other parents! New topics every week. Contact Shirley Lew for more information.
URL:https://ebcla.org/event/parent-connection-online-2/
END:VEVENT
BEGIN:VEVENT
DTSTART;TZID=America/Los_Angeles:20200510T083000
DTEND;TZID=America/Los_Angeles:20200510T100000
DTSTAMP:20260423T023151
CREATED:20200421T154450Z
LAST-MODIFIED:20200506T184117Z
UID:2600-1589099400-1589104800@ebcla.org
SUMMARY:CLASS Community [ONLINE]
DESCRIPTION:Join us for class from April 26-May 31st! Our study will be on “What is the meaning of all this?” from the book of Ecclesiastes. For Zoom details\, please contact info@ebcla.org
URL:https://ebcla.org/event/class-community-online-2020-05-10/
END:VEVENT
BEGIN:VEVENT
DTSTART;TZID=America/Los_Angeles:20200509T080000
DTEND;TZID=America/Los_Angeles:20200509T093000
DTSTAMP:20260423T023151
CREATED:20200429T192415Z
LAST-MODIFIED:20200429T192415Z
UID:2712-1589011200-1589016600@ebcla.org
SUMMARY:Men's Breakfast [ONLINE]
DESCRIPTION:All men are invited to our monthly group to eat together and reflect on a book study.  For more information and to RSVP\, please contact Pastor Jonathan. 
URL:https://ebcla.org/event/mens-breakfast-online/
END:VEVENT
BEGIN:VEVENT
DTSTART;TZID=America/Los_Angeles:20200508T193000
DTEND;TZID=America/Los_Angeles:20200508T213000
DTSTAMP:20260423T023151
CREATED:20200512T202456Z
LAST-MODIFIED:20200512T202617Z
UID:2764-1588966200-1588973400@ebcla.org
SUMMARY:Youth Group [ONLINE]
DESCRIPTION:If you are in 5th-12th grade\, come join us as we continue our series\, “Can I Ask That? Unity in Diverse Answers.” For more information\, please contact  rgranucci@ebcla.org \n 
URL:https://ebcla.org/event/youth-group-online/
END:VEVENT
BEGIN:VEVENT
DTSTART;TZID=America/Los_Angeles:20200507T193000
DTEND;TZID=America/Los_Angeles:20200507T203000
DTSTAMP:20260423T023151
CREATED:20200429T192034Z
LAST-MODIFIED:20200512T205327Z
UID:2709-1588879800-1588883400@ebcla.org
SUMMARY:Trivia Night [ONLINE]
DESCRIPTION:Join us for Trivia Night through Facebook Live at Evergreen Baptist Church of Los Angeles! Facebook Account needed to participate. Winning prize $50 Gift Card to Tokyo Fried Chicken. Directions on how to play will be provided at 7:30pm\, make sure to arrive on time. Contact Pastor Ryan with questions.
URL:https://ebcla.org/event/trivia-night-online/
END:VEVENT
BEGIN:VEVENT
DTSTART;TZID=America/Los_Angeles:20200504T120000
DTEND;TZID=America/Los_Angeles:20200504T130000
DTSTAMP:20260423T023151
CREATED:20200421T153518Z
LAST-MODIFIED:20200429T193310Z
UID:2583-1588593600-1588597200@ebcla.org
SUMMARY:Prayer Meeting [ONLINE]
DESCRIPTION:Join us for our weekly prayer meeting! For Zoom details\, please contact info@ebcla.org
URL:https://ebcla.org/event/prayer-meeting-online-2020-05-04/
END:VEVENT
BEGIN:VEVENT
DTSTART;TZID=America/Los_Angeles:20200503T110000
DTEND;TZID=America/Los_Angeles:20200503T120000
DTSTAMP:20260423T023151
CREATED:20200421T154608Z
LAST-MODIFIED:20200429T185907Z
UID:2603-1588503600-1588507200@ebcla.org
SUMMARY:Sunday Lunch Fellowship [ONLINE]
DESCRIPTION:Join us as we gather for lunch together! For Zoom details\, please contact info@ebcla.org.
URL:https://ebcla.org/event/sunday-lunch-fellowship-online/
END:VEVENT
BEGIN:VEVENT
DTSTART;TZID=America/Los_Angeles:20200503T110000
DTEND;TZID=America/Los_Angeles:20200503T113000
DTSTAMP:20260423T023151
CREATED:20200429T185724Z
LAST-MODIFIED:20200429T185724Z
UID:2687-1588503600-1588505400@ebcla.org
SUMMARY:Communion Sunday
DESCRIPTION:Join us as we take communion together this Sunday through a Zoom Video Conference! Please bring your own bread and cup. For Zoom details\, please contact info@ebcla.org
URL:https://ebcla.org/event/communion-sunday/
END:VEVENT
BEGIN:VEVENT
DTSTART;TZID=America/Los_Angeles:20200503T083000
DTEND;TZID=America/Los_Angeles:20200503T100000
DTSTAMP:20260423T023151
CREATED:20200421T154450Z
LAST-MODIFIED:20200506T184116Z
UID:2599-1588494600-1588500000@ebcla.org
SUMMARY:CLASS Community [ONLINE]
DESCRIPTION:Join us for class from April 26-May 31st! Our study will be on “What is the meaning of all this?” from the book of Ecclesiastes. For Zoom details\, please contact info@ebcla.org
URL:https://ebcla.org/event/class-community-online-2020-05-03/
END:VEVENT
BEGIN:VEVENT
DTSTART;TZID=America/Los_Angeles:20200427T120000
DTEND;TZID=America/Los_Angeles:20200427T130000
DTSTAMP:20260423T023151
CREATED:20200421T153518Z
LAST-MODIFIED:20200429T193310Z
UID:2582-1587988800-1587992400@ebcla.org
SUMMARY:Prayer Meeting [ONLINE]
DESCRIPTION:Join us for our weekly prayer meeting! For Zoom details\, please contact info@ebcla.org
URL:https://ebcla.org/event/prayer-meeting-online-2020-04-27/
END:VEVENT
BEGIN:VEVENT
DTSTART;TZID=America/Los_Angeles:20200426T110000
DTEND;TZID=America/Los_Angeles:20200426T130000
DTSTAMP:20260423T023151
CREATED:20200204T230756Z
LAST-MODIFIED:20200428T153929Z
UID:2238-1587898800-1587906000@ebcla.org
SUMMARY:Quarterly Congregational Meeting [ONLINE]
DESCRIPTION:Please join us after service to hear what God has been doing in our church the past three months. Hear updates from Pastor Jason and our ministry staff. Thank you for your commitment and support. For Zoom meeting details\, please contact info@ebcla.org. \n 
URL:https://ebcla.org/event/quarterly-congregational-meeting-7/
END:VEVENT
BEGIN:VEVENT
DTSTART;TZID=America/Los_Angeles:20200426T110000
DTEND;TZID=America/Los_Angeles:20200426T123000
DTSTAMP:20260423T023151
CREATED:20200505T153752Z
LAST-MODIFIED:20200506T185040Z
UID:2732-1587898800-1587904200@ebcla.org
SUMMARY:Caregivers Support Group [ONLINE]
DESCRIPTION:Join us as we Care for each other\, Bear each other’s burdens\, and Share our stories of the joys and challenges of caregiving for ill or aging loved ones. Contact Sandra Jung for more information.
URL:https://ebcla.org/event/caregivers-support-group-online-2/
END:VEVENT
BEGIN:VEVENT
DTSTART;TZID=America/Los_Angeles:20200426T110000
DTEND;TZID=America/Los_Angeles:20200426T123000
DTSTAMP:20260423T023151
CREATED:20200429T190531Z
LAST-MODIFIED:20200526T201530Z
UID:2696-1587898800-1587904200@ebcla.org
SUMMARY:The Open Door [ONLINE]
DESCRIPTION:A support and fellowship group for LGBT/Queer Christians and allies. Contact Pastor Ryan for more information.
URL:https://ebcla.org/event/open-door-online-2/
END:VEVENT
BEGIN:VEVENT
DTSTART;TZID=America/Los_Angeles:20200426T084500
DTEND;TZID=America/Los_Angeles:20200426T094500
DTSTAMP:20260423T023151
CREATED:20200429T191522Z
LAST-MODIFIED:20200429T191522Z
UID:2705-1587890700-1587894300@ebcla.org
SUMMARY:Parent Connection [ONLINE]
DESCRIPTION:Attention parents who are expecting or who have kids ages 0-30. Share with and learn from other parents! New topics every week. Contact Shirley Lew for more information.
URL:https://ebcla.org/event/parent-connection-online/
END:VEVENT
BEGIN:VEVENT
DTSTART;TZID=America/Los_Angeles:20200426T083000
DTEND;TZID=America/Los_Angeles:20200426T100000
DTSTAMP:20260423T023151
CREATED:20200421T154450Z
LAST-MODIFIED:20200506T184116Z
UID:2597-1587889800-1587895200@ebcla.org
SUMMARY:CLASS Community [ONLINE]
DESCRIPTION:Join us for class from April 26-May 31st! Our study will be on “What is the meaning of all this?” from the book of Ecclesiastes. For Zoom details\, please contact info@ebcla.org
URL:https://ebcla.org/event/class-community-online/
END:VEVENT
BEGIN:VEVENT
DTSTART;TZID=America/Los_Angeles:20200425T110000
DTEND;TZID=America/Los_Angeles:20200425T121500
DTSTAMP:20260423T023151
CREATED:20200421T154015Z
LAST-MODIFIED:20200428T154044Z
UID:2593-1587812400-1587816900@ebcla.org
SUMMARY:Celebration of Life Service for Irene Jong [ONLINE]
DESCRIPTION:For Zoom details\, please contact info@ebcla.org. You can also access the service through our Youtube link: https://www.youtube.com/watch?v=9e2D6InGSns
URL:https://ebcla.org/event/celebration-life-service-irene-jong-online/
END:VEVENT
BEGIN:VEVENT
DTSTART;TZID=America/Los_Angeles:20200420T120000
DTEND;TZID=America/Los_Angeles:20200420T130000
DTSTAMP:20260423T023151
CREATED:20200421T153518Z
LAST-MODIFIED:20200429T193309Z
UID:2581-1587384000-1587387600@ebcla.org
SUMMARY:Prayer Meeting [ONLINE]
DESCRIPTION:Join us for our weekly prayer meeting! For Zoom details\, please contact info@ebcla.org
URL:https://ebcla.org/event/prayer-meeting-online-2020-04-20/
END:VEVENT
BEGIN:VEVENT
DTSTART;TZID=America/Los_Angeles:20200419T100000
DTEND;TZID=America/Los_Angeles:20200419T103000
DTSTAMP:20260423T023151
CREATED:20200421T154212Z
LAST-MODIFIED:20200421T171107Z
UID:2595-1587290400-1587292200@ebcla.org
SUMMARY:Guest Speaker: Steve Fitch [ONLINE]
DESCRIPTION:Hear from our guest speaker\, Steve Fitch\, from Eden Reforestation Projects. Service link: https://www.youtube.com/watch?v=4Nn2YK_Rcko
URL:https://ebcla.org/event/guest-speaker-steve-fitch-online/
END:VEVENT
BEGIN:VEVENT
DTSTART;TZID=America/Los_Angeles:20200415T120000
DTEND;TZID=America/Los_Angeles:20200415T130000
DTSTAMP:20260423T023151
CREATED:20200407T170055Z
LAST-MODIFIED:20200519T204019Z
UID:2516-1586952000-1586955600@ebcla.org
SUMMARY:TTT Lunch [ONLINE]
DESCRIPTION:Join us for lunch together! For Zoom details\, please contact info@ebcla.org.
URL:https://ebcla.org/event/ttt-lunch-online/
END:VEVENT
BEGIN:VEVENT
DTSTART;TZID=America/Los_Angeles:20200413T120000
DTEND;TZID=America/Los_Angeles:20200413T130000
DTSTAMP:20260423T023151
CREATED:20200421T153518Z
LAST-MODIFIED:20200429T193309Z
UID:2580-1586779200-1586782800@ebcla.org
SUMMARY:Prayer Meeting [ONLINE]
DESCRIPTION:Join us for our weekly prayer meeting! For Zoom details\, please contact info@ebcla.org
URL:https://ebcla.org/event/prayer-meeting-online-2020-04-13/
END:VEVENT
BEGIN:VEVENT
DTSTART;TZID=America/Los_Angeles:20200412T110000
DTEND;TZID=America/Los_Angeles:20200412T123000
DTSTAMP:20260423T023151
CREATED:20200429T190408Z
LAST-MODIFIED:20200526T201511Z
UID:2691-1586689200-1586694600@ebcla.org
SUMMARY:The Open Door [ONLINE]
DESCRIPTION:A support and fellowship group for LGBT/Queer Christians and allies. Contact Pastor Ryan for more information.
URL:https://ebcla.org/event/open-door-online/
END:VEVENT
BEGIN:VEVENT
DTSTART;TZID=America/Los_Angeles:20200412T100000
DTEND;TZID=America/Los_Angeles:20200412T113000
DTSTAMP:20260423T023151
CREATED:20200204T230338Z
LAST-MODIFIED:20200318T210332Z
UID:2232-1586685600-1586691000@ebcla.org
SUMMARY:Easter Worship Service [ONLINE]
DESCRIPTION:The tomb is empty! Christ is risen\, He is risen indeed! All are invited to celebrate the joy of Jesus’ resurrection from the grave. We will have a time of worship and praise. Pastor Jason will bring the Easter message. Stay afterwards and enjoy a delicious chicken and waffle lunch hosted by our Evergreen Scout groups (free with tickets\, available starting March 29). \n**During this important season in the life of the Los Angeles area as we work to stop the transmission of the coronavirus\, we are suspending our Sunday worship gatherings and ministry programming. Each Sunday you will find a modified online worship service available on Facebook or on this site. We hope that you will continue to stay in touch as we temporarily transition to a more virtual church community. Please check our website or our Instagram account for the latest updates. \n\nJoin our service live on YouTube \nOR \nJoin our service live on Facebook
URL:https://ebcla.org/event/easter-worship-service/
END:VEVENT
BEGIN:VEVENT
DTSTART;TZID=America/Los_Angeles:20200410T193000
DTEND;TZID=America/Los_Angeles:20200410T210000
DTSTAMP:20260423T023151
CREATED:20200204T230151Z
LAST-MODIFIED:20200410T195930Z
UID:2230-1586547000-1586552400@ebcla.org
SUMMARY:Good Friday Service [ONLINE]
DESCRIPTION:This online contemplative service revisits the sufferings and death of Jesus. We will be gathering virtually over a Zoom video conference meeting for this service and taking communion together. Please prepare a bit of bread & drink in your home to represent the body and blood of Christ for this sacred experience. Email info@ebcla.org for service details. \n**During this important season in the life of the Los Angeles area as we work to stop the transmission of the coronavirus\, we are suspending our Sunday worship gatherings and ministry programming. Each Sunday you will find a modified online worship service available on Facebook or on this site. We hope that you will continue to stay in touch as we temporarily transition to a more virtual church community. Please check our website or our Instagram account for the latest updates. \n\nJoin our service live on YouTube \nOR \nJoin our service live on Facebook
URL:https://ebcla.org/event/good-friday-service-3/
END:VEVENT
END:VCALENDAR