BEGIN:VCALENDAR
VERSION:2.0
PRODID:-//Evergreen - ECPv6.15.17.1//NONSGML v1.0//EN
CALSCALE:GREGORIAN
METHOD:PUBLISH
X-WR-CALNAME:Evergreen
X-ORIGINAL-URL:https://ebcla.org
X-WR-CALDESC:Events for Evergreen
REFRESH-INTERVAL;VALUE=DURATION:PT1H
X-Robots-Tag:noindex
X-PUBLISHED-TTL:PT1H
BEGIN:VTIMEZONE
TZID:America/Los_Angeles
BEGIN:DAYLIGHT
TZOFFSETFROM:-0800
TZOFFSETTO:-0700
TZNAME:PDT
DTSTART:20190310T100000
END:DAYLIGHT
BEGIN:STANDARD
TZOFFSETFROM:-0700
TZOFFSETTO:-0800
TZNAME:PST
DTSTART:20191103T090000
END:STANDARD
BEGIN:DAYLIGHT
TZOFFSETFROM:-0800
TZOFFSETTO:-0700
TZNAME:PDT
DTSTART:20200308T100000
END:DAYLIGHT
BEGIN:STANDARD
TZOFFSETFROM:-0700
TZOFFSETTO:-0800
TZNAME:PST
DTSTART:20201101T090000
END:STANDARD
BEGIN:DAYLIGHT
TZOFFSETFROM:-0800
TZOFFSETTO:-0700
TZNAME:PDT
DTSTART:20210314T100000
END:DAYLIGHT
BEGIN:STANDARD
TZOFFSETFROM:-0700
TZOFFSETTO:-0800
TZNAME:PST
DTSTART:20211107T090000
END:STANDARD
END:VTIMEZONE
BEGIN:VEVENT
DTSTART;TZID=America/Los_Angeles:20200223T120000
DTEND;TZID=America/Los_Angeles:20200223T130000
DTSTAMP:20260423T112152
CREATED:20200204T223617Z
LAST-MODIFIED:20200218T213819Z
UID:2213-1582459200-1582462800@ebcla.org
SUMMARY:Annual Meeting
DESCRIPTION:We are truly grateful for God’s grace and blessings this past year. Our pastoral staff will share their 2019 reflections and 2020 goals. We will affirm Rob Chen and Marian Sunabe as new deacons. Our Annual Report will also be available. Please join us.
URL:https://ebcla.org/event/annual-meeting-3/
LOCATION:Ministry Center Fellowship Hall
END:VEVENT
BEGIN:VEVENT
DTSTART;TZID=America/Los_Angeles:20200223T113000
DTEND;TZID=America/Los_Angeles:20200223T123000
DTSTAMP:20260423T112152
CREATED:20200107T195346Z
LAST-MODIFIED:20200107T195346Z
UID:2157-1582457400-1582461000@ebcla.org
SUMMARY:All Church Lunch
DESCRIPTION:Everyone is invited to stay after service for a time of eating together and fellowship. Menu: Cuban Pork. Suggested donation $3. 
URL:https://ebcla.org/event/all-church-lunch-40/
END:VEVENT
BEGIN:VEVENT
DTSTART;TZID=America/Los_Angeles:20200223T083000
DTEND;TZID=America/Los_Angeles:20200223T100000
DTSTAMP:20260423T112152
CREATED:20191216T231335Z
LAST-MODIFIED:20191216T231523Z
UID:2097-1582446600-1582452000@ebcla.org
SUMMARY:CLASS Community
DESCRIPTION:Join CLASS Community! Contact Pastor Jonathan for more information. \nSeeing the Whole Bible (MC201/202).\nThe Enneagram: Discovering Your Type Toward Personal Growth and Healthy Community (MC100/101). \n*There will be no class on February 16th due to Presidents’ Day.
URL:https://ebcla.org/event/class-community-13-2020-02-23/
END:VEVENT
BEGIN:VEVENT
DTSTART;TZID=America/Los_Angeles:20200223T083000
DTEND;TZID=America/Los_Angeles:20200223T100000
DTSTAMP:20260423T112152
CREATED:20191126T230002Z
LAST-MODIFIED:20191231T224152Z
UID:2044-1582446600-1582452000@ebcla.org
SUMMARY:Parent Connection
DESCRIPTION:Attention parents who are expecting or who have kids ages 0-30. Share with and learn from other parents! New topics every week. Contact Shirley Lew for more information.
URL:https://ebcla.org/event/parent-connection-3-2020-02-23/
LOCATION:Ministry Center Fellowship Hall
END:VEVENT
BEGIN:VEVENT
DTSTART;TZID=America/Los_Angeles:20200219T120000
DTEND;TZID=America/Los_Angeles:20200219T133000
DTSTAMP:20260423T112152
CREATED:20200204T223331Z
LAST-MODIFIED:20200204T223331Z
UID:2211-1582113600-1582119000@ebcla.org
SUMMARY:TTT Lunch - Alhambra
DESCRIPTION:The pastoral staff will love to meet with all who work in and around the Alhambra area. For location and to RSVP\, contact Pastor Jonathan. \n 
URL:https://ebcla.org/event/ttt-lunch-alhambra-2/
END:VEVENT
BEGIN:VEVENT
DTSTART;VALUE=DATE:20200217
DTEND;VALUE=DATE:20200218
DTSTAMP:20260423T112152
CREATED:20200204T225808Z
LAST-MODIFIED:20200204T225808Z
UID:2225-1581897600-1581983999@ebcla.org
SUMMARY:Church Office Closed
DESCRIPTION:The Church office will be closed on Monday\, February 17\, for President’s Day. 
URL:https://ebcla.org/event/church-office-closed-8/
END:VEVENT
BEGIN:VEVENT
DTSTART;TZID=America/Los_Angeles:20200216T120000
DTEND;TZID=America/Los_Angeles:20200216T133000
DTSTAMP:20260423T112152
CREATED:20200204T225602Z
LAST-MODIFIED:20200204T225602Z
UID:2223-1581854400-1581859800@ebcla.org
SUMMARY:The Open Door Parent Support Group
DESCRIPTION:A support group for parents of LGBT/Queer children.
URL:https://ebcla.org/event/open-door-parent-support-group-21/
LOCATION:Ministry Center Room 200
END:VEVENT
BEGIN:VEVENT
DTSTART;TZID=America/Los_Angeles:20200216T113000
DTEND;TZID=America/Los_Angeles:20200216T120000
DTSTAMP:20260423T112152
CREATED:20200121T224124Z
LAST-MODIFIED:20200121T224124Z
UID:2178-1581852600-1581854400@ebcla.org
SUMMARY:Girl Scout Cookies
DESCRIPTION:It’s Cookie Season! Stop by the ministry cart to purchase some delicious Girl Scout cookies and support Evergreen Girls Scout Troop 1521. For more information\, contact Jenny Leung. 
URL:https://ebcla.org/event/girl-scout-cookies-2020-02-16/
END:VEVENT
BEGIN:VEVENT
DTSTART;TZID=America/Los_Angeles:20200216T083000
DTEND;TZID=America/Los_Angeles:20200216T100000
DTSTAMP:20260423T112152
CREATED:20191126T230002Z
LAST-MODIFIED:20191231T224152Z
UID:2043-1581841800-1581847200@ebcla.org
SUMMARY:Parent Connection
DESCRIPTION:Attention parents who are expecting or who have kids ages 0-30. Share with and learn from other parents! New topics every week. Contact Shirley Lew for more information.
URL:https://ebcla.org/event/parent-connection-3-2020-02-16/
LOCATION:Ministry Center Fellowship Hall
END:VEVENT
BEGIN:VEVENT
DTSTART;TZID=America/Los_Angeles:20200215T090000
DTEND;TZID=America/Los_Angeles:20200215T110000
DTSTAMP:20260423T112152
CREATED:20200204T225425Z
LAST-MODIFIED:20200204T225425Z
UID:2221-1581757200-1581764400@ebcla.org
SUMMARY:Prime Timers Breakfast
DESCRIPTION:All Prime Timer’s (55+) are invited for a special breakfast and fellowship. Contact Michi Tanioka for details and to RSVP. 
URL:https://ebcla.org/event/prime-timers-breakfast-12/
LOCATION:Ministry Center Fellowship Hall
END:VEVENT
BEGIN:VEVENT
DTSTART;TZID=America/Los_Angeles:20200214T180000
DTEND;TZID=America/Los_Angeles:20200217T153000
DTSTAMP:20260423T112152
CREATED:20191216T225026Z
LAST-MODIFIED:20200122T200104Z
UID:2076-1581703200-1581953400@ebcla.org
SUMMARY:Youth Retreat
DESCRIPTION:Join EBCLA Youth for our 2020 Youth Retreat this year at Camp AREV! If you are a student between 6th – 12th grade\, join us for a weekend full of worship\, great teaching\, and community building with junior high and high school students. \n\nAs God invites us into a relationship\, we are invited to also model this by extending an invitation to others. Youth are invited into a deeper relationship with God and encouraged to reach out. For more information\, contact Pastor Ryan.
URL:https://ebcla.org/event/youth-retreat/
END:VEVENT
BEGIN:VEVENT
DTSTART;TZID=America/Los_Angeles:20200209T120000
DTEND;TZID=America/Los_Angeles:20200209T140000
DTSTAMP:20260423T112152
CREATED:20200121T224557Z
LAST-MODIFIED:20200121T224557Z
UID:2179-1581249600-1581256800@ebcla.org
SUMMARY:The Open Door
DESCRIPTION:A support and fellowship group for LGBT/Queer Christians and allies.
URL:https://ebcla.org/event/the-open-door-37/
LOCATION:Ministry Center Room 201/202
END:VEVENT
BEGIN:VEVENT
DTSTART;TZID=America/Los_Angeles:20200209T113000
DTEND;TZID=America/Los_Angeles:20200209T123000
DTSTAMP:20260423T112152
CREATED:20200204T224637Z
LAST-MODIFIED:20200204T224637Z
UID:2217-1581247800-1581251400@ebcla.org
SUMMARY:All Church Lunch
DESCRIPTION:Everyone is invited to stay after service for a time of eating together and fellowship. Menu: Petrillo’s Pizza. Suggested donation $3. 
URL:https://ebcla.org/event/all-church-lunch-41/
END:VEVENT
BEGIN:VEVENT
DTSTART;TZID=America/Los_Angeles:20200209T113000
DTEND;TZID=America/Los_Angeles:20200209T123000
DTSTAMP:20260423T112152
CREATED:20200107T195256Z
LAST-MODIFIED:20200107T195914Z
UID:2155-1581247800-1581251400@ebcla.org
SUMMARY:All Church Lunch
DESCRIPTION:Everyone is invited to stay after service for a time of eating together and fellowship. Menu: Pizza. Suggested donation $3. 
URL:https://ebcla.org/event/all-church-lunch-39/
END:VEVENT
BEGIN:VEVENT
DTSTART;TZID=America/Los_Angeles:20200209T113000
DTEND;TZID=America/Los_Angeles:20200209T120000
DTSTAMP:20260423T112152
CREATED:20200121T224124Z
LAST-MODIFIED:20200121T224124Z
UID:2176-1581247800-1581249600@ebcla.org
SUMMARY:Girl Scout Cookies
DESCRIPTION:It’s Cookie Season! Stop by the ministry cart to purchase some delicious Girl Scout cookies and support Evergreen Girls Scout Troop 1521. For more information\, contact Jenny Leung. 
URL:https://ebcla.org/event/girl-scout-cookies/
END:VEVENT
BEGIN:VEVENT
DTSTART;TZID=America/Los_Angeles:20200209T110000
DTEND;TZID=America/Los_Angeles:20200209T130000
DTSTAMP:20260423T112152
CREATED:20200121T225303Z
LAST-MODIFIED:20210312T000719Z
UID:2185-1581246000-1581253200@ebcla.org
SUMMARY:CBS Caregivers Support Group
DESCRIPTION:Join us as we Care for each other\, Bear each other’s burdens\, and Share our stories of the joys and challenges of caregiving for ill or aging loved ones.
URL:https://ebcla.org/event/cbs-caregivers-support-group-7/
LOCATION:Ministry Center Room 200
END:VEVENT
BEGIN:VEVENT
DTSTART;TZID=America/Los_Angeles:20200209T084500
DTEND;TZID=America/Los_Angeles:20200209T100000
DTSTAMP:20260423T112152
CREATED:20200121T225147Z
LAST-MODIFIED:20200121T225147Z
UID:2183-1581237900-1581242400@ebcla.org
SUMMARY:The Journey
DESCRIPTION:All parents of children (of any age) with special needs are invited to join this monthly group. Contact Pastor Julie for more information.
URL:https://ebcla.org/event/the-journey-12/
LOCATION:Ministry Center Room 200
END:VEVENT
BEGIN:VEVENT
DTSTART;TZID=America/Los_Angeles:20200209T083000
DTEND;TZID=America/Los_Angeles:20200209T100000
DTSTAMP:20260423T112152
CREATED:20191216T231335Z
LAST-MODIFIED:20191216T231523Z
UID:2095-1581237000-1581242400@ebcla.org
SUMMARY:CLASS Community
DESCRIPTION:Join CLASS Community! Contact Pastor Jonathan for more information. \nSeeing the Whole Bible (MC201/202).\nThe Enneagram: Discovering Your Type Toward Personal Growth and Healthy Community (MC100/101). \n*There will be no class on February 16th due to Presidents’ Day.
URL:https://ebcla.org/event/class-community-13-2020-02-09/
END:VEVENT
BEGIN:VEVENT
DTSTART;TZID=America/Los_Angeles:20200209T083000
DTEND;TZID=America/Los_Angeles:20200209T100000
DTSTAMP:20260423T112152
CREATED:20191126T230002Z
LAST-MODIFIED:20191231T224152Z
UID:2042-1581237000-1581242400@ebcla.org
SUMMARY:Parent Connection
DESCRIPTION:Attention parents who are expecting or who have kids ages 0-30. Share with and learn from other parents! New topics every week. Contact Shirley Lew for more information.
URL:https://ebcla.org/event/parent-connection-3-2020-02-09/
LOCATION:Ministry Center Fellowship Hall
END:VEVENT
BEGIN:VEVENT
DTSTART;TZID=America/Los_Angeles:20200208T083000
DTEND;TZID=America/Los_Angeles:20200208T100000
DTSTAMP:20260423T112152
CREATED:20200204T224442Z
LAST-MODIFIED:20200204T224442Z
UID:2215-1581150600-1581156000@ebcla.org
SUMMARY:Men's Breakfast
DESCRIPTION:All men are invited to our monthly group to eat together and reflect on a book study. We will be meeting in Culver City. RSVP to Pastor Jonathan. 
URL:https://ebcla.org/event/mens-breakfast-22/
END:VEVENT
BEGIN:VEVENT
DTSTART;TZID=America/Los_Angeles:20200203T093000
DTEND;TZID=America/Los_Angeles:20200203T110000
DTSTAMP:20260423T112152
CREATED:20200115T003215Z
LAST-MODIFIED:20200115T003215Z
UID:2166-1580722200-1580727600@ebcla.org
SUMMARY:Prime Timer's Bible Study
DESCRIPTION:Join Prime Timer’s (55+) monthly for prayer\, fellowship\, and Bible study. Contact Pastor Julie for more information.
URL:https://ebcla.org/event/prime-timers-bible-study-14/
LOCATION:Ministry Center Room 100/101
END:VEVENT
BEGIN:VEVENT
DTSTART;TZID=America/Los_Angeles:20200202T153000
DTEND;TZID=America/Los_Angeles:20200202T183000
DTSTAMP:20260423T112152
CREATED:20200121T223722Z
LAST-MODIFIED:20200121T223722Z
UID:2174-1580657400-1580668200@ebcla.org
SUMMARY:Superbowl Party
DESCRIPTION:The Men’s Ministry invites everyone to our annual Super Bowl Party. Hang out with other Evergreeners\, and enjoy our culinary spread. Donation of $7. Contact Pastor Jonathan if you would like to help out.
URL:https://ebcla.org/event/superbowl-party-2/
LOCATION:Ministry Center Fellowship Hall
END:VEVENT
BEGIN:VEVENT
DTSTART;TZID=America/Los_Angeles:20200202T114500
DTEND;TZID=America/Los_Angeles:20200202T130000
DTSTAMP:20260423T112152
CREATED:20200121T224930Z
LAST-MODIFIED:20200121T224930Z
UID:2181-1580643900-1580648400@ebcla.org
SUMMARY:Creatives Gathering
DESCRIPTION:If you are an artist\, designer\, writer\, photographer\, musician\, fashion designer\, filmmaker\, or anything else creative\, come join Pastor Jason for an open meeting to connect with other creatives within our church family! Contact: Pastor Jason
URL:https://ebcla.org/event/creatives-gathering-9/
LOCATION:Ministry Center Room 100/101
END:VEVENT
BEGIN:VEVENT
DTSTART;TZID=America/Los_Angeles:20200202T084500
DTEND;TZID=America/Los_Angeles:20200202T100000
DTSTAMP:20260423T112152
CREATED:20200121T223446Z
LAST-MODIFIED:20200121T223446Z
UID:2172-1580633100-1580637600@ebcla.org
SUMMARY:Membership Seminar
DESCRIPTION:Considering becoming a member of Evergreen-LA? Learn about the purposes and responsibilities of membership. The next opportunity to be affirmed as a member is February 23. Please note: Baptism is a prerequisite for membership. Contact Pastor Jonathan to RSVP.
URL:https://ebcla.org/event/membership-seminar-5/
LOCATION:Admin Building Conference Room
END:VEVENT
BEGIN:VEVENT
DTSTART;TZID=America/Los_Angeles:20200202T083000
DTEND;TZID=America/Los_Angeles:20200202T100000
DTSTAMP:20260423T112152
CREATED:20191216T231335Z
LAST-MODIFIED:20191216T231522Z
UID:2094-1580632200-1580637600@ebcla.org
SUMMARY:CLASS Community
DESCRIPTION:Join CLASS Community! Contact Pastor Jonathan for more information. \nSeeing the Whole Bible (MC201/202).\nThe Enneagram: Discovering Your Type Toward Personal Growth and Healthy Community (MC100/101). \n*There will be no class on February 16th due to Presidents’ Day.
URL:https://ebcla.org/event/class-community-13-2020-02-02/
END:VEVENT
BEGIN:VEVENT
DTSTART;TZID=America/Los_Angeles:20200202T083000
DTEND;TZID=America/Los_Angeles:20200202T100000
DTSTAMP:20260423T112152
CREATED:20191126T230002Z
LAST-MODIFIED:20191231T224152Z
UID:2041-1580632200-1580637600@ebcla.org
SUMMARY:Parent Connection
DESCRIPTION:Attention parents who are expecting or who have kids ages 0-30. Share with and learn from other parents! New topics every week. Contact Shirley Lew for more information.
URL:https://ebcla.org/event/parent-connection-3-2020-02-02/
LOCATION:Ministry Center Fellowship Hall
END:VEVENT
BEGIN:VEVENT
DTSTART;TZID=America/Los_Angeles:20200126T120000
DTEND;TZID=America/Los_Angeles:20200126T140000
DTSTAMP:20260423T112152
CREATED:20191231T224422Z
LAST-MODIFIED:20191231T224422Z
UID:2129-1580040000-1580047200@ebcla.org
SUMMARY:The Open Door
DESCRIPTION:A support and fellowship group for LGBT/Queer Christians and allies.
URL:https://ebcla.org/event/the-open-door-36/
LOCATION:Ministry Center Room 201/202
END:VEVENT
BEGIN:VEVENT
DTSTART;TZID=America/Los_Angeles:20200126T113000
DTEND;TZID=America/Los_Angeles:20200126T123000
DTSTAMP:20260423T112152
CREATED:20200106T181111Z
LAST-MODIFIED:20200106T181111Z
UID:2139-1580038200-1580041800@ebcla.org
SUMMARY:All Church Lunch
DESCRIPTION:Everyone is invited to stay after service for a time of eating together and fellowship. Menu: Chili Rice. Suggested donation $3. 
URL:https://ebcla.org/event/all-church-lunch-38/
END:VEVENT
BEGIN:VEVENT
DTSTART;TZID=America/Los_Angeles:20200126T083000
DTEND;TZID=America/Los_Angeles:20200126T100000
DTSTAMP:20260423T112152
CREATED:20191216T231335Z
LAST-MODIFIED:20191216T231522Z
UID:2093-1580027400-1580032800@ebcla.org
SUMMARY:CLASS Community
DESCRIPTION:Join CLASS Community! Contact Pastor Jonathan for more information. \nSeeing the Whole Bible (MC201/202).\nThe Enneagram: Discovering Your Type Toward Personal Growth and Healthy Community (MC100/101). \n*There will be no class on February 16th due to Presidents’ Day.
URL:https://ebcla.org/event/class-community-13-2020-01-26/
END:VEVENT
BEGIN:VEVENT
DTSTART;TZID=America/Los_Angeles:20200126T083000
DTEND;TZID=America/Los_Angeles:20200126T100000
DTSTAMP:20260423T112152
CREATED:20191126T230002Z
LAST-MODIFIED:20191231T224152Z
UID:2040-1580027400-1580032800@ebcla.org
SUMMARY:Parent Connection
DESCRIPTION:Attention parents who are expecting or who have kids ages 0-30. Share with and learn from other parents! New topics every week. Contact Shirley Lew for more information.
URL:https://ebcla.org/event/parent-connection-3-2020-01-26/
LOCATION:Ministry Center Fellowship Hall
END:VEVENT
END:VCALENDAR