BEGIN:VCALENDAR
VERSION:2.0
PRODID:-//Evergreen - ECPv6.15.17.1//NONSGML v1.0//EN
CALSCALE:GREGORIAN
METHOD:PUBLISH
X-ORIGINAL-URL:https://ebcla.org
X-WR-CALDESC:Events for Evergreen
REFRESH-INTERVAL;VALUE=DURATION:PT1H
X-Robots-Tag:noindex
X-PUBLISHED-TTL:PT1H
BEGIN:VTIMEZONE
TZID:America/Los_Angeles
BEGIN:DAYLIGHT
TZOFFSETFROM:-0800
TZOFFSETTO:-0700
TZNAME:PDT
DTSTART:20180311T100000
END:DAYLIGHT
BEGIN:STANDARD
TZOFFSETFROM:-0700
TZOFFSETTO:-0800
TZNAME:PST
DTSTART:20181104T090000
END:STANDARD
BEGIN:DAYLIGHT
TZOFFSETFROM:-0800
TZOFFSETTO:-0700
TZNAME:PDT
DTSTART:20190310T100000
END:DAYLIGHT
BEGIN:STANDARD
TZOFFSETFROM:-0700
TZOFFSETTO:-0800
TZNAME:PST
DTSTART:20191103T090000
END:STANDARD
BEGIN:DAYLIGHT
TZOFFSETFROM:-0800
TZOFFSETTO:-0700
TZNAME:PDT
DTSTART:20200308T100000
END:DAYLIGHT
BEGIN:STANDARD
TZOFFSETFROM:-0700
TZOFFSETTO:-0800
TZNAME:PST
DTSTART:20201101T090000
END:STANDARD
BEGIN:DAYLIGHT
TZOFFSETFROM:-0800
TZOFFSETTO:-0700
TZNAME:PDT
DTSTART:20210314T100000
END:DAYLIGHT
BEGIN:STANDARD
TZOFFSETFROM:-0700
TZOFFSETTO:-0800
TZNAME:PST
DTSTART:20211107T090000
END:STANDARD
END:VTIMEZONE
BEGIN:VEVENT
DTSTART;VALUE=DATE:20200120
DTEND;VALUE=DATE:20200121
DTSTAMP:20260423T170011
CREATED:20191231T223739Z
LAST-MODIFIED:20191231T223739Z
UID:2120-1579478400-1579564799@ebcla.org
SUMMARY:Church Office Closed
DESCRIPTION:The Church office will be closed on Monday\, January 20 for Martin Luther King Jr. Day. 
URL:https://ebcla.org/event/church-office-closed-7/
END:VEVENT
BEGIN:VEVENT
DTSTART;TZID=America/Los_Angeles:20200119T120000
DTEND;TZID=America/Los_Angeles:20200119T133000
DTSTAMP:20260423T170011
CREATED:20200106T181850Z
LAST-MODIFIED:20200106T181850Z
UID:2144-1579435200-1579440600@ebcla.org
SUMMARY:The Open Door Parent Support Group
DESCRIPTION:A support group for parents of LGBT/Queer children.
URL:https://ebcla.org/event/open-door-parent-support-group-20/
LOCATION:Ministry Center Room 200
END:VEVENT
BEGIN:VEVENT
DTSTART;TZID=America/Los_Angeles:20200119T113000
DTEND;TZID=America/Los_Angeles:20200119T120000
DTSTAMP:20260423T170011
CREATED:20191216T224749Z
LAST-MODIFIED:20191216T224749Z
UID:2075-1579433400-1579435200@ebcla.org
SUMMARY:Youth Retreat Bake Sale
DESCRIPTION:The Youth (6th-12th) will be heading to Camp AREV for their annual Winter Retreat (2/14-2/17). Grab a delicious treat and donate financially in order to help the Youth reach their goal of $2\,000 to help offset costs. For more information\, contact Pastor Ryan.
URL:https://ebcla.org/event/youth-retreat-bake-sale-2020-01-19/
END:VEVENT
BEGIN:VEVENT
DTSTART;TZID=America/Los_Angeles:20200119T090000
DTEND;TZID=America/Los_Angeles:20200119T130000
DTSTAMP:20260423T170011
CREATED:20191231T223417Z
LAST-MODIFIED:20191231T223417Z
UID:2118-1579424400-1579438800@ebcla.org
SUMMARY:Cub Scouts Donation Drive
DESCRIPTION:Declutter your home and donate clothes\, toys\, household items\, knick-knacks\, books. Proceeds go to support youth attending summer camp. For more info and to pick up collection bags\, come to the cart on 1/5 or contact: patsmithgong@yahoo.com. Items can be dropped off at the front of the main parking lot. 
URL:https://ebcla.org/event/cub-scouts-donation-drive/
END:VEVENT
BEGIN:VEVENT
DTSTART;TZID=America/Los_Angeles:20200119T083000
DTEND;TZID=America/Los_Angeles:20200119T100000
DTSTAMP:20260423T170011
CREATED:20191216T231335Z
LAST-MODIFIED:20191216T231522Z
UID:2092-1579422600-1579428000@ebcla.org
SUMMARY:CLASS Community
DESCRIPTION:Join CLASS Community! Contact Pastor Jonathan for more information. \nSeeing the Whole Bible (MC201/202).\nThe Enneagram: Discovering Your Type Toward Personal Growth and Healthy Community (MC100/101). \n*There will be no class on February 16th due to Presidents’ Day.
URL:https://ebcla.org/event/class-community-13-2020-01-19/
END:VEVENT
BEGIN:VEVENT
DTSTART;TZID=America/Los_Angeles:20200119T083000
DTEND;TZID=America/Los_Angeles:20200119T100000
DTSTAMP:20260423T170011
CREATED:20191126T230002Z
LAST-MODIFIED:20191231T224151Z
UID:2039-1579422600-1579428000@ebcla.org
SUMMARY:Parent Connection
DESCRIPTION:Attention parents who are expecting or who have kids ages 0-30. Share with and learn from other parents! New topics every week. Contact Shirley Lew for more information.
URL:https://ebcla.org/event/parent-connection-3-2020-01-19/
LOCATION:Ministry Center Fellowship Hall
END:VEVENT
BEGIN:VEVENT
DTSTART;TZID=America/Los_Angeles:20200118T090000
DTEND;TZID=America/Los_Angeles:20200118T110000
DTSTAMP:20260423T170011
CREATED:20191231T223117Z
LAST-MODIFIED:20191231T223117Z
UID:2115-1579338000-1579345200@ebcla.org
SUMMARY:Prime Timers New Year's Brunch
DESCRIPTION:Join the Prime Timers (55+) in marking the beginning of the new year. Traditional Japanese New Year’s food will be served. Pastor Jason will share the New Year’s blessing. Cost: $10. RSVP to michitanioka@gmail.com by Wednesday\, January 15.
URL:https://ebcla.org/event/prime-timers-new-years-brunch/
LOCATION:Worship Center Fellowship Hall
END:VEVENT
BEGIN:VEVENT
DTSTART;TZID=America/Los_Angeles:20200115T120000
DTEND;TZID=America/Los_Angeles:20200115T133000
DTSTAMP:20260423T170011
CREATED:20191231T224806Z
LAST-MODIFIED:20200107T194721Z
UID:2133-1579089600-1579095000@ebcla.org
SUMMARY:TTT Lunch - Downtown LA
DESCRIPTION:The pastoral staff will love to meet with all who work in and around the Downtown L.A. area. We’ll be meeting at Figat7th food court. RSVP to Pastor Jonathan.
URL:https://ebcla.org/event/ttt-lunch-downtown-la-2/
END:VEVENT
BEGIN:VEVENT
DTSTART;TZID=America/Los_Angeles:20200113T093000
DTEND;TZID=America/Los_Angeles:20200113T110000
DTSTAMP:20260423T170011
CREATED:20191231T224631Z
LAST-MODIFIED:20191231T224631Z
UID:2131-1578907800-1578913200@ebcla.org
SUMMARY:Prime Timers Bible Study
DESCRIPTION:Join Prime Timer’s (55+) monthly for prayer\, fellowship\, and Bible study. Contact Pastor Julie for more information.
URL:https://ebcla.org/event/prime-timers-bible-study-13/
LOCATION:Ministry Center Room 100/101
END:VEVENT
BEGIN:VEVENT
DTSTART;TZID=America/Los_Angeles:20200112T120000
DTEND;TZID=America/Los_Angeles:20200112T140000
DTSTAMP:20260423T170011
CREATED:20191216T225850Z
LAST-MODIFIED:20191216T225850Z
UID:2078-1578830400-1578837600@ebcla.org
SUMMARY:The Open Door
DESCRIPTION:A support and fellowship group for LGBT/Queer Christians and allies.
URL:https://ebcla.org/event/the-open-door-35/
LOCATION:Ministry Center Room 201/202
END:VEVENT
BEGIN:VEVENT
DTSTART;TZID=America/Los_Angeles:20200112T113000
DTEND;TZID=America/Los_Angeles:20200112T130000
DTSTAMP:20260423T170011
CREATED:20191216T230804Z
LAST-MODIFIED:20191216T230804Z
UID:2086-1578828600-1578834000@ebcla.org
SUMMARY:CBS Caregivers Support Group
DESCRIPTION:Join us as we Care for each other\, Bear each other’s burdens\, and Share our stories of the joys and challenges of caregiving for ill or aging loved ones.
URL:https://ebcla.org/event/cbs-caregivers-support-group-6/
LOCATION:Ministry Center Room 200
END:VEVENT
BEGIN:VEVENT
DTSTART;TZID=America/Los_Angeles:20200112T113000
DTEND;TZID=America/Los_Angeles:20200112T123000
DTSTAMP:20260423T170011
CREATED:20200106T180929Z
LAST-MODIFIED:20200106T180929Z
UID:2137-1578828600-1578832200@ebcla.org
SUMMARY:All Church Lunch
DESCRIPTION:Everyone is invited to stay after service for a time of eating together and fellowship. Menu: Chicken Gumbo. Suggested donation $3. 
URL:https://ebcla.org/event/all-church-lunch-37/
END:VEVENT
BEGIN:VEVENT
DTSTART;TZID=America/Los_Angeles:20200112T113000
DTEND;TZID=America/Los_Angeles:20200112T120000
DTSTAMP:20260423T170011
CREATED:20191216T224749Z
LAST-MODIFIED:20191216T224749Z
UID:2073-1578828600-1578830400@ebcla.org
SUMMARY:Youth Retreat Bake Sale
DESCRIPTION:The Youth (6th-12th) will be heading to Camp AREV for their annual Winter Retreat (2/14-2/17). Grab a delicious treat and donate financially in order to help the Youth reach their goal of $2\,000 to help offset costs. For more information\, contact Pastor Ryan.
URL:https://ebcla.org/event/youth-retreat-bake-sale/
END:VEVENT
BEGIN:VEVENT
DTSTART;TZID=America/Los_Angeles:20200112T084500
DTEND;TZID=America/Los_Angeles:20200112T100000
DTSTAMP:20260423T170011
CREATED:20191216T230511Z
LAST-MODIFIED:20191216T230511Z
UID:2083-1578818700-1578823200@ebcla.org
SUMMARY:The Journey
DESCRIPTION:All parents of children (of any age) with special needs are invited to join this monthly group. Contact Pastor Julie for more information.
URL:https://ebcla.org/event/the-journey-11/
LOCATION:Ministry Center Room 200
END:VEVENT
BEGIN:VEVENT
DTSTART;TZID=America/Los_Angeles:20200112T083000
DTEND;TZID=America/Los_Angeles:20200112T100000
DTSTAMP:20260423T170011
CREATED:20191216T231335Z
LAST-MODIFIED:20191216T231521Z
UID:2090-1578817800-1578823200@ebcla.org
SUMMARY:CLASS Community
DESCRIPTION:Join CLASS Community! Contact Pastor Jonathan for more information. \nSeeing the Whole Bible (MC201/202).\nThe Enneagram: Discovering Your Type Toward Personal Growth and Healthy Community (MC100/101). \n*There will be no class on February 16th due to Presidents’ Day.
URL:https://ebcla.org/event/class-community-13/
END:VEVENT
BEGIN:VEVENT
DTSTART;TZID=America/Los_Angeles:20200112T083000
DTEND;TZID=America/Los_Angeles:20200112T100000
DTSTAMP:20260423T170011
CREATED:20191126T230002Z
LAST-MODIFIED:20191231T224151Z
UID:2036-1578817800-1578823200@ebcla.org
SUMMARY:Parent Connection
DESCRIPTION:Attention parents who are expecting or who have kids ages 0-30. Share with and learn from other parents! New topics every week. Contact Shirley Lew for more information.
URL:https://ebcla.org/event/parent-connection-3/
LOCATION:Ministry Center Fellowship Hall
END:VEVENT
BEGIN:VEVENT
DTSTART;TZID=America/Los_Angeles:20200111T083000
DTEND;TZID=America/Los_Angeles:20200111T100000
DTSTAMP:20260423T170011
CREATED:20191216T230220Z
LAST-MODIFIED:20200106T181240Z
UID:2081-1578731400-1578736800@ebcla.org
SUMMARY:Men's Breakfast
DESCRIPTION:All men are invited to our monthly group to eat together and reflect on a book study. We will be meeting in Culver City at Coco’s Restaurant. RSVP to Pastor Jonathan. 
URL:https://ebcla.org/event/mens-breakfast-21/
END:VEVENT
BEGIN:VEVENT
DTSTART;TZID=America/Los_Angeles:20200105T113000
DTEND;TZID=America/Los_Angeles:20200105T123000
DTSTAMP:20260423T170011
CREATED:20200106T180344Z
LAST-MODIFIED:20200106T180344Z
UID:2135-1578223800-1578227400@ebcla.org
SUMMARY:All Church Lunch
DESCRIPTION:Everyone is invited to stay after service for a time of eating together and fellowship. Menu: Congee.
URL:https://ebcla.org/event/all-church-lunch-36/
END:VEVENT
BEGIN:VEVENT
DTSTART;VALUE=DATE:20200101
DTEND;VALUE=DATE:20200102
DTSTAMP:20260423T170011
CREATED:20191105T203215Z
LAST-MODIFIED:20191105T203215Z
UID:1937-1577836800-1577923199@ebcla.org
SUMMARY:Church Office Closed
DESCRIPTION:The Church office will be closed on Wednesday\, January 1 for the New Year.
URL:https://ebcla.org/event/church-office-closed-6/
END:VEVENT
BEGIN:VEVENT
DTSTART;TZID=America/Los_Angeles:20191229T113000
DTEND;TZID=America/Los_Angeles:20191229T123000
DTSTAMP:20260423T170011
CREATED:20191126T223209Z
LAST-MODIFIED:20191216T225536Z
UID:2022-1577619000-1577622600@ebcla.org
SUMMARY:All Church Lunch
DESCRIPTION:Everyone is invited to stay after service for a time of eating together and fellowship. Menu: Udon & Mochi snack.
URL:https://ebcla.org/event/all-church-lunch-35/
END:VEVENT
BEGIN:VEVENT
DTSTART;VALUE=DATE:20191225
DTEND;VALUE=DATE:20191227
DTSTAMP:20260423T170011
CREATED:20191105T203126Z
LAST-MODIFIED:20191105T203126Z
UID:1935-1577232000-1577404799@ebcla.org
SUMMARY:Church Office Closed
DESCRIPTION:The Church office will be closed on Wednesday\, December 25 and Thursday\, December 26 for Christmas.
URL:https://ebcla.org/event/church-office-closed-5/
END:VEVENT
BEGIN:VEVENT
DTSTART;TZID=America/Los_Angeles:20191224T193000
DTEND;TZID=America/Los_Angeles:20191224T210000
DTSTAMP:20260423T170011
CREATED:20191105T191325Z
LAST-MODIFIED:20191126T222522Z
UID:1933-1577215800-1577221200@ebcla.org
SUMMARY:Christmas Eve Service
DESCRIPTION:On the final evening of the Advent season\, we invite you and your family to an intimate\, reflective service as we welcome and receive God’s gift to us in Jesus Christ.
URL:https://ebcla.org/event/christmas-eve-service-2/
LOCATION:EBCLA Sanctuary
END:VEVENT
BEGIN:VEVENT
DTSTART;TZID=America/Los_Angeles:20191222T120000
DTEND;TZID=America/Los_Angeles:20191222T140000
DTSTAMP:20260423T170011
CREATED:20191126T223741Z
LAST-MODIFIED:20191126T223741Z
UID:2024-1577016000-1577023200@ebcla.org
SUMMARY:The Open Door
DESCRIPTION:A support and fellowship group for LGBT/Queer Christians and allies.
URL:https://ebcla.org/event/the-open-door-34/
LOCATION:Ministry Center Room 201/202
END:VEVENT
BEGIN:VEVENT
DTSTART;TZID=America/Los_Angeles:20191222T113000
DTEND;TZID=America/Los_Angeles:20191222T123000
DTSTAMP:20260423T170011
CREATED:20191126T222944Z
LAST-MODIFIED:20191126T222944Z
UID:2020-1577014200-1577017800@ebcla.org
SUMMARY:All Church Lunch
DESCRIPTION:Everyone is invited to stay after service for a time of eating together and fellowship. Menu: Tamales. Suggested donation $3. 
URL:https://ebcla.org/event/all-church-lunch-34/
END:VEVENT
BEGIN:VEVENT
DTSTART;TZID=America/Los_Angeles:20191222T100000
DTEND;TZID=America/Los_Angeles:20191222T113000
DTSTAMP:20260423T170011
CREATED:20191105T191155Z
LAST-MODIFIED:20191126T222317Z
UID:1931-1577008800-1577014200@ebcla.org
SUMMARY:Christmas Sunday Service
DESCRIPTION:Invite your loved ones and join in the joyous celebration of the birth of Jesus as we gather and worship together as a church family. Stay after service for a special holiday lunch!
URL:https://ebcla.org/event/christmas-sunday-service-2/
LOCATION:EBCLA Sanctuary
END:VEVENT
BEGIN:VEVENT
DTSTART;TZID=America/Los_Angeles:20191215T120000
DTEND;TZID=America/Los_Angeles:20191215T133000
DTSTAMP:20260423T170011
CREATED:20191126T224106Z
LAST-MODIFIED:20191126T224106Z
UID:2026-1576411200-1576416600@ebcla.org
SUMMARY:The Open Door Parent Support Group
DESCRIPTION:A support group for parents of LGBT/Queer children.
URL:https://ebcla.org/event/open-door-parent-support-group-19/
LOCATION:Ministry Center Room 200
END:VEVENT
BEGIN:VEVENT
DTSTART;TZID=America/Los_Angeles:20191215T120000
DTEND;TZID=America/Los_Angeles:20191215T130000
DTSTAMP:20260423T170011
CREATED:20191105T174958Z
LAST-MODIFIED:20191120T220410Z
UID:1929-1576411200-1576414800@ebcla.org
SUMMARY:Resource Plan Congregational Meeting
DESCRIPTION:All are invited to attend as our members gather to affirm our 2020 proposed budget. Come to the TOWN HALL MEETING on Sunday\, December 8\, 9:00am or 11:30am @ MC100/101 if you have any questions for the Finance Committee or Board.
URL:https://ebcla.org/event/resource-plan-congregational-meeting/
LOCATION:Ministry Center Fellowship Hall
END:VEVENT
BEGIN:VEVENT
DTSTART;TZID=America/Los_Angeles:20191215T113000
DTEND;TZID=America/Los_Angeles:20191215T123000
DTSTAMP:20260423T170011
CREATED:20191120T221040Z
LAST-MODIFIED:20191120T221040Z
UID:1968-1576409400-1576413000@ebcla.org
SUMMARY:All Church Lunch
DESCRIPTION:Everyone is invited to stay after service for a time of eating together and fellowship. Menu: Vietnamese Sandwiches. Suggested donation $3. 
URL:https://ebcla.org/event/all-church-lunch-33/
END:VEVENT
BEGIN:VEVENT
DTSTART;TZID=America/Los_Angeles:20191215T083000
DTEND;TZID=America/Los_Angeles:20191215T100000
DTSTAMP:20260423T170011
CREATED:20191126T225036Z
LAST-MODIFIED:20191126T225626Z
UID:2031-1576398600-1576404000@ebcla.org
SUMMARY:Parent Connection
DESCRIPTION:Attention parents who are expecting or who have kids ages 0-30. Share with and learn from other parents! New topics every week. Contact Shirley Lew for more information.
URL:https://ebcla.org/event/parent-connection/
LOCATION:Ministry Center Fellowship Hall
END:VEVENT
BEGIN:VEVENT
DTSTART;VALUE=DATE:20191215
DTEND;VALUE=DATE:20191216
DTSTAMP:20260423T170011
CREATED:20191105T174831Z
LAST-MODIFIED:20191105T174831Z
UID:1927-1576368000-1576454399@ebcla.org
SUMMARY:Third Advent Sunday
DESCRIPTION:
URL:https://ebcla.org/event/third-advent-sunday/
END:VEVENT
END:VCALENDAR