BEGIN:VCALENDAR
VERSION:2.0
PRODID:-//Evergreen - ECPv6.15.17.1//NONSGML v1.0//EN
CALSCALE:GREGORIAN
METHOD:PUBLISH
X-ORIGINAL-URL:https://ebcla.org
X-WR-CALDESC:Events for Evergreen
REFRESH-INTERVAL;VALUE=DURATION:PT1H
X-Robots-Tag:noindex
X-PUBLISHED-TTL:PT1H
BEGIN:VTIMEZONE
TZID:America/Los_Angeles
BEGIN:DAYLIGHT
TZOFFSETFROM:-0800
TZOFFSETTO:-0700
TZNAME:PDT
DTSTART:20180311T100000
END:DAYLIGHT
BEGIN:STANDARD
TZOFFSETFROM:-0700
TZOFFSETTO:-0800
TZNAME:PST
DTSTART:20181104T090000
END:STANDARD
BEGIN:DAYLIGHT
TZOFFSETFROM:-0800
TZOFFSETTO:-0700
TZNAME:PDT
DTSTART:20190310T100000
END:DAYLIGHT
BEGIN:STANDARD
TZOFFSETFROM:-0700
TZOFFSETTO:-0800
TZNAME:PST
DTSTART:20191103T090000
END:STANDARD
BEGIN:DAYLIGHT
TZOFFSETFROM:-0800
TZOFFSETTO:-0700
TZNAME:PDT
DTSTART:20200308T100000
END:DAYLIGHT
BEGIN:STANDARD
TZOFFSETFROM:-0700
TZOFFSETTO:-0800
TZNAME:PST
DTSTART:20201101T090000
END:STANDARD
END:VTIMEZONE
BEGIN:VEVENT
DTSTART;TZID=America/Los_Angeles:20191211T120000
DTEND;TZID=America/Los_Angeles:20191211T133000
DTSTAMP:20260423T215809
CREATED:20191126T224349Z
LAST-MODIFIED:20191126T224349Z
UID:2028-1576065600-1576071000@ebcla.org
SUMMARY:TTT Lunch-Silver Lake
DESCRIPTION:The pastoral staff will love to meet with all who work in and around the Silver Lake area. RSVP to Pastor Jonathan.
URL:https://ebcla.org/event/ttt-lunch-silver-lake/
END:VEVENT
BEGIN:VEVENT
DTSTART;TZID=America/Los_Angeles:20191209T093000
DTEND;TZID=America/Los_Angeles:20191209T110000
DTSTAMP:20260423T215809
CREATED:20191120T222713Z
LAST-MODIFIED:20191120T222713Z
UID:1978-1575883800-1575889200@ebcla.org
SUMMARY:Prime Timer's Bible Study
DESCRIPTION:Join Prime Timer’s (55+) monthly for prayer\, fellowship\, and Bible study. Contact Pastor Julie for more information.
URL:https://ebcla.org/event/prime-timers-bible-study-12/
LOCATION:Ministry Center Room 100/101
END:VEVENT
BEGIN:VEVENT
DTSTART;TZID=America/Los_Angeles:20191208T120000
DTEND;TZID=America/Los_Angeles:20191208T140000
DTSTAMP:20260423T215809
CREATED:20191120T221510Z
LAST-MODIFIED:20191120T221510Z
UID:1970-1575806400-1575813600@ebcla.org
SUMMARY:The Open Door
DESCRIPTION:A support and fellowship group for LGBT/Queer Christians and allies.
URL:https://ebcla.org/event/the-open-door-33/
LOCATION:Ministry Center Room 201/202
END:VEVENT
BEGIN:VEVENT
DTSTART;TZID=America/Los_Angeles:20191208T113000
DTEND;TZID=America/Los_Angeles:20191208T130000
DTSTAMP:20260423T215809
CREATED:20191120T222508Z
LAST-MODIFIED:20191120T222508Z
UID:1976-1575804600-1575810000@ebcla.org
SUMMARY:CBS Caregivers Support Group
DESCRIPTION:Join us as we Care for each other\, Bear each other’s burdens\, and Share our stories of the joys and challenges of caregiving for ill or aging loved ones.
URL:https://ebcla.org/event/cbs-caregivers-support-group-5/
LOCATION:Ministry Center Room 200
END:VEVENT
BEGIN:VEVENT
DTSTART;TZID=America/Los_Angeles:20191208T084500
DTEND;TZID=America/Los_Angeles:20191208T100000
DTSTAMP:20260423T215809
CREATED:20191120T221959Z
LAST-MODIFIED:20191120T221959Z
UID:1974-1575794700-1575799200@ebcla.org
SUMMARY:The Journey
DESCRIPTION:All parents of children (of any age) with special needs are invited to join this monthly group. Contact Pastor Julie for more information.
URL:https://ebcla.org/event/the-journey-10/
LOCATION:Ministry Center Room 200
END:VEVENT
BEGIN:VEVENT
DTSTART;TZID=America/Los_Angeles:20191208T083000
DTEND;TZID=America/Los_Angeles:20191208T100000
DTSTAMP:20260423T215809
CREATED:20191126T225753Z
LAST-MODIFIED:20191126T225753Z
UID:2034-1575793800-1575799200@ebcla.org
SUMMARY:Parent Connection
DESCRIPTION:Attention parents who are expecting or who have kids ages 0-30. Share with and learn from other parents! New topics every week. Contact Shirley Lew for more information.
URL:https://ebcla.org/event/parent-connection-2/
LOCATION:Ministry Center Fellowship Hall
END:VEVENT
BEGIN:VEVENT
DTSTART;VALUE=DATE:20191208
DTEND;VALUE=DATE:20191209
DTSTAMP:20260423T215809
CREATED:20191120T215730Z
LAST-MODIFIED:20191120T215923Z
UID:1961-1575763200-1575849599@ebcla.org
SUMMARY:Eden Projects Fundraiser
DESCRIPTION:Support Eden Projects in planting trees in Haiti\, Madagascar\, Nepal\, and Indonesia. Make a donation and receive a tree or boat ornament that you can gift to your family and friends. Your donation will help reduce extreme poverty and restore healthy forests by employing local villagers to plant trees. Located at the ministry cart. 
URL:https://ebcla.org/event/eden-projects-fundraiser-2019-12-08/
END:VEVENT
BEGIN:VEVENT
DTSTART;VALUE=DATE:20191208
DTEND;VALUE=DATE:20191209
DTSTAMP:20260423T215809
CREATED:20191105T174803Z
LAST-MODIFIED:20191120T220733Z
UID:1925-1575763200-1575849599@ebcla.org
SUMMARY:Resource Plan Town Hall
DESCRIPTION:Come if you have any questions for the Finance Committee or Board about our 2020 proposed budget. We will be meeting before and after service (9:00am and 11:30am).
URL:https://ebcla.org/event/resource-plan-town-hall/
LOCATION:Ministry Center Room 100/101
END:VEVENT
BEGIN:VEVENT
DTSTART;VALUE=DATE:20191208
DTEND;VALUE=DATE:20191209
DTSTAMP:20260423T215809
CREATED:20191105T174637Z
LAST-MODIFIED:20191105T174637Z
UID:1923-1575763200-1575849599@ebcla.org
SUMMARY:Second Advent Sunday
DESCRIPTION:
URL:https://ebcla.org/event/second-advent-sunday/
END:VEVENT
BEGIN:VEVENT
DTSTART;TZID=America/Los_Angeles:20191207T170000
DTEND;TZID=America/Los_Angeles:20191207T200000
DTSTAMP:20260423T215809
CREATED:20191105T174603Z
LAST-MODIFIED:20191120T220214Z
UID:1921-1575738000-1575748800@ebcla.org
SUMMARY:Advent Dinner Potluck
DESCRIPTION:Everyone is welcomed to celebrate the Advent season as a church family. Wear your ugly holiday sweater. There will be carol singing\, children’s crafts\, and other festive activities. \nLast Name: (A-G) Side Dishes; (H-T) Main Dishes; (U-Z) Fruit/Desserts.
URL:https://ebcla.org/event/advent-dinner-potluck-2/
LOCATION:EBCLA Sanctuary
END:VEVENT
BEGIN:VEVENT
DTSTART;TZID=America/Los_Angeles:20191201T100000
DTEND;TZID=America/Los_Angeles:20191201T113000
DTSTAMP:20260423T215809
CREATED:20191120T215507Z
LAST-MODIFIED:20191120T215507Z
UID:1957-1575194400-1575199800@ebcla.org
SUMMARY:Retired Ministers & Missionaries Offering
DESCRIPTION:We are grateful for and want to express our appreciation to the retired American Baptist ministers and missionaries who have served our wider church family. These year-end gifts are a special year-end blessing to them. On December 1\, use the RMMO envelope or write RMMO on the offering envelope.
URL:https://ebcla.org/event/retired-ministers-missionaries-offering/
END:VEVENT
BEGIN:VEVENT
DTSTART;TZID=America/Los_Angeles:20191201T083000
DTEND;TZID=America/Los_Angeles:20191201T100000
DTSTAMP:20260423T215809
CREATED:20191120T221830Z
LAST-MODIFIED:20191120T221830Z
UID:1972-1575189000-1575194400@ebcla.org
SUMMARY:Parent Connection Group Restarts
DESCRIPTION:Attention parents who are expecting or who have kids ages 0-30. Share with and learn from other parents! New topics every week. Contact Shirley Lew for more information.
URL:https://ebcla.org/event/parent-connection-group-restarts/
LOCATION:Ministry Center Fellowship Hall
END:VEVENT
BEGIN:VEVENT
DTSTART;VALUE=DATE:20191201
DTEND;VALUE=DATE:20191202
DTSTAMP:20260423T215809
CREATED:20191120T215730Z
LAST-MODIFIED:20191120T215923Z
UID:1959-1575158400-1575244799@ebcla.org
SUMMARY:Eden Projects Fundraiser
DESCRIPTION:Support Eden Projects in planting trees in Haiti\, Madagascar\, Nepal\, and Indonesia. Make a donation and receive a tree or boat ornament that you can gift to your family and friends. Your donation will help reduce extreme poverty and restore healthy forests by employing local villagers to plant trees. Located at the ministry cart. 
URL:https://ebcla.org/event/eden-projects-fundraiser/
END:VEVENT
BEGIN:VEVENT
DTSTART;VALUE=DATE:20191201
DTEND;VALUE=DATE:20191202
DTSTAMP:20260423T215809
CREATED:20191105T174424Z
LAST-MODIFIED:20191105T174439Z
UID:1919-1575158400-1575244799@ebcla.org
SUMMARY:First Advent Sunday
DESCRIPTION:
URL:https://ebcla.org/event/first-advent-sunday/
END:VEVENT
BEGIN:VEVENT
DTSTART;VALUE=DATE:20191128
DTEND;VALUE=DATE:20191130
DTSTAMP:20260423T215809
CREATED:20191105T174245Z
LAST-MODIFIED:20191105T174245Z
UID:1917-1574899200-1575071999@ebcla.org
SUMMARY:Church Office Closed
DESCRIPTION:The Church office will be closed on Thursday\, November 28 and Friday\, November 29 for Thanksgiving.
URL:https://ebcla.org/event/church-office-closed-4/
END:VEVENT
BEGIN:VEVENT
DTSTART;TZID=America/Los_Angeles:20191124T120000
DTEND;TZID=America/Los_Angeles:20191124T140000
DTSTAMP:20260423T215809
CREATED:20191105T173152Z
LAST-MODIFIED:20191105T173152Z
UID:1909-1574596800-1574604000@ebcla.org
SUMMARY:The Open Door
DESCRIPTION:A support and fellowship group for LGBT/Queer Christians and allies.
URL:https://ebcla.org/event/the-open-door-32/
LOCATION:Ministry Center Room 201/202
END:VEVENT
BEGIN:VEVENT
DTSTART;TZID=America/Los_Angeles:20191124T113000
DTEND;TZID=America/Los_Angeles:20191124T123000
DTSTAMP:20260423T215809
CREATED:20191105T173009Z
LAST-MODIFIED:20191105T173009Z
UID:1907-1574595000-1574598600@ebcla.org
SUMMARY:All Church Lunch
DESCRIPTION:Everyone is invited to stay after service for a time of eating together and fellowship. Menu: Chicken Curry. Suggested donation $3. 
URL:https://ebcla.org/event/all-church-lunch-32/
END:VEVENT
BEGIN:VEVENT
DTSTART;VALUE=DATE:20191124
DTEND;VALUE=DATE:20191125
DTSTAMP:20260423T215809
CREATED:20191105T171101Z
LAST-MODIFIED:20191122T003858Z
UID:1904-1574553600-1574639999@ebcla.org
SUMMARY:Last Fruits Offering
DESCRIPTION:Join us for a special Sunday service on November 24th (Thanksgiving Sunday) as we remember God’s faithfulness to this congregation and anticipate the journey of abundant ministry ahead. We will bring our “Last Fruits Offering” for the Far More Abundantly campaign as part of our worship and celebration of God’s continued work in the life of this church family. We invite you to participate with us in this offering to help make us debt free for the future!
URL:https://ebcla.org/event/last-fruits-offering/
END:VEVENT
BEGIN:VEVENT
DTSTART;VALUE=DATE:20191124
DTEND;VALUE=DATE:20191125
DTSTAMP:20260423T215809
CREATED:20191105T174003Z
LAST-MODIFIED:20191105T174003Z
UID:1915-1574553600-1574639999@ebcla.org
SUMMARY:Recycling
DESCRIPTION:Support Boy Scout Troop 361 and bring aluminum cans\, #1 plastic\, and glass bottles for recycling.
URL:https://ebcla.org/event/recycling-17/
END:VEVENT
BEGIN:VEVENT
DTSTART;TZID=America/Los_Angeles:20191123T080000
DTEND;TZID=America/Los_Angeles:20191126T170000
DTSTAMP:20260423T215809
CREATED:20190924T181349Z
LAST-MODIFIED:20190924T181349Z
UID:1780-1574496000-1574787600@ebcla.org
SUMMARY:Rainbow Acres
DESCRIPTION:
URL:https://ebcla.org/event/rainbow-acres/
END:VEVENT
BEGIN:VEVENT
DTSTART;TZID=America/Los_Angeles:20191120T120000
DTEND;TZID=America/Los_Angeles:20191120T133000
DTSTAMP:20260423T215809
CREATED:20191105T173734Z
LAST-MODIFIED:20191105T173734Z
UID:1913-1574251200-1574256600@ebcla.org
SUMMARY:TTT Lunch-Pasadena
DESCRIPTION:The pastoral staff will love to meet with all who work in and around the Pasadena area. RSVP to Pastor Jonathan.
URL:https://ebcla.org/event/ttt-lunch-pasadena/
END:VEVENT
BEGIN:VEVENT
DTSTART;TZID=America/Los_Angeles:20191118T093000
DTEND;TZID=America/Los_Angeles:20191118T110000
DTSTAMP:20260423T215809
CREATED:20191021T160803Z
LAST-MODIFIED:20191021T160803Z
UID:1890-1574069400-1574074800@ebcla.org
SUMMARY:Prime Timer's Bible Study
DESCRIPTION:Join Prime Timer’s (55+) monthly for prayer\, fellowship\, and Bible study. Contact Pastor Julie for more information.
URL:https://ebcla.org/event/prime-timers-bible-study-11/
LOCATION:Ministry Center Room 100/101
END:VEVENT
BEGIN:VEVENT
DTSTART;TZID=America/Los_Angeles:20191117T120000
DTEND;TZID=America/Los_Angeles:20191117T133000
DTSTAMP:20260423T215809
CREATED:20191105T173447Z
LAST-MODIFIED:20191105T173447Z
UID:1911-1573992000-1573997400@ebcla.org
SUMMARY:The Open Door Parent Support Group
DESCRIPTION:A support group for parents of LGBT/Queer children.
URL:https://ebcla.org/event/open-door-parent-support-group-18/
LOCATION:Ministry Center Room 100/101
END:VEVENT
BEGIN:VEVENT
DTSTART;TZID=America/Los_Angeles:20191117T084500
DTEND;TZID=America/Los_Angeles:20191117T100000
DTSTAMP:20260423T215809
CREATED:20191021T160642Z
LAST-MODIFIED:20191021T160642Z
UID:1888-1573980300-1573984800@ebcla.org
SUMMARY:The Journey
DESCRIPTION:All parents of children (of any age) with special needs are invited to join this monthly group. Contact Pastor Julie for more information.
URL:https://ebcla.org/event/the-journey-9/
LOCATION:Ministry Center Room 200
END:VEVENT
BEGIN:VEVENT
DTSTART;VALUE=DATE:20191117
DTEND;VALUE=DATE:20191118
DTSTAMP:20260423T215809
CREATED:20191105T170552Z
LAST-MODIFIED:20191105T170552Z
UID:1906-1573948800-1574035199@ebcla.org
SUMMARY:Wreath & Poinsettia Fundraiser
DESCRIPTION:Decorate your home and support the Evergreen Boy and Cub Scouts this Christmas season. Come by the ministry carts after service to place your orders for Wreaths and Poinsettias. Pick up your orders on Sunday\, December 8.
URL:https://ebcla.org/event/wreath-poinsettia-fundraiser-2019-11-17/
END:VEVENT
BEGIN:VEVENT
DTSTART;VALUE=DATE:20191117
DTEND;VALUE=DATE:20191118
DTSTAMP:20260423T215809
CREATED:20191105T170815Z
LAST-MODIFIED:20191105T172039Z
UID:1902-1573948800-1574035199@ebcla.org
SUMMARY:Don Bosco Open House
DESCRIPTION:There will be no parking available in the overflow parking in Don Bosco. Please park in the EBCLA parking lot or neighboring side streets. Adhere to all parking rules and walk safely.
URL:https://ebcla.org/event/don-bosco-open-house/
END:VEVENT
BEGIN:VEVENT
DTSTART;TZID=America/Los_Angeles:20191110T120000
DTEND;TZID=America/Los_Angeles:20191110T140000
DTSTAMP:20260423T215809
CREATED:20191021T160026Z
LAST-MODIFIED:20191021T160026Z
UID:1882-1573387200-1573394400@ebcla.org
SUMMARY:The Open Door
DESCRIPTION:A support and fellowship group for LGBT/Queer Christians and allies.
URL:https://ebcla.org/event/the-open-door-31/
LOCATION:Ministry Center Room 201/202
END:VEVENT
BEGIN:VEVENT
DTSTART;TZID=America/Los_Angeles:20191110T113000
DTEND;TZID=America/Los_Angeles:20191110T130000
DTSTAMP:20260423T215809
CREATED:20191021T160509Z
LAST-MODIFIED:20191021T160509Z
UID:1886-1573385400-1573390800@ebcla.org
SUMMARY:CBS Caregivers Support Group
DESCRIPTION:Join us as we Care for each other\, Bear each other’s burdens\, and Share our stories of the joys and challenges of caregiving for ill or aging loved ones.
URL:https://ebcla.org/event/cbs-caregivers-support-group-4/
LOCATION:Ministry Center Room 200
END:VEVENT
BEGIN:VEVENT
DTSTART;TZID=America/Los_Angeles:20191110T113000
DTEND;TZID=America/Los_Angeles:20191110T123000
DTSTAMP:20260423T215809
CREATED:20191021T155855Z
LAST-MODIFIED:20191021T155855Z
UID:1880-1573385400-1573389000@ebcla.org
SUMMARY:All Church Lunch
DESCRIPTION:Everyone is invited to stay after service for a time of eating together and fellowship. Menu: Baked Lasagne. Suggested donation $3. 
URL:https://ebcla.org/event/all-church-lunch-31/
END:VEVENT
BEGIN:VEVENT
DTSTART;VALUE=DATE:20191110
DTEND;VALUE=DATE:20191111
DTSTAMP:20260423T215809
CREATED:20191105T170552Z
LAST-MODIFIED:20191105T172140Z
UID:1899-1573344000-1573430399@ebcla.org
SUMMARY:Wreath & Poinsettia Fundraiser
DESCRIPTION:Decorate your home and support the Evergreen Boy and Cub Scouts this Christmas season. Come by the ministry carts after service to place your orders for Wreaths and Poinsettias. Pick up your orders on Sunday\, December 8.
URL:https://ebcla.org/event/wreath-poinsettia-fundraiser/
END:VEVENT
END:VCALENDAR