BEGIN:VCALENDAR
VERSION:2.0
PRODID:-//Evergreen - ECPv6.15.17.1//NONSGML v1.0//EN
CALSCALE:GREGORIAN
METHOD:PUBLISH
X-ORIGINAL-URL:https://ebcla.org
X-WR-CALDESC:Events for Evergreen
REFRESH-INTERVAL;VALUE=DURATION:PT1H
X-Robots-Tag:noindex
X-PUBLISHED-TTL:PT1H
BEGIN:VTIMEZONE
TZID:America/Los_Angeles
BEGIN:DAYLIGHT
TZOFFSETFROM:-0800
TZOFFSETTO:-0700
TZNAME:PDT
DTSTART:20180311T100000
END:DAYLIGHT
BEGIN:STANDARD
TZOFFSETFROM:-0700
TZOFFSETTO:-0800
TZNAME:PST
DTSTART:20181104T090000
END:STANDARD
BEGIN:DAYLIGHT
TZOFFSETFROM:-0800
TZOFFSETTO:-0700
TZNAME:PDT
DTSTART:20190310T100000
END:DAYLIGHT
BEGIN:STANDARD
TZOFFSETFROM:-0700
TZOFFSETTO:-0800
TZNAME:PST
DTSTART:20191103T090000
END:STANDARD
BEGIN:DAYLIGHT
TZOFFSETFROM:-0800
TZOFFSETTO:-0700
TZNAME:PDT
DTSTART:20200308T100000
END:DAYLIGHT
BEGIN:STANDARD
TZOFFSETFROM:-0700
TZOFFSETTO:-0800
TZNAME:PST
DTSTART:20201101T090000
END:STANDARD
END:VTIMEZONE
BEGIN:VEVENT
DTSTART;TZID=America/Los_Angeles:20191109T073000
DTEND;TZID=America/Los_Angeles:20191109T090000
DTSTAMP:20260424T023526
CREATED:20191021T160335Z
LAST-MODIFIED:20191021T160335Z
UID:1884-1573284600-1573290000@ebcla.org
SUMMARY:Men's Breakfast
DESCRIPTION:All men are invited to our monthly group to eat together and reflect on a book study. RSVP to Pastor Jonathan. 
URL:https://ebcla.org/event/mens-breakfast-20/
END:VEVENT
BEGIN:VEVENT
DTSTART;TZID=America/Los_Angeles:20191103T114500
DTEND;TZID=America/Los_Angeles:20191103T130000
DTSTAMP:20260424T023526
CREATED:20191009T195509Z
LAST-MODIFIED:20191021T161515Z
UID:1864-1572781500-1572786000@ebcla.org
SUMMARY:Creatives Gathering
DESCRIPTION:If you are an artist\, designer\, writer\, photographer\, musician\, fashion designer\, film maker\, or anything else creative\, come join Pastor Jason for an open meeting to connect with other creatives within our church family! Contact: Pastor Jason
URL:https://ebcla.org/event/creatives-gathering-8/
LOCATION:Ministry Center Room 200
END:VEVENT
BEGIN:VEVENT
DTSTART;TZID=America/Los_Angeles:20191103T000000
DTEND;TZID=America/Los_Angeles:20191103T000000
DTSTAMP:20260424T023526
CREATED:20191021T155518Z
LAST-MODIFIED:20191021T155518Z
UID:1878-1572739200-1572739200@ebcla.org
SUMMARY:Daylight Savings Time
DESCRIPTION:Make it on time to church! Turn your clocks back by one hour on Saturday night.
URL:https://ebcla.org/event/daylight-savings-time-2/
END:VEVENT
BEGIN:VEVENT
DTSTART;TZID=America/Los_Angeles:20191027T160000
DTEND;TZID=America/Los_Angeles:20191103T090000
DTSTAMP:20260424T023526
CREATED:20190924T181720Z
LAST-MODIFIED:20190924T190200Z
UID:1782-1572192000-1572771600@ebcla.org
SUMMARY:Host Family Promise of SGV
DESCRIPTION:Help us show kingdom hospitality to Family Promise guests on the week of October 27-November 3. Volunteer individually or with a group. Be a part of hosting dinner\, staying overnight\, taking on breakfast duty\, or helping with set-up/take down. Sign up at the cart or contact John Chern for details.
URL:https://ebcla.org/event/host-family-promise-sgv-4/
END:VEVENT
BEGIN:VEVENT
DTSTART;TZID=America/Los_Angeles:20191027T120000
DTEND;TZID=America/Los_Angeles:20191027T140000
DTSTAMP:20260424T023526
CREATED:20191007T173555Z
LAST-MODIFIED:20191007T173555Z
UID:1854-1572177600-1572184800@ebcla.org
SUMMARY:The Open Door
DESCRIPTION:A support and fellowship group for LGBT/Queer Christians and allies.
URL:https://ebcla.org/event/the-open-door-30/
LOCATION:Ministry Center Room 201/202
END:VEVENT
BEGIN:VEVENT
DTSTART;TZID=America/Los_Angeles:20191027T120000
DTEND;TZID=America/Los_Angeles:20191027T130000
DTSTAMP:20260424T023526
CREATED:20191007T164427Z
LAST-MODIFIED:20191007T164427Z
UID:1847-1572177600-1572181200@ebcla.org
SUMMARY:Quarterly Congregational Meeting
DESCRIPTION:Please join us after service to hear what God has been doing in our church the past three months. Hear updates from Pastor Jason and our ministry staff. Our Sunday lunch will be Broasted Chicken ($3). Thank you for your commitment and support.
URL:https://ebcla.org/event/quarterly-congregational-meeting-6/
LOCATION:Ministry Center Fellowship Hall
END:VEVENT
BEGIN:VEVENT
DTSTART;TZID=America/Los_Angeles:20191027T113000
DTEND;TZID=America/Los_Angeles:20191027T123000
DTSTAMP:20260424T023526
CREATED:20191001T182754Z
LAST-MODIFIED:20191001T182754Z
UID:1833-1572175800-1572179400@ebcla.org
SUMMARY:All Church Lunch
DESCRIPTION:Everyone is invited to stay after service for a time of eating together and fellowship. Menu: Broasted Chicken. Suggested donation $3. 
URL:https://ebcla.org/event/all-church-lunch-30/
END:VEVENT
BEGIN:VEVENT
DTSTART;TZID=America/Los_Angeles:20191026T160000
DTEND;TZID=America/Los_Angeles:20191026T200000
DTSTAMP:20260424T023526
CREATED:20191002T203433Z
LAST-MODIFIED:20191007T155505Z
UID:1838-1572105600-1572120000@ebcla.org
SUMMARY:Fall Festival
DESCRIPTION:Our annual Fall Festival is just around the corner and it’s time to add this church-wide event to your calendar! It promises to be an exciting evening filled with fun\, food and fellowship. You can sign up to volunteer with your small group\, family or friends. Volunteer opportunities include: set up\, clean up\, game booths\, food prep/serving\, etc… There will also be a baking contest that is open to bakers of all ages. Come by the ministry cart to find out where you can volunteer\, hear more about the Fall Festival and donate gently used toys for the prize booth. For more info contact Kathy Hubbard at khubbard@ebcla.org
URL:https://ebcla.org/event/fall-festival-2/
END:VEVENT
BEGIN:VEVENT
DTSTART;TZID=America/Los_Angeles:20191020T120000
DTEND;TZID=America/Los_Angeles:20191020T133000
DTSTAMP:20260424T023526
CREATED:20191007T173948Z
LAST-MODIFIED:20191007T173948Z
UID:1856-1571572800-1571578200@ebcla.org
SUMMARY:The Open Door Parent Support Group
DESCRIPTION:A support group for parents of LGBT/Queer children.
URL:https://ebcla.org/event/open-door-parent-support-group-17/
LOCATION:Ministry Center Room 100/101
END:VEVENT
BEGIN:VEVENT
DTSTART;TZID=America/Los_Angeles:20191020T084500
DTEND;TZID=America/Los_Angeles:20191020T113000
DTSTAMP:20260424T023526
CREATED:20191007T164213Z
LAST-MODIFIED:20191007T164213Z
UID:1845-1571561100-1571571000@ebcla.org
SUMMARY:Preparedness Sunday/Evacuation Drill
DESCRIPTION:Are you ready?! Disasters are unpredictable\, but we can all be better prepared. The Red Cross will provide two presentations: Prepare U (for adults) at 8:45 in MC100/101 and Pillowcase Project (for children) at 10:00 in our Chapel. Come and learn. We will also conduct our annual evacuation drill at the end of service.
URL:https://ebcla.org/event/preparedness-sunday-evacuation-drill/
END:VEVENT
BEGIN:VEVENT
DTSTART;TZID=America/Los_Angeles:20191019T090000
DTEND;TZID=America/Los_Angeles:20191019T110000
DTSTAMP:20260424T023526
CREATED:20190924T185415Z
LAST-MODIFIED:20190924T185523Z
UID:1813-1571475600-1571482800@ebcla.org
SUMMARY:Prime Timer's Breakfast
DESCRIPTION:All Prime Timer’s (55+) are invited for a special breakfast and fellowship. Contact Michi Tanioka for details and to RSVP. 
URL:https://ebcla.org/event/prime-timers-breakfast-11/
LOCATION:Ministry Center Fellowship Hall
END:VEVENT
BEGIN:VEVENT
DTSTART;TZID=America/Los_Angeles:20191016T120000
DTEND;TZID=America/Los_Angeles:20191016T133000
DTSTAMP:20260424T023526
CREATED:20191007T163838Z
LAST-MODIFIED:20191007T163934Z
UID:1843-1571227200-1571232600@ebcla.org
SUMMARY:TTT Lunch-Glendale
DESCRIPTION:The pastoral staff will love to meet with all who work in and around the Glendale area. RSVP to Pastor Jonathan.
URL:https://ebcla.org/event/ttt-lunch-glendale/
END:VEVENT
BEGIN:VEVENT
DTSTART;TZID=America/Los_Angeles:20191014T093000
DTEND;TZID=America/Los_Angeles:20191014T110000
DTSTAMP:20260424T023526
CREATED:20190924T185207Z
LAST-MODIFIED:20190924T191249Z
UID:1811-1571045400-1571050800@ebcla.org
SUMMARY:Prime Timer's Bible Study
DESCRIPTION:Join Prime Timer’s (55+) monthly for prayer\, fellowship\, and Bible study. Contact Pastor Julie for more information.
URL:https://ebcla.org/event/prime-timers-bible-study-10/
LOCATION:Ministry Center Room 100/101
END:VEVENT
BEGIN:VEVENT
DTSTART;TZID=America/Los_Angeles:20191013T120000
DTEND;TZID=America/Los_Angeles:20191013T140000
DTSTAMP:20260424T023526
CREATED:20190924T183503Z
LAST-MODIFIED:20190924T183818Z
UID:1791-1570968000-1570975200@ebcla.org
SUMMARY:The Open Door
DESCRIPTION:A support and fellowship group for LGBT/Queer Christians and allies.
URL:https://ebcla.org/event/the-open-door-29/
LOCATION:Ministry Center Room 201/202
END:VEVENT
BEGIN:VEVENT
DTSTART;TZID=America/Los_Angeles:20191013T114500
DTEND;TZID=America/Los_Angeles:20191013T133000
DTSTAMP:20260424T023526
CREATED:20190924T184622Z
LAST-MODIFIED:20190924T184849Z
UID:1798-1570967100-1570973400@ebcla.org
SUMMARY:The Dialogue
DESCRIPTION:A monthly meeting on LGBT+ inclusion from a conservative point of view.
URL:https://ebcla.org/event/the-dialogue-10/
LOCATION:Nagano Chapel
END:VEVENT
BEGIN:VEVENT
DTSTART;TZID=America/Los_Angeles:20191013T113000
DTEND;TZID=America/Los_Angeles:20191013T130000
DTSTAMP:20260424T023526
CREATED:20191007T173331Z
LAST-MODIFIED:20191007T173331Z
UID:1852-1570966200-1570971600@ebcla.org
SUMMARY:CBS Caregivers Support Group
DESCRIPTION:Join us as we Care for each other\, Bear each other’s burdens\, and Share our stories of the joys and challenges of caregiving for ill or aging loved ones.
URL:https://ebcla.org/event/cbs-caregivers-support-group-3/
LOCATION:Ministry Center Room 200
END:VEVENT
BEGIN:VEVENT
DTSTART;TZID=America/Los_Angeles:20191013T113000
DTEND;TZID=America/Los_Angeles:20191013T123000
DTSTAMP:20260424T023526
CREATED:20190924T182604Z
LAST-MODIFIED:20190924T183135Z
UID:1785-1570966200-1570969800@ebcla.org
SUMMARY:All Church Lunch
DESCRIPTION:Everyone is invited to stay after service for a time of eating together and fellowship. Menu: Pasta with Sausage. Suggested donation $3. 
URL:https://ebcla.org/event/sunday-lunch/
LOCATION:Ministry Center Fellowship Hall
END:VEVENT
BEGIN:VEVENT
DTSTART;TZID=America/Los_Angeles:20191013T100000
DTEND;TZID=America/Los_Angeles:20191013T113000
DTSTAMP:20260424T023526
CREATED:20191007T163457Z
LAST-MODIFIED:20191007T163457Z
UID:1841-1570960800-1570966200@ebcla.org
SUMMARY:World Missions Offering
DESCRIPTION:This month we have the privilege to bless and support our International Ministries family (which includes Glen & Rita Chapman\, Daniel & Sarah Chetti\, Mike & Jill Lowery\, Kyle & Katrina Williams). Please use the special envelope or write “WMO” on your check memo/offering envelope.
URL:https://ebcla.org/event/world-missions-offering/
END:VEVENT
BEGIN:VEVENT
DTSTART;TZID=America/Los_Angeles:20191013T084500
DTEND;TZID=America/Los_Angeles:20191013T100000
DTSTAMP:20260424T023526
CREATED:20191007T164733Z
LAST-MODIFIED:20191007T164733Z
UID:1849-1570956300-1570960800@ebcla.org
SUMMARY:The Journey (Special Needs Support Group)
DESCRIPTION:All parents of children (of any age) with special needs are invited to join this monthly group. Contact Pastor Julie for more information.
URL:https://ebcla.org/event/journey-special-needs-support-group-2/
LOCATION:Ministry Center Room 200
END:VEVENT
BEGIN:VEVENT
DTSTART;TZID=America/Los_Angeles:20191013T084500
DTEND;TZID=America/Los_Angeles:20191013T100000
DTSTAMP:20260424T023526
CREATED:20190829T230500Z
LAST-MODIFIED:20191002T203719Z
UID:1728-1570956300-1570960800@ebcla.org
SUMMARY:CLASS Community
DESCRIPTION:Join CLASS Community!\nA Church For Monday (MC201/202).\nRethinking Faith (MC100/101).
URL:https://ebcla.org/event/class-community-12-2019-10-13/
END:VEVENT
BEGIN:VEVENT
DTSTART;TZID=America/Los_Angeles:20191013T083000
DTEND;TZID=America/Los_Angeles:20191013T100000
DTSTAMP:20260424T023526
CREATED:20190924T180221Z
LAST-MODIFIED:20190925T195703Z
UID:1775-1570955400-1570960800@ebcla.org
SUMMARY:Parent Connection Group
DESCRIPTION:Attention parents who are expecting or who have kids ages 0-30. Share with and learn from other parents! New topics every week. Contact Shirley Lew for more information.
URL:https://ebcla.org/event/parent-connection-group-2019-10-13/
LOCATION:Ministry Center Fellowship Hall
END:VEVENT
BEGIN:VEVENT
DTSTART;TZID=America/Los_Angeles:20191012T073000
DTEND;TZID=America/Los_Angeles:20191012T090000
DTSTAMP:20260424T023526
CREATED:20191002T203027Z
LAST-MODIFIED:20191002T203027Z
UID:1836-1570865400-1570870800@ebcla.org
SUMMARY:Men's Breakfast
DESCRIPTION:All men are invited to our monthly group to eat together and reflect on a book study. RSVP to Pastor Jonathan. 
URL:https://ebcla.org/event/mens-breakfast-19/
LOCATION:Ministry Center Room 100/101
END:VEVENT
BEGIN:VEVENT
DTSTART;TZID=America/Los_Angeles:20191011T190000
DTEND;TZID=America/Los_Angeles:20191012T190000
DTSTAMP:20260424T023526
CREATED:20190924T175636Z
LAST-MODIFIED:20190925T205643Z
UID:1770-1570820400-1570906800@ebcla.org
SUMMARY:Prayer Vigil
DESCRIPTION:Come join us for our annual 24-hour Prayer Vigil starting on Friday\, October 11 at 7:00pm until Saturday\, October 12 at 7:00pm. We are hoping to start this year off with a strong corporate reminder of our need for God with an accessible and fun event. Please come for both community-centric and individual prayer experiences. Visit the Ministry Cart on Sundays to sign up.
URL:https://ebcla.org/event/prayer-vigil/
LOCATION:Nagano Chapel
END:VEVENT
BEGIN:VEVENT
DTSTART;TZID=America/Los_Angeles:20191006T114500
DTEND;TZID=America/Los_Angeles:20191006T130000
DTSTAMP:20260424T023526
CREATED:20190924T184118Z
LAST-MODIFIED:20190924T190619Z
UID:1793-1570362300-1570366800@ebcla.org
SUMMARY:Creatives Gathering
DESCRIPTION:If you are an artist\, designer\, writer\, photographer\, musician\, fashion designer\, film maker\, or anything else creative\, come join Pastor Jason for an open meeting to connect with other creatives within our church family! Contact: Pastor Jason
URL:https://ebcla.org/event/creatives-gathering-7/
LOCATION:Ministry Center Fellowship Hall
END:VEVENT
BEGIN:VEVENT
DTSTART;TZID=America/Los_Angeles:20191006T084500
DTEND;TZID=America/Los_Angeles:20191006T100000
DTSTAMP:20260424T023526
CREATED:20190829T230500Z
LAST-MODIFIED:20191002T203710Z
UID:1727-1570351500-1570356000@ebcla.org
SUMMARY:CLASS Community
DESCRIPTION:Join CLASS Community!\nA Church For Monday (MC201/202).\nRethinking Faith (MC100/101).
URL:https://ebcla.org/event/class-community-12-2019-10-06/
END:VEVENT
BEGIN:VEVENT
DTSTART;TZID=America/Los_Angeles:20191006T083000
DTEND;TZID=America/Los_Angeles:20191006T100000
DTSTAMP:20260424T023526
CREATED:20190924T180221Z
LAST-MODIFIED:20190925T195703Z
UID:1774-1570350600-1570356000@ebcla.org
SUMMARY:Parent Connection Group
DESCRIPTION:Attention parents who are expecting or who have kids ages 0-30. Share with and learn from other parents! New topics every week. Contact Shirley Lew for more information.
URL:https://ebcla.org/event/parent-connection-group-2019-10-06/
LOCATION:Ministry Center Fellowship Hall
END:VEVENT
BEGIN:VEVENT
DTSTART;TZID=America/Los_Angeles:20190929T084500
DTEND;TZID=America/Los_Angeles:20190929T100000
DTSTAMP:20260424T023526
CREATED:20190829T230500Z
LAST-MODIFIED:20191002T203710Z
UID:1726-1569746700-1569751200@ebcla.org
SUMMARY:CLASS Community
DESCRIPTION:Join CLASS Community!\nA Church For Monday (MC201/202).\nRethinking Faith (MC100/101).
URL:https://ebcla.org/event/class-community-12-2019-09-29/
END:VEVENT
BEGIN:VEVENT
DTSTART;TZID=America/Los_Angeles:20190929T083000
DTEND;TZID=America/Los_Angeles:20190929T100000
DTSTAMP:20260424T023526
CREATED:20190924T180221Z
LAST-MODIFIED:20190925T195703Z
UID:1772-1569745800-1569751200@ebcla.org
SUMMARY:Parent Connection Group
DESCRIPTION:Attention parents who are expecting or who have kids ages 0-30. Share with and learn from other parents! New topics every week. Contact Shirley Lew for more information.
URL:https://ebcla.org/event/parent-connection-group/
LOCATION:Ministry Center Fellowship Hall
END:VEVENT
BEGIN:VEVENT
DTSTART;TZID=America/Los_Angeles:20190929T083000
DTEND;TZID=America/Los_Angeles:20190929T100000
DTSTAMP:20260424T023526
CREATED:20190905T220716Z
LAST-MODIFIED:20190905T220716Z
UID:1740-1569745800-1569751200@ebcla.org
SUMMARY:Recycling
DESCRIPTION:Support Boy Scout Troop 361 and bring aluminum cans\, #1 plastic\, and glass bottles for recycling.
URL:https://ebcla.org/event/recycling-16/
END:VEVENT
BEGIN:VEVENT
DTSTART;TZID=America/Los_Angeles:20190928T100000
DTEND;TZID=America/Los_Angeles:20190928T130000
DTSTAMP:20260424T023526
CREATED:20190924T181024Z
LAST-MODIFIED:20190924T181024Z
UID:1778-1569664800-1569675600@ebcla.org
SUMMARY:Women's Ministry Tea
DESCRIPTION:Share the season with food\, fellowship\, and tea! \nJoin us as we share stories and enjoy each other’s company. Please sign up to bring a finger food of your choice and your favorite tea or coffee cup. Women of all ages (and teens) are invited! Sign up for the event and food item by contacting Pastor Shirley.
URL:https://ebcla.org/event/womens-ministry-tea/
LOCATION:Ministry Center Fellowship Hall
END:VEVENT
END:VCALENDAR