BEGIN:VCALENDAR
VERSION:2.0
PRODID:-//Evergreen - ECPv6.15.17.1//NONSGML v1.0//EN
CALSCALE:GREGORIAN
METHOD:PUBLISH
X-ORIGINAL-URL:https://ebcla.org
X-WR-CALDESC:Events for Evergreen
REFRESH-INTERVAL;VALUE=DURATION:PT1H
X-Robots-Tag:noindex
X-PUBLISHED-TTL:PT1H
BEGIN:VTIMEZONE
TZID:America/Los_Angeles
BEGIN:DAYLIGHT
TZOFFSETFROM:-0800
TZOFFSETTO:-0700
TZNAME:PDT
DTSTART:20180311T100000
END:DAYLIGHT
BEGIN:STANDARD
TZOFFSETFROM:-0700
TZOFFSETTO:-0800
TZNAME:PST
DTSTART:20181104T090000
END:STANDARD
BEGIN:DAYLIGHT
TZOFFSETFROM:-0800
TZOFFSETTO:-0700
TZNAME:PDT
DTSTART:20190310T100000
END:DAYLIGHT
BEGIN:STANDARD
TZOFFSETFROM:-0700
TZOFFSETTO:-0800
TZNAME:PST
DTSTART:20191103T090000
END:STANDARD
BEGIN:DAYLIGHT
TZOFFSETFROM:-0800
TZOFFSETTO:-0700
TZNAME:PDT
DTSTART:20200308T100000
END:DAYLIGHT
BEGIN:STANDARD
TZOFFSETFROM:-0700
TZOFFSETTO:-0800
TZNAME:PST
DTSTART:20201101T090000
END:STANDARD
END:VTIMEZONE
BEGIN:VTIMEZONE
TZID:UTC
BEGIN:STANDARD
TZOFFSETFROM:+0000
TZOFFSETTO:+0000
TZNAME:UTC
DTSTART:20180101T000000
END:STANDARD
END:VTIMEZONE
BEGIN:VEVENT
DTSTART;TZID=America/Los_Angeles:20190922T130000
DTEND;TZID=America/Los_Angeles:20190922T140000
DTSTAMP:20260424T072014
CREATED:20190829T230034Z
LAST-MODIFIED:20190829T230034Z
UID:1720-1569157200-1569160800@ebcla.org
SUMMARY:Baptism Seminar
DESCRIPTION:Have you been wanting to be baptized? Baptism is a meaningful spiritual milestone because we publicly declare our faith in Christ as our Savior and Lord and our incorporation into the Body of Christ. Our next baptism may take place later this fall. Come learn about the baptism process here at EBCLA. RSVP to Kathy by September 18: khubbard@ebcla.org.
URL:https://ebcla.org/event/baptism-seminar-3/
LOCATION:Admin Building Conference Room
END:VEVENT
BEGIN:VEVENT
DTSTART;TZID=America/Los_Angeles:20190922T120000
DTEND;TZID=America/Los_Angeles:20190922T140000
DTSTAMP:20260424T072014
CREATED:20190819T170537Z
LAST-MODIFIED:20190819T170537Z
UID:1695-1569153600-1569160800@ebcla.org
SUMMARY:The Open Door
DESCRIPTION:A support and fellowship group for LGBT/Queer Christians and allies.
URL:https://ebcla.org/event/the-open-door-28/
LOCATION:Ministry Center Room 201/202
END:VEVENT
BEGIN:VEVENT
DTSTART;TZID=America/Los_Angeles:20190922T120000
DTEND;TZID=America/Los_Angeles:20190922T130000
DTSTAMP:20260424T072014
CREATED:20190829T225919Z
LAST-MODIFIED:20190829T225919Z
UID:1718-1569153600-1569157200@ebcla.org
SUMMARY:Membership Seminar
DESCRIPTION:Considering becoming a member of Evergreen-LA? Learn about the purposes and responsibilities of membership. The next opportunity to be affirmed as a member is October 27.  Please note: Baptism is a prerequisite for membership. RSVP to Kathy by September 18: khubbard@ebcla.org.
URL:https://ebcla.org/event/membership-seminar-4/
LOCATION:Admin Building Conference Room
END:VEVENT
BEGIN:VEVENT
DTSTART;TZID=America/Los_Angeles:20190922T113000
DTEND;TZID=America/Los_Angeles:20190922T130000
DTSTAMP:20260424T072014
CREATED:20190905T220401Z
LAST-MODIFIED:20190905T220401Z
UID:1738-1569151800-1569157200@ebcla.org
SUMMARY:CBS Caregivers Support Group
DESCRIPTION:Join us as we Care for each other\, Bear each other’s burdens\, and Share our stories of the joys and challenges of caregiving for ill or aging loved ones.
URL:https://ebcla.org/event/cbs-caregivers-support-group-2/
LOCATION:Ministry Center Room 205
END:VEVENT
BEGIN:VEVENT
DTSTART;TZID=America/Los_Angeles:20190922T113000
DTEND;TZID=America/Los_Angeles:20190922T130000
DTSTAMP:20260424T072014
CREATED:20190819T164153Z
LAST-MODIFIED:20190829T223841Z
UID:1675-1569151800-1569157200@ebcla.org
SUMMARY:All Church Lunch
DESCRIPTION:Everyone is invited to stay after service for a time of eating together and fellowship. Menu: Beef Brisket. Suggested donation $3. 
URL:https://ebcla.org/event/all-church-lunch-29/
END:VEVENT
BEGIN:VEVENT
DTSTART;TZID=America/Los_Angeles:20190922T084500
DTEND;TZID=America/Los_Angeles:20190922T100000
DTSTAMP:20260424T072014
CREATED:20190829T230500Z
LAST-MODIFIED:20191002T203709Z
UID:1725-1569141900-1569146400@ebcla.org
SUMMARY:CLASS Community
DESCRIPTION:Join CLASS Community!\nA Church For Monday (MC201/202).\nRethinking Faith (MC100/101).
URL:https://ebcla.org/event/class-community-12-2019-09-22/
END:VEVENT
BEGIN:VEVENT
DTSTART;TZID=America/Los_Angeles:20190921T090000
DTEND;TZID=America/Los_Angeles:20190921T110000
DTSTAMP:20260424T072014
CREATED:20190829T225747Z
LAST-MODIFIED:20190829T225747Z
UID:1716-1569056400-1569063600@ebcla.org
SUMMARY:Prime Timer's Breakfast
DESCRIPTION:All Prime Timer’s (55+) are invited for a special breakfast and fellowship hosted by the Young Adult Ministry. ”\n“Technology 101 for Seniors”. Bring your phones\, tablets\, computers and cameras\, and your questions/problems. Contact Michi Tanioka for details and to RSVP. 
URL:https://ebcla.org/event/prime-timers-breakfast-10/
LOCATION:Ministry Center Fellowship Hall
END:VEVENT
BEGIN:VEVENT
DTSTART;TZID=America/Los_Angeles:20190918T120000
DTEND;TZID=America/Los_Angeles:20190918T133000
DTSTAMP:20260424T072014
CREATED:20190829T225411Z
LAST-MODIFIED:20190916T195044Z
UID:1714-1568808000-1568813400@ebcla.org
SUMMARY:TTT Lunch - Anaheim/Irvine
DESCRIPTION:The pastoral staff will be in Anaheim/Irvine area to meet with all who work in and around that area. Contact Pastor Jonathan for details and to RSVP.
URL:https://ebcla.org/event/ttt-lunch-anaheim-irvine/
END:VEVENT
BEGIN:VEVENT
DTSTART;TZID=America/Los_Angeles:20190915T120000
DTEND;TZID=America/Los_Angeles:20190915T133000
DTSTAMP:20260424T072014
CREATED:20190829T224741Z
LAST-MODIFIED:20190829T225238Z
UID:1712-1568548800-1568554200@ebcla.org
SUMMARY:TOD Parent Support Group
DESCRIPTION:A support group for parents of LGBT/Queer children.
URL:https://ebcla.org/event/tod-parent-support-group/
END:VEVENT
BEGIN:VEVENT
DTSTART;TZID=America/Los_Angeles:20190915T084500
DTEND;TZID=America/Los_Angeles:20190915T100000
DTSTAMP:20260424T072014
CREATED:20190829T230500Z
LAST-MODIFIED:20191002T203709Z
UID:1724-1568537100-1568541600@ebcla.org
SUMMARY:CLASS Community
DESCRIPTION:Join CLASS Community!\nA Church For Monday (MC201/202).\nRethinking Faith (MC100/101).
URL:https://ebcla.org/event/class-community-12-2019-09-15/
END:VEVENT
BEGIN:VEVENT
DTSTART;TZID=America/Los_Angeles:20190914T073000
DTEND;TZID=America/Los_Angeles:20190914T090000
DTSTAMP:20260424T072014
CREATED:20190829T224415Z
LAST-MODIFIED:20190924T175230Z
UID:1707-1568446200-1568451600@ebcla.org
SUMMARY:Men's Breakfast
DESCRIPTION:All men are invited to our monthly group to eat together and reflect on a book study. RSVP to Pastor Jonathan. 
URL:https://ebcla.org/event/mens-breakfast-18/
LOCATION:Diner on Main\, Alhambra
END:VEVENT
BEGIN:VEVENT
DTSTART;TZID=America/Los_Angeles:20190909T093000
DTEND;TZID=America/Los_Angeles:20190909T110000
DTSTAMP:20260424T072014
CREATED:20190819T164601Z
LAST-MODIFIED:20190819T164601Z
UID:1682-1568021400-1568026800@ebcla.org
SUMMARY:Prime Timer's Bible Study
DESCRIPTION:Join Prime Timer’s (55+) monthly for prayer\, fellowship\, and Bible study.
URL:https://ebcla.org/event/prime-timers-bible-study-9/
LOCATION:Ministry Center Room 100/101
END:VEVENT
BEGIN:VEVENT
DTSTART;TZID=America/Los_Angeles:20190908T120000
DTEND;TZID=America/Los_Angeles:20190908T140000
DTSTAMP:20260424T072014
CREATED:20190819T170456Z
LAST-MODIFIED:20190819T170456Z
UID:1693-1567944000-1567951200@ebcla.org
SUMMARY:The Open Door
DESCRIPTION:A support and fellowship group for LGBT/Queer Christians and allies.
URL:https://ebcla.org/event/the-open-door-27/
LOCATION:Ministry Center Room 201/202
END:VEVENT
BEGIN:VEVENT
DTSTART;TZID=America/Los_Angeles:20190908T113000
DTEND;TZID=America/Los_Angeles:20190908T130000
DTSTAMP:20260424T072014
CREATED:20190819T164441Z
LAST-MODIFIED:20190819T170229Z
UID:1680-1567942200-1567947600@ebcla.org
SUMMARY:The Dialogue
DESCRIPTION:A monthly meeting on LGBT+ inclusion from a conservative point of view.
URL:https://ebcla.org/event/the-dialogue-9/
LOCATION:Nagano Chapel
END:VEVENT
BEGIN:VEVENT
DTSTART;TZID=America/Los_Angeles:20190908T113000
DTEND;TZID=America/Los_Angeles:20190908T130000
DTSTAMP:20260424T072014
CREATED:20190819T164058Z
LAST-MODIFIED:20190819T164058Z
UID:1673-1567942200-1567947600@ebcla.org
SUMMARY:All Church Lunch
DESCRIPTION:Everyone is invited to stay after service for a time of eating together and fellowship. Menu: Chili Rice. Suggested donation $3. 
URL:https://ebcla.org/event/all-church-lunch-28/
END:VEVENT
BEGIN:VEVENT
DTSTART;TZID=America/Los_Angeles:20190908T084500
DTEND;TZID=America/Los_Angeles:20190908T100000
DTSTAMP:20260424T072014
CREATED:20190829T230500Z
LAST-MODIFIED:20191002T203708Z
UID:1722-1567932300-1567936800@ebcla.org
SUMMARY:CLASS Community
DESCRIPTION:Join CLASS Community!\nA Church For Monday (MC201/202).\nRethinking Faith (MC100/101).
URL:https://ebcla.org/event/class-community-12/
END:VEVENT
BEGIN:VEVENT
DTSTART;TZID=America/Los_Angeles:20190908T084500
DTEND;TZID=America/Los_Angeles:20190908T100000
DTSTAMP:20260424T072014
CREATED:20190819T170040Z
LAST-MODIFIED:20190819T170040Z
UID:1691-1567932300-1567936800@ebcla.org
SUMMARY:Adult Class
DESCRIPTION:A new session of CLASS will take place from 9/8-10/13. Be on the look-out for more information and class listing.
URL:https://ebcla.org/event/adult-class/
END:VEVENT
BEGIN:VEVENT
DTSTART;TZID=America/Los_Angeles:20190908T084500
DTEND;TZID=America/Los_Angeles:20190908T100000
DTSTAMP:20260424T072014
CREATED:20190819T165703Z
LAST-MODIFIED:20190819T165703Z
UID:1687-1567932300-1567936800@ebcla.org
SUMMARY:Youth Ministry Begins!
DESCRIPTION:EBCLA Youth ministry is starting up for the 2019-2020 school year. All youth in 5th-12th grade are invited to come out on Friday nights (7:30pm-9:30pm) and Sundays (8:45am-10:00am). Questions\, contact  Pastor Ryan or  Chloe Chow.
URL:https://ebcla.org/event/youth-ministry-begins/
END:VEVENT
BEGIN:VEVENT
DTSTART;TZID=America/Los_Angeles:20190908T084500
DTEND;TZID=America/Los_Angeles:20190908T100000
DTSTAMP:20260424T072014
CREATED:20190819T164312Z
LAST-MODIFIED:20191007T164743Z
UID:1678-1567932300-1567936800@ebcla.org
SUMMARY:The Journey
DESCRIPTION:All parents of children (of any age) with special needs are invited to join this monthly group. Contact Pastor Julie for more information.
URL:https://ebcla.org/event/the-journey-8/
LOCATION:Ministry Center Room 200
END:VEVENT
BEGIN:VEVENT
DTSTART;TZID=America/Los_Angeles:20190908T083000
DTEND;TZID=America/Los_Angeles:20190908T133000
DTSTAMP:20260424T072014
CREATED:20190819T165408Z
LAST-MODIFIED:20190819T165408Z
UID:1684-1567931400-1567949400@ebcla.org
SUMMARY:Children's Sunday School Begins!
DESCRIPTION:We offer classes for children from 16 months to 4th grade. We are looking forward to another wonderful year of ministry and growth for our EBCLA children and youth. Contact Kathy Hubbard.
URL:https://ebcla.org/event/childrens-sunday-school-begins/
LOCATION:EBCLA Children’s Village
END:VEVENT
BEGIN:VEVENT
DTSTART;TZID=America/Los_Angeles:20190906T193000
DTEND;TZID=America/Los_Angeles:20190906T213000
DTSTAMP:20260424T072014
CREATED:20190819T165820Z
LAST-MODIFIED:20190819T165820Z
UID:1689-1567798200-1567805400@ebcla.org
SUMMARY:Youth Ministry Begins!
DESCRIPTION:EBCLA Youth ministry is starting up for the 2019-2020 school year. All youth in 5th-12th grade are invited to come out on Friday nights (7:30pm-9:30pm) and Sundays (8:45am-10:00am). Questions\, contact  Pastor Ryan or  Chloe Chow.
URL:https://ebcla.org/event/youth-ministry-begins-2/
LOCATION:EBCLA Sanctuary
END:VEVENT
BEGIN:VEVENT
DTSTART;TZID=America/Los_Angeles:20190901T160000
DTEND;TZID=America/Los_Angeles:20190908T090000
DTSTAMP:20260424T072014
CREATED:20190731T225458Z
LAST-MODIFIED:20190731T225458Z
UID:1656-1567353600-1567933200@ebcla.org
SUMMARY:Host Family Promise of SGV
DESCRIPTION:Help us show kingdom hospitality to Family Promise guests on the week of September 1-8. Volunteer individually or with a group. Be a part of hosting dinner\, staying overnight\, taking on breakfast duty\, or helping with set-up/take down. Sign up at the cart or contact John Chern for details.
URL:https://ebcla.org/event/host-family-promise-sgv-3/
END:VEVENT
BEGIN:VEVENT
DTSTART;TZID=America/Los_Angeles:20190825T120000
DTEND;TZID=America/Los_Angeles:20190825T140000
DTSTAMP:20260424T072014
CREATED:20190731T223505Z
LAST-MODIFIED:20190731T223505Z
UID:1640-1566734400-1566741600@ebcla.org
SUMMARY:The Open Door
DESCRIPTION:A support and fellowship group for LGBT/Queer Christians and allies.
URL:https://ebcla.org/event/the-open-door-26/
LOCATION:Ministry Center Room 201/202
END:VEVENT
BEGIN:VEVENT
DTSTART;TZID=America/Los_Angeles:20190825T113000
DTEND;TZID=America/Los_Angeles:20190825T130000
DTSTAMP:20260424T072014
CREATED:20190731T225101Z
LAST-MODIFIED:20190731T225114Z
UID:1654-1566732600-1566738000@ebcla.org
SUMMARY:CBS Caregivers Support Group
DESCRIPTION:Join us as we Care for each other\, Bear each other’s burdens\, and Share our stories of the joys and challenges of caregiving for ill or aging loved ones.
URL:https://ebcla.org/event/cbs-caregivers-support-group/
LOCATION:Ministry Center Room 205
END:VEVENT
BEGIN:VEVENT
DTSTART;TZID=America/Los_Angeles:20190825T113000
DTEND;TZID=America/Los_Angeles:20190825T130000
DTSTAMP:20260424T072014
CREATED:20190731T223324Z
LAST-MODIFIED:20190731T224218Z
UID:1638-1566732600-1566738000@ebcla.org
SUMMARY:All Church Lunch
DESCRIPTION:Everyone is invited to stay after service for a time of eating together and fellowship. Menu: Teriyaki Burger. Suggested donation $3. 
URL:https://ebcla.org/event/all-church-lunch-27/
END:VEVENT
BEGIN:VEVENT
DTSTART;TZID=America/Los_Angeles:20190825T083000
DTEND;TZID=America/Los_Angeles:20190825T100000
DTSTAMP:20260424T072014
CREATED:20190819T163912Z
LAST-MODIFIED:20190819T163912Z
UID:1671-1566721800-1566727200@ebcla.org
SUMMARY:Recycling
DESCRIPTION:Support Boy Scout Troop 361 and bring aluminum cans\, #1 plastic\, and glass bottles for recycling.
URL:https://ebcla.org/event/recycling-15/
END:VEVENT
BEGIN:VEVENT
DTSTART;TZID=UTC:20190824T093000
DTEND;TZID=UTC:20190824T150000
DTSTAMP:20260424T072014
CREATED:20190719T013155Z
LAST-MODIFIED:20190731T211137Z
UID:1617-1566639000-1566658800@ebcla.org
SUMMARY:Leadership Summit
DESCRIPTION:We will gather as a leadership community for worship\, prayer\, and vision casting for the upcoming year. Ministry and small groups are encouraged to invite your leadership teams. RSVP: www.ebcla.org/summit2019. Childcare is provided.
URL:https://ebcla.org/event/leadership-summit-2/
END:VEVENT
BEGIN:VEVENT
DTSTART;TZID=America/Los_Angeles:20190821T120000
DTEND;TZID=America/Los_Angeles:20190821T133000
DTSTAMP:20260424T072014
CREATED:20190731T225005Z
LAST-MODIFIED:20190731T225005Z
UID:1652-1566388800-1566394200@ebcla.org
SUMMARY:TTT Lunch - Claremont
DESCRIPTION:The pastoral staff will be in Claremont to meet with all who work in and around that area. Contact Pastor Jonathan for details and to RSVP.
URL:https://ebcla.org/event/ttt-lunch-claremont/
END:VEVENT
BEGIN:VEVENT
DTSTART;TZID=America/Los_Angeles:20190818T120000
DTEND;TZID=America/Los_Angeles:20190818T133000
DTSTAMP:20260424T072014
CREATED:20190731T224858Z
LAST-MODIFIED:20190731T224858Z
UID:1650-1566129600-1566135000@ebcla.org
SUMMARY:The Open Door Parent Support Group
DESCRIPTION:A support group for parents of LGBT/Queer children.
URL:https://ebcla.org/event/open-door-parent-support-group-16/
LOCATION:Ministry Center Room 100/101
END:VEVENT
BEGIN:VEVENT
DTSTART;TZID=America/Los_Angeles:20190817T090000
DTEND;TZID=America/Los_Angeles:20190817T110000
DTSTAMP:20260424T072014
CREATED:20190731T224737Z
LAST-MODIFIED:20190731T224737Z
UID:1648-1566032400-1566039600@ebcla.org
SUMMARY:Prime Timer's Breakfast
DESCRIPTION:All Prime Timer’s (55+) are invited for a special breakfast and fellowship. Location: Miller and Jetty’s home. Contact Michi Tanioka for details and to RSVP. 
URL:https://ebcla.org/event/prime-timers-breakfast-9/
END:VEVENT
END:VCALENDAR