BEGIN:VCALENDAR
VERSION:2.0
PRODID:-//Evergreen - ECPv6.15.17.1//NONSGML v1.0//EN
CALSCALE:GREGORIAN
METHOD:PUBLISH
X-ORIGINAL-URL:https://ebcla.org
X-WR-CALDESC:Events for Evergreen
REFRESH-INTERVAL;VALUE=DURATION:PT1H
X-Robots-Tag:noindex
X-PUBLISHED-TTL:PT1H
BEGIN:VTIMEZONE
TZID:America/Los_Angeles
BEGIN:DAYLIGHT
TZOFFSETFROM:-0800
TZOFFSETTO:-0700
TZNAME:PDT
DTSTART:20180311T100000
END:DAYLIGHT
BEGIN:STANDARD
TZOFFSETFROM:-0700
TZOFFSETTO:-0800
TZNAME:PST
DTSTART:20181104T090000
END:STANDARD
BEGIN:DAYLIGHT
TZOFFSETFROM:-0800
TZOFFSETTO:-0700
TZNAME:PDT
DTSTART:20190310T100000
END:DAYLIGHT
BEGIN:STANDARD
TZOFFSETFROM:-0700
TZOFFSETTO:-0800
TZNAME:PST
DTSTART:20191103T090000
END:STANDARD
BEGIN:DAYLIGHT
TZOFFSETFROM:-0800
TZOFFSETTO:-0700
TZNAME:PDT
DTSTART:20200308T100000
END:DAYLIGHT
BEGIN:STANDARD
TZOFFSETFROM:-0700
TZOFFSETTO:-0800
TZNAME:PST
DTSTART:20201101T090000
END:STANDARD
END:VTIMEZONE
BEGIN:VTIMEZONE
TZID:UTC
BEGIN:STANDARD
TZOFFSETFROM:+0000
TZOFFSETTO:+0000
TZNAME:UTC
DTSTART:20180101T000000
END:STANDARD
END:VTIMEZONE
BEGIN:VEVENT
DTSTART;TZID=America/Los_Angeles:20190906T193000
DTEND;TZID=America/Los_Angeles:20190906T213000
DTSTAMP:20260424T103435
CREATED:20190819T165820Z
LAST-MODIFIED:20190819T165820Z
UID:1689-1567798200-1567805400@ebcla.org
SUMMARY:Youth Ministry Begins!
DESCRIPTION:EBCLA Youth ministry is starting up for the 2019-2020 school year. All youth in 5th-12th grade are invited to come out on Friday nights (7:30pm-9:30pm) and Sundays (8:45am-10:00am). Questions\, contact  Pastor Ryan or  Chloe Chow.
URL:https://ebcla.org/event/youth-ministry-begins-2/
LOCATION:EBCLA Sanctuary
END:VEVENT
BEGIN:VEVENT
DTSTART;TZID=America/Los_Angeles:20190901T160000
DTEND;TZID=America/Los_Angeles:20190908T090000
DTSTAMP:20260424T103435
CREATED:20190731T225458Z
LAST-MODIFIED:20190731T225458Z
UID:1656-1567353600-1567933200@ebcla.org
SUMMARY:Host Family Promise of SGV
DESCRIPTION:Help us show kingdom hospitality to Family Promise guests on the week of September 1-8. Volunteer individually or with a group. Be a part of hosting dinner\, staying overnight\, taking on breakfast duty\, or helping with set-up/take down. Sign up at the cart or contact John Chern for details.
URL:https://ebcla.org/event/host-family-promise-sgv-3/
END:VEVENT
BEGIN:VEVENT
DTSTART;TZID=America/Los_Angeles:20190825T120000
DTEND;TZID=America/Los_Angeles:20190825T140000
DTSTAMP:20260424T103435
CREATED:20190731T223505Z
LAST-MODIFIED:20190731T223505Z
UID:1640-1566734400-1566741600@ebcla.org
SUMMARY:The Open Door
DESCRIPTION:A support and fellowship group for LGBT/Queer Christians and allies.
URL:https://ebcla.org/event/the-open-door-26/
LOCATION:Ministry Center Room 201/202
END:VEVENT
BEGIN:VEVENT
DTSTART;TZID=America/Los_Angeles:20190825T113000
DTEND;TZID=America/Los_Angeles:20190825T130000
DTSTAMP:20260424T103435
CREATED:20190731T225101Z
LAST-MODIFIED:20190731T225114Z
UID:1654-1566732600-1566738000@ebcla.org
SUMMARY:CBS Caregivers Support Group
DESCRIPTION:Join us as we Care for each other\, Bear each other’s burdens\, and Share our stories of the joys and challenges of caregiving for ill or aging loved ones.
URL:https://ebcla.org/event/cbs-caregivers-support-group/
LOCATION:Ministry Center Room 205
END:VEVENT
BEGIN:VEVENT
DTSTART;TZID=America/Los_Angeles:20190825T113000
DTEND;TZID=America/Los_Angeles:20190825T130000
DTSTAMP:20260424T103435
CREATED:20190731T223324Z
LAST-MODIFIED:20190731T224218Z
UID:1638-1566732600-1566738000@ebcla.org
SUMMARY:All Church Lunch
DESCRIPTION:Everyone is invited to stay after service for a time of eating together and fellowship. Menu: Teriyaki Burger. Suggested donation $3. 
URL:https://ebcla.org/event/all-church-lunch-27/
END:VEVENT
BEGIN:VEVENT
DTSTART;TZID=America/Los_Angeles:20190825T083000
DTEND;TZID=America/Los_Angeles:20190825T100000
DTSTAMP:20260424T103435
CREATED:20190819T163912Z
LAST-MODIFIED:20190819T163912Z
UID:1671-1566721800-1566727200@ebcla.org
SUMMARY:Recycling
DESCRIPTION:Support Boy Scout Troop 361 and bring aluminum cans\, #1 plastic\, and glass bottles for recycling.
URL:https://ebcla.org/event/recycling-15/
END:VEVENT
BEGIN:VEVENT
DTSTART;TZID=UTC:20190824T093000
DTEND;TZID=UTC:20190824T150000
DTSTAMP:20260424T103435
CREATED:20190719T013155Z
LAST-MODIFIED:20190731T211137Z
UID:1617-1566639000-1566658800@ebcla.org
SUMMARY:Leadership Summit
DESCRIPTION:We will gather as a leadership community for worship\, prayer\, and vision casting for the upcoming year. Ministry and small groups are encouraged to invite your leadership teams. RSVP: www.ebcla.org/summit2019. Childcare is provided.
URL:https://ebcla.org/event/leadership-summit-2/
END:VEVENT
BEGIN:VEVENT
DTSTART;TZID=America/Los_Angeles:20190821T120000
DTEND;TZID=America/Los_Angeles:20190821T133000
DTSTAMP:20260424T103435
CREATED:20190731T225005Z
LAST-MODIFIED:20190731T225005Z
UID:1652-1566388800-1566394200@ebcla.org
SUMMARY:TTT Lunch - Claremont
DESCRIPTION:The pastoral staff will be in Claremont to meet with all who work in and around that area. Contact Pastor Jonathan for details and to RSVP.
URL:https://ebcla.org/event/ttt-lunch-claremont/
END:VEVENT
BEGIN:VEVENT
DTSTART;TZID=America/Los_Angeles:20190818T120000
DTEND;TZID=America/Los_Angeles:20190818T133000
DTSTAMP:20260424T103435
CREATED:20190731T224858Z
LAST-MODIFIED:20190731T224858Z
UID:1650-1566129600-1566135000@ebcla.org
SUMMARY:The Open Door Parent Support Group
DESCRIPTION:A support group for parents of LGBT/Queer children.
URL:https://ebcla.org/event/open-door-parent-support-group-16/
LOCATION:Ministry Center Room 100/101
END:VEVENT
BEGIN:VEVENT
DTSTART;TZID=America/Los_Angeles:20190817T090000
DTEND;TZID=America/Los_Angeles:20190817T110000
DTSTAMP:20260424T103435
CREATED:20190731T224737Z
LAST-MODIFIED:20190731T224737Z
UID:1648-1566032400-1566039600@ebcla.org
SUMMARY:Prime Timer's Breakfast
DESCRIPTION:All Prime Timer’s (55+) are invited for a special breakfast and fellowship. Location: Miller and Jetty’s home. Contact Michi Tanioka for details and to RSVP. 
URL:https://ebcla.org/event/prime-timers-breakfast-9/
END:VEVENT
BEGIN:VEVENT
DTSTART;TZID=UTC:20190811T120000
DTEND;TZID=UTC:20190811T140000
DTSTAMP:20260424T103435
CREATED:20190719T013335Z
LAST-MODIFIED:20190719T013335Z
UID:1619-1565524800-1565532000@ebcla.org
SUMMARY:The Open Door
DESCRIPTION:A support and fellowship group for LGBT/Queer Christians and allies.
URL:https://ebcla.org/event/the-open-door-25/
LOCATION:Ministry Center Room 201/202
END:VEVENT
BEGIN:VEVENT
DTSTART;TZID=America/Los_Angeles:20190811T114500
DTEND;TZID=America/Los_Angeles:20190811T133000
DTSTAMP:20260424T103435
CREATED:20190731T224439Z
LAST-MODIFIED:20190731T224439Z
UID:1646-1565523900-1565530200@ebcla.org
SUMMARY:The Dialogue
DESCRIPTION:A monthly meeting on LGBT+ inclusion from a conservative point of view.
URL:https://ebcla.org/event/the-dialogue-8/
LOCATION:Nagano Chapel
END:VEVENT
BEGIN:VEVENT
DTSTART;TZID=UTC:20190811T113000
DTEND;TZID=UTC:20190811T130000
DTSTAMP:20260424T103435
CREATED:20190719T012948Z
LAST-MODIFIED:20190719T012948Z
UID:1615-1565523000-1565528400@ebcla.org
SUMMARY:All-Church Lunch
DESCRIPTION:Everyone is invited to stay after service for a time of eating together and fellowship. Menu: Vietnamese Sandwiches. Suggested donation $3. 
URL:https://ebcla.org/event/all-church-lunch-26/
END:VEVENT
BEGIN:VEVENT
DTSTART;TZID=America/Los_Angeles:20190811T100000
DTEND;TZID=America/Los_Angeles:20190811T113000
DTSTAMP:20260424T103435
CREATED:20190731T223707Z
LAST-MODIFIED:20190731T223707Z
UID:1642-1565517600-1565523000@ebcla.org
SUMMARY:VBS Finale
DESCRIPTION:Join us during the 10am worship service\, to celebrate the finale of our VBS\, “The Incredible Race – Exploring God’s Love for the Nations!” There will be worship\, special performances\, and lunch after the service for $3 per person.
URL:https://ebcla.org/event/vbs-finale-2/
END:VEVENT
BEGIN:VEVENT
DTSTART;TZID=UTC:20190811T083000
DTEND;TZID=UTC:20190811T113000
DTSTAMP:20260424T103435
CREATED:20190618T060430Z
LAST-MODIFIED:20190731T225531Z
UID:1584-1565512200-1565523000@ebcla.org
SUMMARY:Vacation Bible School
DESCRIPTION:All children ages K to 4th grades are invited to “The Incredible Race\, Exploring God’s Love for the Nations”. There will be games\, dancing\, crafts\, snacks\, and more! Contact Kathy Hubbard for more information. 
URL:https://ebcla.org/event/vacation-bible-school-2019-08-11/
END:VEVENT
BEGIN:VEVENT
DTSTART;TZID=UTC:20190810T073000
DTEND;TZID=UTC:20190810T090000
DTSTAMP:20260424T103435
CREATED:20190719T013455Z
LAST-MODIFIED:20190719T013455Z
UID:1621-1565422200-1565427600@ebcla.org
SUMMARY:Men's Breakfast
DESCRIPTION:All men are invited to our monthly group to eat together and reflect on a book study. RSVP to Pastor Jonathan. 
URL:https://ebcla.org/event/mens-breakfast-17/
LOCATION:Colonial Kitchen\, 1110 Huntington Dr\, San Marino\, California\, 91108
END:VEVENT
BEGIN:VEVENT
DTSTART;TZID=America/Los_Angeles:20190804T113000
DTEND;TZID=America/Los_Angeles:20190804T130000
DTSTAMP:20260424T103435
CREATED:20190731T224046Z
LAST-MODIFIED:20190731T224046Z
UID:1643-1564918200-1564923600@ebcla.org
SUMMARY:Creatives Gathering
DESCRIPTION:If you are an artist\, designer\, writer\, photographer\, musician\, fashion designer\, film maker\, or anything else creative\, come join Pastor Jason for an open meeting to connect with other creatives within our church family! Contact: Pastor Jason
URL:https://ebcla.org/event/creatives-gathering-6/
LOCATION:Ministry Center Room 200
END:VEVENT
BEGIN:VEVENT
DTSTART;TZID=UTC:20190804T083000
DTEND;TZID=UTC:20190804T113000
DTSTAMP:20260424T103435
CREATED:20190618T060430Z
LAST-MODIFIED:20190618T060430Z
UID:1583-1564907400-1564918200@ebcla.org
SUMMARY:Vacation Bible School
DESCRIPTION:All children ages K to 4th grades are invited to “The Incredible Race\, Exploring God’s Love for the Nations”. There will be games\, dancing\, crafts\, snacks\, and more! Contact Kathy Hubbard for more information. 
URL:https://ebcla.org/event/vacation-bible-school-2019-08-04/
END:VEVENT
BEGIN:VEVENT
DTSTART;TZID=UTC:20190728T133000
DTEND;TZID=UTC:20190728T143000
DTSTAMP:20260424T103435
CREATED:20190719T013634Z
LAST-MODIFIED:20190719T013634Z
UID:1623-1564320600-1564324200@ebcla.org
SUMMARY:CBS Caregiver Support Group
DESCRIPTION:Join us as we Care for each other\, Bear each other’s burdens\, and Share our stories of the joys and challenges of caregiving for ill or aging loved ones.
URL:https://ebcla.org/event/cbs-caregiver-support-group-3/
LOCATION:Ministry Center Room 205
END:VEVENT
BEGIN:VEVENT
DTSTART;TZID=UTC:20190728T120000
DTEND;TZID=UTC:20190728T140000
DTSTAMP:20260424T103435
CREATED:20190618T054927Z
LAST-MODIFIED:20190618T054927Z
UID:1560-1564315200-1564322400@ebcla.org
SUMMARY:The Open Door
DESCRIPTION:A support and fellowship group for LGBT/Queer Christians and allies.
URL:https://ebcla.org/event/the-open-door-24/
LOCATION:Ministry Center Room 201/202
END:VEVENT
BEGIN:VEVENT
DTSTART;TZID=UTC:20190728T120000
DTEND;TZID=UTC:20190728T133000
DTSTAMP:20260424T103435
CREATED:20190618T055509Z
LAST-MODIFIED:20190719T012742Z
UID:1568-1564315200-1564320600@ebcla.org
SUMMARY:Quarterly Congregational Meeting
DESCRIPTION:Come join us for lunch (Chili Dogs $3) and hear what has been happening the past three months. We will affirm a new deacon and discuss the payoff of our building loan (due next May). Thank you for your support and commitment to Evergreen-LA.
URL:https://ebcla.org/event/quarterly-congregational-meeting-5/
LOCATION:EBCLA Ministry Center Fellowship Hall
END:VEVENT
BEGIN:VEVENT
DTSTART;TZID=UTC:20190728T113000
DTEND;TZID=UTC:20190728T130000
DTSTAMP:20260424T103435
CREATED:20190618T055127Z
LAST-MODIFIED:20190719T012759Z
UID:1564-1564313400-1564318800@ebcla.org
SUMMARY:All Church-Lunch
DESCRIPTION:Everyone is invited to stay after service for a time of eating together and fellowship. Menu: Chili Dogs. Suggested donation $3. 
URL:https://ebcla.org/event/all-church-lunch-25/
LOCATION:EBCLA Ministry Center Fellowship Hall
END:VEVENT
BEGIN:VEVENT
DTSTART;TZID=UTC:20190728T083000
DTEND;TZID=UTC:20190728T113000
DTSTAMP:20260424T103435
CREATED:20190618T060430Z
LAST-MODIFIED:20190618T060430Z
UID:1582-1564302600-1564313400@ebcla.org
SUMMARY:Vacation Bible School
DESCRIPTION:All children ages K to 4th grades are invited to “The Incredible Race\, Exploring God’s Love for the Nations”. There will be games\, dancing\, crafts\, snacks\, and more! Contact Kathy Hubbard for more information. 
URL:https://ebcla.org/event/vacation-bible-school-2019-07-28/
END:VEVENT
BEGIN:VEVENT
DTSTART;TZID=UTC:20190728T083000
DTEND;TZID=UTC:20190728T100000
DTSTAMP:20260424T103435
CREATED:20190703T041713Z
LAST-MODIFIED:20190703T041713Z
UID:1600-1564302600-1564308000@ebcla.org
SUMMARY:Recycling
DESCRIPTION:Support Boy Scout Troop 361 and bring aluminum cans\, #1 plastic\, and glass bottles for recycling.
URL:https://ebcla.org/event/recycling-14/
END:VEVENT
BEGIN:VEVENT
DTSTART;TZID=UTC:20190725T193000
DTEND;TZID=UTC:20190725T220000
DTSTAMP:20260424T103435
CREATED:20190618T053931Z
LAST-MODIFIED:20190618T053931Z
UID:1544-1564083000-1564092000@ebcla.org
SUMMARY:College/Post College Small Group
DESCRIPTION:Join us for a summer small group for ages 18-24. We will be learning from the book of Ruth. Contact: Pastor Ryan
URL:https://ebcla.org/event/college-post-college-small-group-2019-07-25/
LOCATION:Cafe Evergreen
END:VEVENT
BEGIN:VEVENT
DTSTART;TZID=UTC:20190724T120000
DTEND;TZID=UTC:20190724T133000
DTSTAMP:20260424T103435
CREATED:20190618T055800Z
LAST-MODIFIED:20190711T054228Z
UID:1570-1563969600-1563975000@ebcla.org
SUMMARY:TTT - Monterey Park
DESCRIPTION:The pastoral staff will be in Monterey Park to meet with all who work in and around that area. Contact Pastor Jonathan for details and to RSVP.
URL:https://ebcla.org/event/ttt-glendale-burbank/
LOCATION:Mama Lu’s\, 501 West Garvey Avenue\, Monterey Park\, CA\, United States
END:VEVENT
BEGIN:VEVENT
DTSTART;TZID=UTC:20190721T120000
DTEND;TZID=UTC:20190721T133000
DTSTAMP:20260424T103435
CREATED:20190618T060055Z
LAST-MODIFIED:20190618T060055Z
UID:1575-1563710400-1563715800@ebcla.org
SUMMARY:The Open Door Parent Support Group
DESCRIPTION:A support group for parents of LGBT/Queer children.
URL:https://ebcla.org/event/open-door-parent-support-group-15/
LOCATION:Ministry Center Room 100/101
END:VEVENT
BEGIN:VEVENT
DTSTART;TZID=UTC:20190721T114500
DTEND;TZID=UTC:20190721T133000
DTSTAMP:20260424T103435
CREATED:20190618T055409Z
LAST-MODIFIED:20190711T053907Z
UID:1566-1563709500-1563715800@ebcla.org
SUMMARY:The Dialogue
DESCRIPTION:A monthly meeting on LGBT+ inclusion from a conservative point of view.
URL:https://ebcla.org/event/the-dialogue-7/
LOCATION:Nagano Chapel
END:VEVENT
BEGIN:VEVENT
DTSTART;TZID=UTC:20190721T083000
DTEND;TZID=UTC:20190721T113000
DTSTAMP:20260424T103435
CREATED:20190618T060430Z
LAST-MODIFIED:20190618T060430Z
UID:1581-1563697800-1563708600@ebcla.org
SUMMARY:Vacation Bible School
DESCRIPTION:All children ages K to 4th grades are invited to “The Incredible Race\, Exploring God’s Love for the Nations”. There will be games\, dancing\, crafts\, snacks\, and more! Contact Kathy Hubbard for more information. 
URL:https://ebcla.org/event/vacation-bible-school-2019-07-21/
END:VEVENT
BEGIN:VEVENT
DTSTART;TZID=UTC:20190720T090000
DTEND;TZID=UTC:20190720T110000
DTSTAMP:20260424T103435
CREATED:20190618T055938Z
LAST-MODIFIED:20190618T055938Z
UID:1573-1563613200-1563620400@ebcla.org
SUMMARY:Prime Timer's Breakfast
DESCRIPTION:All Prime Timer’s (55+) are invited for a special breakfast and fellowship. Contact Michi Tanioka for details and to RSVP. 
URL:https://ebcla.org/event/prime-timers-breakfast-8/
LOCATION:EBCLA Ministry Center Fellowship Hall
END:VEVENT
END:VCALENDAR