BEGIN:VCALENDAR
VERSION:2.0
PRODID:-//Evergreen - ECPv6.15.17.1//NONSGML v1.0//EN
CALSCALE:GREGORIAN
METHOD:PUBLISH
X-ORIGINAL-URL:https://ebcla.org
X-WR-CALDESC:Events for Evergreen
REFRESH-INTERVAL;VALUE=DURATION:PT1H
X-Robots-Tag:noindex
X-PUBLISHED-TTL:PT1H
BEGIN:VTIMEZONE
TZID:America/Los_Angeles
BEGIN:DAYLIGHT
TZOFFSETFROM:-0800
TZOFFSETTO:-0700
TZNAME:PDT
DTSTART:20200308T100000
END:DAYLIGHT
BEGIN:STANDARD
TZOFFSETFROM:-0700
TZOFFSETTO:-0800
TZNAME:PST
DTSTART:20201101T090000
END:STANDARD
BEGIN:DAYLIGHT
TZOFFSETFROM:-0800
TZOFFSETTO:-0700
TZNAME:PDT
DTSTART:20210314T100000
END:DAYLIGHT
BEGIN:STANDARD
TZOFFSETFROM:-0700
TZOFFSETTO:-0800
TZNAME:PST
DTSTART:20211107T090000
END:STANDARD
BEGIN:DAYLIGHT
TZOFFSETFROM:-0800
TZOFFSETTO:-0700
TZNAME:PDT
DTSTART:20220313T100000
END:DAYLIGHT
BEGIN:STANDARD
TZOFFSETFROM:-0700
TZOFFSETTO:-0800
TZNAME:PST
DTSTART:20221106T090000
END:STANDARD
END:VTIMEZONE
BEGIN:VEVENT
DTSTART;TZID=America/Los_Angeles:20210226T193000
DTEND;TZID=America/Los_Angeles:20210226T210000
DTSTAMP:20260419T083110
CREATED:20201209T212511Z
LAST-MODIFIED:20210312T010252Z
UID:3868-1614367800-1614373200@ebcla.org
SUMMARY:Youth Group
DESCRIPTION:All students in 5th-12th grade are invited to join the Youth Group on Friday nights! For more information\, please contact Pastor Ryan
URL:https://ebcla.org/event/youth-group-2021-02-26/
END:VEVENT
BEGIN:VEVENT
DTSTART;TZID=America/Los_Angeles:20210223T190000
DTEND;TZID=America/Los_Angeles:20210223T203000
DTSTAMP:20260419T083110
CREATED:20200921T175053Z
LAST-MODIFIED:20200921T175053Z
UID:3875-1614106800-1614112200@ebcla.org
SUMMARY:Youth Group Check-In [ONLINE]
DESCRIPTION:If you’re in 5th-12th grade\, come play games and hang out with us! For more information\, please contact  Pastor Ryan
URL:https://ebcla.org/event/youth-group-check-in-online-2020-10-14-2021-02-23/
END:VEVENT
BEGIN:VEVENT
DTSTART;TZID=America/Los_Angeles:20210222T120000
DTEND;TZID=America/Los_Angeles:20210222T130000
DTSTAMP:20260419T083110
CREATED:20200911T232719Z
LAST-MODIFIED:20200911T232719Z
UID:3815-1613995200-1613998800@ebcla.org
SUMMARY:Prayer Meeting [ONLINE]
DESCRIPTION:Join us for our weekly prayer meeting! For Zoom details\, please contact info@ebcla.org
URL:https://ebcla.org/event/prayer-meeting-online-3-2021-02-22/
END:VEVENT
BEGIN:VEVENT
DTSTART;TZID=America/Los_Angeles:20210221T123000
DTEND;TZID=America/Los_Angeles:20210221T140000
DTSTAMP:20260419T083110
CREATED:20201224T235103Z
LAST-MODIFIED:20210312T001459Z
UID:3827-1613910600-1613916000@ebcla.org
SUMMARY:TOD Parent Support Group
DESCRIPTION:A support group for parents of LGBT/Queer children. Contact info@ebcla.org.
URL:https://ebcla.org/event/tod-parent-support-group-2-2021-02-21/
END:VEVENT
BEGIN:VEVENT
DTSTART;TZID=America/Los_Angeles:20210221T083000
DTEND;TZID=America/Los_Angeles:20210221T093000
DTSTAMP:20260419T083110
CREATED:20210105T010114Z
LAST-MODIFIED:20210105T010114Z
UID:3751-1613896200-1613899800@ebcla.org
SUMMARY:CLASS Community
DESCRIPTION:This upcoming sequence titled “Anchored” will introduce us to some of the Baptist distinctives of faith. Evergreen-LA is an American Baptist church and we are connected to a relatively short history within the longer Christian/Protestant tradition. This journey will help us re-visit various anchors of our faith and encourage us to grow deeper. Themes which we may cover include: Lordship of Jesus Christ\, Authority of Scripture\, Soul Freedom (private interpretation)\, Believer’s Baptism\, Separation of Church and State\, Local Church Autonomy and Spiritual Unity\, Missions. Contact Pastor Jonathan for more information.
URL:https://ebcla.org/event/class-community-14-2021-02-21/
END:VEVENT
BEGIN:VEVENT
DTSTART;TZID=America/Los_Angeles:20210220T100000
DTEND;TZID=America/Los_Angeles:20210220T120000
DTSTAMP:20260419T083110
CREATED:20210211T175905Z
LAST-MODIFIED:20210211T180215Z
UID:3861-1613815200-1613822400@ebcla.org
SUMMARY:Lunar New Year Drive Through and Recycling
DESCRIPTION:Contact info@ebcla.org for more info and to RSVP.
URL:https://ebcla.org/event/lunar-new-year-drive-through-and-recycling/
END:VEVENT
BEGIN:VEVENT
DTSTART;TZID=America/Los_Angeles:20210220T083000
DTEND;TZID=America/Los_Angeles:20210220T093000
DTSTAMP:20260419T083110
CREATED:20201202T191704Z
LAST-MODIFIED:20210312T001242Z
UID:3826-1613809800-1613813400@ebcla.org
SUMMARY:Prime Timers Zoom Breakfast
DESCRIPTION:All Prime Timer’s (55+) are invited to the Prime Timer’s Breakfast over zoom! You are welcome to BYOB (Bring Your Own Breakfast) or just come on-line for the fellowship. Contact info@ebcla.org for Zoom details.
URL:https://ebcla.org/event/prime-timers-zoom-breakfast-2021-02-20/
END:VEVENT
BEGIN:VEVENT
DTSTART;TZID=America/Los_Angeles:20210219T193000
DTEND;TZID=America/Los_Angeles:20210219T210000
DTSTAMP:20260419T083110
CREATED:20201209T212511Z
LAST-MODIFIED:20210312T010229Z
UID:3867-1613763000-1613768400@ebcla.org
SUMMARY:Youth Group
DESCRIPTION:All students in 5th-12th grade are invited to join the Youth Group on Friday nights! For more information\, please contact Pastor Ryan
URL:https://ebcla.org/event/youth-group-2021-02-19/
END:VEVENT
BEGIN:VEVENT
DTSTART;TZID=America/Los_Angeles:20210217T193000
DTEND;TZID=America/Los_Angeles:20210217T203000
DTSTAMP:20260419T083110
CREATED:20210201T190010Z
LAST-MODIFIED:20210201T190010Z
UID:3824-1613590200-1613593800@ebcla.org
SUMMARY:Ash Wednesday Service
DESCRIPTION:Prepare for our 2021 Lenten journey by participating in our contemplative service over Zoom. Contact info@ebcla.org for Zoom info.
URL:https://ebcla.org/event/ash-wednesday-service-4/
END:VEVENT
BEGIN:VEVENT
DTSTART;TZID=America/Los_Angeles:20210216T190000
DTEND;TZID=America/Los_Angeles:20210216T203000
DTSTAMP:20260419T083110
CREATED:20200921T175053Z
LAST-MODIFIED:20200921T175053Z
UID:3874-1613502000-1613507400@ebcla.org
SUMMARY:Youth Group Check-In [ONLINE]
DESCRIPTION:If you’re in 5th-12th grade\, come play games and hang out with us! For more information\, please contact  Pastor Ryan
URL:https://ebcla.org/event/youth-group-check-in-online-2020-10-14-2021-02-16/
END:VEVENT
BEGIN:VEVENT
DTSTART;TZID=America/Los_Angeles:20210215T120000
DTEND;TZID=America/Los_Angeles:20210215T130000
DTSTAMP:20260419T083110
CREATED:20200911T232719Z
LAST-MODIFIED:20200911T232719Z
UID:3814-1613390400-1613394000@ebcla.org
SUMMARY:Prayer Meeting [ONLINE]
DESCRIPTION:Join us for our weekly prayer meeting! For Zoom details\, please contact info@ebcla.org
URL:https://ebcla.org/event/prayer-meeting-online-3-2021-02-15/
END:VEVENT
BEGIN:VEVENT
DTSTART;TZID=America/Los_Angeles:20210214T110000
DTEND;TZID=America/Los_Angeles:20210214T123000
DTSTAMP:20260419T083110
CREATED:20200513T175606Z
LAST-MODIFIED:20210312T001039Z
UID:3820-1613300400-1613305800@ebcla.org
SUMMARY:The Open Door [ONLINE]
DESCRIPTION:A support and fellowship group for LGBT/Queer Christians and allies. Contact Pastor Ryan for more information.
URL:https://ebcla.org/event/open-door-online-10-2021-02-14/
END:VEVENT
BEGIN:VEVENT
DTSTART;TZID=America/Los_Angeles:20210214T110000
DTEND;TZID=America/Los_Angeles:20210214T120000
DTSTAMP:20260419T083110
CREATED:20201202T184039Z
LAST-MODIFIED:20201202T184039Z
UID:3796-1613300400-1613304000@ebcla.org
SUMMARY:Caregivers Support Group
DESCRIPTION:Join us as we Care for each other\, Bear each other’s burdens\, and Share our stories of the joys and challenges of caregiving for ill or aging loved ones. Contact Sandra Jung for more information.
URL:https://ebcla.org/event/caregivers-support-group-2-2021-02-14/
END:VEVENT
BEGIN:VEVENT
DTSTART;TZID=America/Los_Angeles:20210214T110000
DTEND;TZID=America/Los_Angeles:20210214T120000
DTSTAMP:20260419T083110
CREATED:20201028T211807Z
LAST-MODIFIED:20210312T000916Z
UID:3816-1613300400-1613304000@ebcla.org
SUMMARY:Parent Connection [ONLINE]
DESCRIPTION:Community for parents who are expecting or who have kids ages 0-30. Share with and learn from other parents! New topics every week. Contact Shirley Lew for more information.
URL:https://ebcla.org/event/parent-connection-online-10-2021-02-14/
END:VEVENT
BEGIN:VEVENT
DTSTART;TZID=America/Los_Angeles:20210214T090000
DTEND;TZID=America/Los_Angeles:20210214T100000
DTSTAMP:20260419T083110
CREATED:20201019T210526Z
LAST-MODIFIED:20210311T235655Z
UID:3794-1613293200-1613296800@ebcla.org
SUMMARY:The Journey [ONLINE]
DESCRIPTION:All parents of children (of any age) with special needs are invited to join this monthly group. Contact Pastor Julie for more information.
URL:https://ebcla.org/event/the-journey-online-4-2021-02-14/
END:VEVENT
BEGIN:VEVENT
DTSTART;TZID=America/Los_Angeles:20210214T083000
DTEND;TZID=America/Los_Angeles:20210214T093000
DTSTAMP:20260419T083110
CREATED:20210105T010114Z
LAST-MODIFIED:20210105T010114Z
UID:3750-1613291400-1613295000@ebcla.org
SUMMARY:CLASS Community
DESCRIPTION:This upcoming sequence titled “Anchored” will introduce us to some of the Baptist distinctives of faith. Evergreen-LA is an American Baptist church and we are connected to a relatively short history within the longer Christian/Protestant tradition. This journey will help us re-visit various anchors of our faith and encourage us to grow deeper. Themes which we may cover include: Lordship of Jesus Christ\, Authority of Scripture\, Soul Freedom (private interpretation)\, Believer’s Baptism\, Separation of Church and State\, Local Church Autonomy and Spiritual Unity\, Missions. Contact Pastor Jonathan for more information.
URL:https://ebcla.org/event/class-community-14-2021-02-14/
END:VEVENT
BEGIN:VEVENT
DTSTART;TZID=America/Los_Angeles:20210213T083000
DTEND;TZID=America/Los_Angeles:20210213T093000
DTSTAMP:20260419T083110
CREATED:20201028T220010Z
LAST-MODIFIED:20210311T235518Z
UID:3791-1613205000-1613208600@ebcla.org
SUMMARY:Men's Breakfast
DESCRIPTION:All men are invited to our monthly group to eat together and reflect on a book study.  For details and to RSVP\, please contact Pastor Jonathan. 
URL:https://ebcla.org/event/mens-breakfast-26-2021-02-13/
END:VEVENT
BEGIN:VEVENT
DTSTART;TZID=America/Los_Angeles:20210212T193000
DTEND;TZID=America/Los_Angeles:20210213T235900
DTSTAMP:20260419T083110
CREATED:20210114T212841Z
LAST-MODIFIED:20210201T184729Z
UID:3784-1613158200-1613260740@ebcla.org
SUMMARY:Youth Retreat - Grounded 12/12-12/13/21
DESCRIPTION:All Youth 6th-12th grade are invited to our Virtual Youth Retreat. The theme is Grounded\, focusing on Matthew 13. Cost: $30. Pick up materials at church on 12/12. Parents\, click here to use the giving portal to register your student. Contact Pastor Ryan for more information.  \n 
URL:https://ebcla.org/event/youth-retreat-grounded-12-12-12-13-21/
END:VEVENT
BEGIN:VEVENT
DTSTART;TZID=America/Los_Angeles:20210212T193000
DTEND;TZID=America/Los_Angeles:20210212T210000
DTSTAMP:20260419T083110
CREATED:20201209T212511Z
LAST-MODIFIED:20210312T010229Z
UID:3866-1613158200-1613163600@ebcla.org
SUMMARY:Youth Group
DESCRIPTION:All students in 5th-12th grade are invited to join the Youth Group on Friday nights! For more information\, please contact Pastor Ryan
URL:https://ebcla.org/event/youth-group-2021-02-12/
END:VEVENT
BEGIN:VEVENT
DTSTART;TZID=America/Los_Angeles:20210209T190000
DTEND;TZID=America/Los_Angeles:20210209T203000
DTSTAMP:20260419T083110
CREATED:20200921T175053Z
LAST-MODIFIED:20200921T175053Z
UID:3873-1612897200-1612902600@ebcla.org
SUMMARY:Youth Group Check-In [ONLINE]
DESCRIPTION:If you’re in 5th-12th grade\, come play games and hang out with us! For more information\, please contact  Pastor Ryan
URL:https://ebcla.org/event/youth-group-check-in-online-2020-10-14-2021-02-09/
END:VEVENT
BEGIN:VEVENT
DTSTART;TZID=America/Los_Angeles:20210208T120000
DTEND;TZID=America/Los_Angeles:20210208T130000
DTSTAMP:20260419T083110
CREATED:20200911T232719Z
LAST-MODIFIED:20200911T232719Z
UID:3813-1612785600-1612789200@ebcla.org
SUMMARY:Prayer Meeting [ONLINE]
DESCRIPTION:Join us for our weekly prayer meeting! For Zoom details\, please contact info@ebcla.org
URL:https://ebcla.org/event/prayer-meeting-online-3-2021-02-08/
END:VEVENT
BEGIN:VEVENT
DTSTART;TZID=America/Los_Angeles:20210207T143000
DTEND;TZID=America/Los_Angeles:20210207T170000
DTSTAMP:20260419T083110
CREATED:20210201T184622Z
LAST-MODIFIED:20210201T184622Z
UID:3809-1612708200-1612717200@ebcla.org
SUMMARY:Men’s Ministry Super Bowl pre-game watch party
DESCRIPTION:We invite everyone to connect before the start of Super Bowl LV. BYOF (bring your own food). All who come will participate in our annual quarter score contest (with prizes!). We will announce the winners at a brief post-game watch. To RSVP and for Zoom info\, contact Pastor Jonathan
URL:https://ebcla.org/event/mens-ministry-super-bowl-pre-game-watch-party/
END:VEVENT
BEGIN:VEVENT
DTSTART;TZID=America/Los_Angeles:20210207T100000
DTEND;TZID=America/Los_Angeles:20210207T110000
DTSTAMP:20260419T083110
CREATED:20201124T192326Z
LAST-MODIFIED:20210312T004331Z
UID:3793-1612692000-1612695600@ebcla.org
SUMMARY:Zoom Communion Worship Service [ONLINE]
DESCRIPTION:Join us for a church-wide Zoom service! Please come to service with your own bread and cup for Communion. Contact info@ebcla.org for Zoom info. If you can’t join us on Zoom\, you can still enjoy the service through Facebook or YouTube.
URL:https://ebcla.org/event/zoom-sunday-worship-service-online-2021-02-07/
END:VEVENT
BEGIN:VEVENT
DTSTART;TZID=America/Los_Angeles:20210207T083000
DTEND;TZID=America/Los_Angeles:20210207T093000
DTSTAMP:20260419T083110
CREATED:20210105T010114Z
LAST-MODIFIED:20210105T010114Z
UID:3749-1612686600-1612690200@ebcla.org
SUMMARY:CLASS Community
DESCRIPTION:This upcoming sequence titled “Anchored” will introduce us to some of the Baptist distinctives of faith. Evergreen-LA is an American Baptist church and we are connected to a relatively short history within the longer Christian/Protestant tradition. This journey will help us re-visit various anchors of our faith and encourage us to grow deeper. Themes which we may cover include: Lordship of Jesus Christ\, Authority of Scripture\, Soul Freedom (private interpretation)\, Believer’s Baptism\, Separation of Church and State\, Local Church Autonomy and Spiritual Unity\, Missions. Contact Pastor Jonathan for more information.
URL:https://ebcla.org/event/class-community-14-2021-02-07/
END:VEVENT
BEGIN:VEVENT
DTSTART;TZID=America/Los_Angeles:20210205T193000
DTEND;TZID=America/Los_Angeles:20210205T210000
DTSTAMP:20260419T083110
CREATED:20201209T212511Z
LAST-MODIFIED:20210312T010229Z
UID:3865-1612553400-1612558800@ebcla.org
SUMMARY:Youth Group
DESCRIPTION:All students in 5th-12th grade are invited to join the Youth Group on Friday nights! For more information\, please contact Pastor Ryan
URL:https://ebcla.org/event/youth-group-2021-02-05/
END:VEVENT
BEGIN:VEVENT
DTSTART;TZID=America/Los_Angeles:20210202T190000
DTEND;TZID=America/Los_Angeles:20210202T203000
DTSTAMP:20260419T083110
CREATED:20200921T175053Z
LAST-MODIFIED:20200921T175053Z
UID:3872-1612292400-1612297800@ebcla.org
SUMMARY:Youth Group Check-In [ONLINE]
DESCRIPTION:If you’re in 5th-12th grade\, come play games and hang out with us! For more information\, please contact  Pastor Ryan
URL:https://ebcla.org/event/youth-group-check-in-online-2020-10-14-2021-02-02/
END:VEVENT
BEGIN:VEVENT
DTSTART;TZID=America/Los_Angeles:20210201T120000
DTEND;TZID=America/Los_Angeles:20210201T130000
DTSTAMP:20260419T083110
CREATED:20200911T232719Z
LAST-MODIFIED:20200911T232719Z
UID:3812-1612180800-1612184400@ebcla.org
SUMMARY:Prayer Meeting [ONLINE]
DESCRIPTION:Join us for our weekly prayer meeting! For Zoom details\, please contact info@ebcla.org
URL:https://ebcla.org/event/prayer-meeting-online-3-2021-02-01/
END:VEVENT
BEGIN:VEVENT
DTSTART;TZID=America/Los_Angeles:20210131T083000
DTEND;TZID=America/Los_Angeles:20210131T093000
DTSTAMP:20260419T083110
CREATED:20210105T010114Z
LAST-MODIFIED:20210105T010114Z
UID:3748-1612081800-1612085400@ebcla.org
SUMMARY:CLASS Community
DESCRIPTION:This upcoming sequence titled “Anchored” will introduce us to some of the Baptist distinctives of faith. Evergreen-LA is an American Baptist church and we are connected to a relatively short history within the longer Christian/Protestant tradition. This journey will help us re-visit various anchors of our faith and encourage us to grow deeper. Themes which we may cover include: Lordship of Jesus Christ\, Authority of Scripture\, Soul Freedom (private interpretation)\, Believer’s Baptism\, Separation of Church and State\, Local Church Autonomy and Spiritual Unity\, Missions. Contact Pastor Jonathan for more information.
URL:https://ebcla.org/event/class-community-14-2021-01-31/
END:VEVENT
BEGIN:VEVENT
DTSTART;TZID=America/Los_Angeles:20210130T110000
DTEND;TZID=America/Los_Angeles:20210130T130000
DTSTAMP:20260419T083110
CREATED:20201028T230031Z
LAST-MODIFIED:20210111T192230Z
UID:3772-1612004400-1612011600@ebcla.org
SUMMARY:Rosemead Churches Community Food Distribution
DESCRIPTION:In response to the physical needs in our Rosemead community\, Branches Christian Ministries\, Evergreen Baptist Church\, Mission Community United Methodist Church\, and Open Bible Church are co-hosting a drive through food distribution on Saturday\, January 30 at 11:00am at Open Bible Church\, 7915 Hellman Ave\, Rosemead\, CA 91770. Contact info@ebcla.org for more information.
URL:https://ebcla.org/event/rosemead-churches-community-food-distribution-2-2021-01-30/
END:VEVENT
BEGIN:VEVENT
DTSTART;TZID=America/Los_Angeles:20210129T193000
DTEND;TZID=America/Los_Angeles:20210129T210000
DTSTAMP:20260419T083110
CREATED:20201209T212511Z
LAST-MODIFIED:20210312T010229Z
UID:3657-1611948600-1611954000@ebcla.org
SUMMARY:Youth Group
DESCRIPTION:All students in 5th-12th grade are invited to join the Youth Group on Friday nights! For more information\, please contact Pastor Ryan
URL:https://ebcla.org/event/youth-group-2021-01-29/
END:VEVENT
END:VCALENDAR