BEGIN:VCALENDAR
VERSION:2.0
PRODID:-//Evergreen - ECPv6.15.17.1//NONSGML v1.0//EN
CALSCALE:GREGORIAN
METHOD:PUBLISH
X-WR-CALNAME:Evergreen
X-ORIGINAL-URL:https://ebcla.org
X-WR-CALDESC:Events for Evergreen
REFRESH-INTERVAL;VALUE=DURATION:PT1H
X-Robots-Tag:noindex
X-PUBLISHED-TTL:PT1H
BEGIN:VTIMEZONE
TZID:UTC
BEGIN:STANDARD
TZOFFSETFROM:+0000
TZOFFSETTO:+0000
TZNAME:UTC
DTSTART:20180101T000000
END:STANDARD
END:VTIMEZONE
BEGIN:VEVENT
DTSTART;TZID=UTC:20190728T120000
DTEND;TZID=UTC:20190728T133000
DTSTAMP:20260424T135701
CREATED:20190618T055509Z
LAST-MODIFIED:20190719T012742Z
UID:1568-1564315200-1564320600@ebcla.org
SUMMARY:Quarterly Congregational Meeting
DESCRIPTION:Come join us for lunch (Chili Dogs $3) and hear what has been happening the past three months. We will affirm a new deacon and discuss the payoff of our building loan (due next May). Thank you for your support and commitment to Evergreen-LA.
URL:https://ebcla.org/event/quarterly-congregational-meeting-5/
LOCATION:EBCLA Ministry Center Fellowship Hall
END:VEVENT
BEGIN:VEVENT
DTSTART;TZID=UTC:20190728T113000
DTEND;TZID=UTC:20190728T130000
DTSTAMP:20260424T135701
CREATED:20190618T055127Z
LAST-MODIFIED:20190719T012759Z
UID:1564-1564313400-1564318800@ebcla.org
SUMMARY:All Church-Lunch
DESCRIPTION:Everyone is invited to stay after service for a time of eating together and fellowship. Menu: Chili Dogs. Suggested donation $3. 
URL:https://ebcla.org/event/all-church-lunch-25/
LOCATION:EBCLA Ministry Center Fellowship Hall
END:VEVENT
BEGIN:VEVENT
DTSTART;TZID=UTC:20190728T083000
DTEND;TZID=UTC:20190728T113000
DTSTAMP:20260424T135701
CREATED:20190618T060430Z
LAST-MODIFIED:20190618T060430Z
UID:1582-1564302600-1564313400@ebcla.org
SUMMARY:Vacation Bible School
DESCRIPTION:All children ages K to 4th grades are invited to “The Incredible Race\, Exploring God’s Love for the Nations”. There will be games\, dancing\, crafts\, snacks\, and more! Contact Kathy Hubbard for more information. 
URL:https://ebcla.org/event/vacation-bible-school-2019-07-28/
END:VEVENT
BEGIN:VEVENT
DTSTART;TZID=UTC:20190728T083000
DTEND;TZID=UTC:20190728T100000
DTSTAMP:20260424T135701
CREATED:20190703T041713Z
LAST-MODIFIED:20190703T041713Z
UID:1600-1564302600-1564308000@ebcla.org
SUMMARY:Recycling
DESCRIPTION:Support Boy Scout Troop 361 and bring aluminum cans\, #1 plastic\, and glass bottles for recycling.
URL:https://ebcla.org/event/recycling-14/
END:VEVENT
BEGIN:VEVENT
DTSTART;TZID=UTC:20190725T193000
DTEND;TZID=UTC:20190725T220000
DTSTAMP:20260424T135701
CREATED:20190618T053931Z
LAST-MODIFIED:20190618T053931Z
UID:1544-1564083000-1564092000@ebcla.org
SUMMARY:College/Post College Small Group
DESCRIPTION:Join us for a summer small group for ages 18-24. We will be learning from the book of Ruth. Contact: Pastor Ryan
URL:https://ebcla.org/event/college-post-college-small-group-2019-07-25/
LOCATION:Cafe Evergreen
END:VEVENT
BEGIN:VEVENT
DTSTART;TZID=UTC:20190724T120000
DTEND;TZID=UTC:20190724T133000
DTSTAMP:20260424T135701
CREATED:20190618T055800Z
LAST-MODIFIED:20190711T054228Z
UID:1570-1563969600-1563975000@ebcla.org
SUMMARY:TTT - Monterey Park
DESCRIPTION:The pastoral staff will be in Monterey Park to meet with all who work in and around that area. Contact Pastor Jonathan for details and to RSVP.
URL:https://ebcla.org/event/ttt-glendale-burbank/
LOCATION:Mama Lu’s\, 501 West Garvey Avenue\, Monterey Park\, CA\, United States
END:VEVENT
BEGIN:VEVENT
DTSTART;TZID=UTC:20190721T120000
DTEND;TZID=UTC:20190721T133000
DTSTAMP:20260424T135701
CREATED:20190618T060055Z
LAST-MODIFIED:20190618T060055Z
UID:1575-1563710400-1563715800@ebcla.org
SUMMARY:The Open Door Parent Support Group
DESCRIPTION:A support group for parents of LGBT/Queer children.
URL:https://ebcla.org/event/open-door-parent-support-group-15/
LOCATION:Ministry Center Room 100/101
END:VEVENT
BEGIN:VEVENT
DTSTART;TZID=UTC:20190721T114500
DTEND;TZID=UTC:20190721T133000
DTSTAMP:20260424T135701
CREATED:20190618T055409Z
LAST-MODIFIED:20190711T053907Z
UID:1566-1563709500-1563715800@ebcla.org
SUMMARY:The Dialogue
DESCRIPTION:A monthly meeting on LGBT+ inclusion from a conservative point of view.
URL:https://ebcla.org/event/the-dialogue-7/
LOCATION:Nagano Chapel
END:VEVENT
BEGIN:VEVENT
DTSTART;TZID=UTC:20190721T083000
DTEND;TZID=UTC:20190721T113000
DTSTAMP:20260424T135701
CREATED:20190618T060430Z
LAST-MODIFIED:20190618T060430Z
UID:1581-1563697800-1563708600@ebcla.org
SUMMARY:Vacation Bible School
DESCRIPTION:All children ages K to 4th grades are invited to “The Incredible Race\, Exploring God’s Love for the Nations”. There will be games\, dancing\, crafts\, snacks\, and more! Contact Kathy Hubbard for more information. 
URL:https://ebcla.org/event/vacation-bible-school-2019-07-21/
END:VEVENT
BEGIN:VEVENT
DTSTART;TZID=UTC:20190720T090000
DTEND;TZID=UTC:20190720T110000
DTSTAMP:20260424T135701
CREATED:20190618T055938Z
LAST-MODIFIED:20190618T055938Z
UID:1573-1563613200-1563620400@ebcla.org
SUMMARY:Prime Timer's Breakfast
DESCRIPTION:All Prime Timer’s (55+) are invited for a special breakfast and fellowship. Contact Michi Tanioka for details and to RSVP. 
URL:https://ebcla.org/event/prime-timers-breakfast-8/
LOCATION:EBCLA Ministry Center Fellowship Hall
END:VEVENT
BEGIN:VEVENT
DTSTART;TZID=UTC:20190718T193000
DTEND;TZID=UTC:20190718T220000
DTSTAMP:20260424T135701
CREATED:20190618T053931Z
LAST-MODIFIED:20190618T053931Z
UID:1543-1563478200-1563487200@ebcla.org
SUMMARY:College/Post College Small Group
DESCRIPTION:Join us for a summer small group for ages 18-24. We will be learning from the book of Ruth. Contact: Pastor Ryan
URL:https://ebcla.org/event/college-post-college-small-group-2019-07-18/
LOCATION:Cafe Evergreen
END:VEVENT
BEGIN:VEVENT
DTSTART;TZID=UTC:20190714T120000
DTEND;TZID=UTC:20190714T140000
DTSTAMP:20260424T135701
CREATED:20190618T054850Z
LAST-MODIFIED:20190618T054850Z
UID:1558-1563105600-1563112800@ebcla.org
SUMMARY:The Open Door
DESCRIPTION:A support and fellowship group for LGBT/Queer Christians and allies.
URL:https://ebcla.org/event/the-open-door-23/
LOCATION:Ministry Center Room 201/202
END:VEVENT
BEGIN:VEVENT
DTSTART;TZID=UTC:20190714T113000
DTEND;TZID=UTC:20190714T130000
DTSTAMP:20260424T135701
CREATED:20190618T055043Z
LAST-MODIFIED:20190703T024043Z
UID:1562-1563103800-1563109200@ebcla.org
SUMMARY:All-Church Lunch
DESCRIPTION:Everyone is invited to stay after service for a time of eating together and fellowship. Menu: Carne Asada Tacos. Suggested donation $3. 
URL:https://ebcla.org/event/all-church-lunch-24/
LOCATION:EBCLA Ministry Center Fellowship Hall
END:VEVENT
BEGIN:VEVENT
DTSTART;TZID=UTC:20190714T083000
DTEND;TZID=UTC:20190714T113000
DTSTAMP:20260424T135701
CREATED:20190618T060430Z
LAST-MODIFIED:20190618T060430Z
UID:1580-1563093000-1563103800@ebcla.org
SUMMARY:Vacation Bible School
DESCRIPTION:All children ages K to 4th grades are invited to “The Incredible Race\, Exploring God’s Love for the Nations”. There will be games\, dancing\, crafts\, snacks\, and more! Contact Kathy Hubbard for more information. 
URL:https://ebcla.org/event/vacation-bible-school-2019-07-14/
END:VEVENT
BEGIN:VEVENT
DTSTART;TZID=UTC:20190713T073000
DTEND;TZID=UTC:20190713T090000
DTSTAMP:20260424T135701
CREATED:20190618T054709Z
LAST-MODIFIED:20190618T054709Z
UID:1556-1563003000-1563008400@ebcla.org
SUMMARY:Men's Breakfast
DESCRIPTION:All men are invited to our monthly group to eat together and reflect on a book study. RSVP to Pastor Jonathan. 
URL:https://ebcla.org/event/mens-breakfast-16/
END:VEVENT
BEGIN:VEVENT
DTSTART;TZID=UTC:20190711T193000
DTEND;TZID=UTC:20190711T220000
DTSTAMP:20260424T135701
CREATED:20190618T053931Z
LAST-MODIFIED:20190618T053931Z
UID:1542-1562873400-1562882400@ebcla.org
SUMMARY:College/Post College Small Group
DESCRIPTION:Join us for a summer small group for ages 18-24. We will be learning from the book of Ruth. Contact: Pastor Ryan
URL:https://ebcla.org/event/college-post-college-small-group-2019-07-11/
LOCATION:Cafe Evergreen
END:VEVENT
BEGIN:VEVENT
DTSTART;TZID=UTC:20190707T114500
DTEND;TZID=UTC:20190707T130000
DTSTAMP:20260424T135701
CREATED:20190618T054544Z
LAST-MODIFIED:20190618T054544Z
UID:1554-1562499900-1562504400@ebcla.org
SUMMARY:Creatives Gathering
DESCRIPTION:If you are an artist\, designer\, writer\, photographer\, musician\, fashion designer\, film maker\, or anything else creative\, come join Pastor Jason for an open meeting to connect with other creatives within our church family! Contact: Pastor Jason
URL:https://ebcla.org/event/creatives-gathering-5/
LOCATION:Ministry Center Room 200
END:VEVENT
BEGIN:VEVENT
DTSTART;TZID=UTC:20190707T083000
DTEND;TZID=UTC:20190707T113000
DTSTAMP:20260424T135701
CREATED:20190618T060430Z
LAST-MODIFIED:20190618T060526Z
UID:1577-1562488200-1562499000@ebcla.org
SUMMARY:Vacation Bible School
DESCRIPTION:All children ages K to 4th grades are invited to “The Incredible Race\, Exploring God’s Love for the Nations”. There will be games\, dancing\, crafts\, snacks\, and more! Contact Kathy Hubbard for more information. 
URL:https://ebcla.org/event/vacation-bible-school/
END:VEVENT
BEGIN:VEVENT
DTSTART;VALUE=DATE:20190704
DTEND;VALUE=DATE:20190705
DTSTAMP:20260424T135701
CREATED:20190605T051412Z
LAST-MODIFIED:20190605T051412Z
UID:1513-1562198400-1562284799@ebcla.org
SUMMARY:Church Closed
DESCRIPTION:
URL:https://ebcla.org/event/church-closed-8/
END:VEVENT
BEGIN:VEVENT
DTSTART;TZID=UTC:20190627T193000
DTEND;TZID=UTC:20190627T220000
DTSTAMP:20260424T135701
CREATED:20190618T053931Z
LAST-MODIFIED:20190618T053931Z
UID:1540-1561663800-1561672800@ebcla.org
SUMMARY:College/Post College Small Group
DESCRIPTION:Join us for a summer small group for ages 18-24. We will be learning from the book of Ruth. Contact: Pastor Ryan
URL:https://ebcla.org/event/college-post-college-small-group-2019-06-27/
LOCATION:Cafe Evergreen
END:VEVENT
BEGIN:VEVENT
DTSTART;TZID=UTC:20190623T120000
DTEND;TZID=UTC:20190623T140000
DTSTAMP:20260424T135701
CREATED:20190605T042206Z
LAST-MODIFIED:20190605T042206Z
UID:1510-1561291200-1561298400@ebcla.org
SUMMARY:The Open Door
DESCRIPTION:A support and fellowship group for LGBT/Queer Christians and allies.
URL:https://ebcla.org/event/the-open-door-22/
LOCATION:Ministry Center Room 201/202
END:VEVENT
BEGIN:VEVENT
DTSTART;TZID=UTC:20190623T114500
DTEND;TZID=UTC:20190623T130000
DTSTAMP:20260424T135701
CREATED:20190605T041313Z
LAST-MODIFIED:20190605T041313Z
UID:1501-1561290300-1561294800@ebcla.org
SUMMARY:Women's Ministry Lunch Break
DESCRIPTION:Bring your lunch plate and join us for a time of informal fellowship and prayer with fellow EBCLA women.
URL:https://ebcla.org/event/womens-ministry-lunch-break-4/
LOCATION:Ministry Center Room 200
END:VEVENT
BEGIN:VEVENT
DTSTART;TZID=UTC:20190623T113000
DTEND;TZID=UTC:20190623T130000
DTSTAMP:20260424T135701
CREATED:20190605T041732Z
LAST-MODIFIED:20190605T042311Z
UID:1503-1561289400-1561294800@ebcla.org
SUMMARY:CBS Caregiver Support Group
DESCRIPTION:Join us as we Care for each other\, Bear each other’s burdens\, and Share our stories of the joys and challenges of caregiving for ill or aging loved ones.
URL:https://ebcla.org/event/cbs-caregiver-support-group-2/
LOCATION:Ministry Center Room 205
END:VEVENT
BEGIN:VEVENT
DTSTART;TZID=UTC:20190623T113000
DTEND;TZID=UTC:20190623T130000
DTSTAMP:20260424T135701
CREATED:20190509T012710Z
LAST-MODIFIED:20190509T012710Z
UID:1460-1561289400-1561294800@ebcla.org
SUMMARY:All-Church Lunch
DESCRIPTION:Everyone is invited to stay after service for a time of eating together and fellowship. Menu: Pizza. Suggested donation $3. 
URL:https://ebcla.org/event/all-church-lunch-23/
END:VEVENT
BEGIN:VEVENT
DTSTART;TZID=UTC:20190623T090000
DTEND;TZID=UTC:20190623T100000
DTSTAMP:20260424T135701
CREATED:20190605T041121Z
LAST-MODIFIED:20190605T041121Z
UID:1498-1561280400-1561284000@ebcla.org
SUMMARY:VBS Volunteer Orientation
DESCRIPTION:All volunteers are invited to attend a VBS volunteer orientation.
URL:https://ebcla.org/event/vbs-volunteer-orientation/
LOCATION:Nagano Chapel
END:VEVENT
BEGIN:VEVENT
DTSTART;TZID=UTC:20190623T083000
DTEND;TZID=UTC:20190623T100000
DTSTAMP:20260424T135701
CREATED:20190605T050005Z
LAST-MODIFIED:20190703T043148Z
UID:1505-1561278600-1561284000@ebcla.org
SUMMARY:Recycling
DESCRIPTION:Support Boy Scout Troop 361 and bring aluminum cans\, #1 plastic\, and glass bottles for recycling.
URL:https://ebcla.org/event/recycling-13/
END:VEVENT
BEGIN:VEVENT
DTSTART;TZID=UTC:20190620T193000
DTEND;TZID=UTC:20190620T220000
DTSTAMP:20260424T135701
CREATED:20190618T053931Z
LAST-MODIFIED:20190618T054105Z
UID:1537-1561059000-1561068000@ebcla.org
SUMMARY:College/Post College Small Group
DESCRIPTION:Join us for a summer small group for ages 18-24. We will be learning from the book of Ruth. Contact: Pastor Ryan
URL:https://ebcla.org/event/college-post-college-small-group/
LOCATION:Cafe Evergreen
END:VEVENT
BEGIN:VEVENT
DTSTART;TZID=UTC:20190619T120000
DTEND;TZID=UTC:20190619T133000
DTSTAMP:20260424T135701
CREATED:20190605T040644Z
LAST-MODIFIED:20190605T040644Z
UID:1495-1560945600-1560951000@ebcla.org
SUMMARY:TTT Westchester/LAX
DESCRIPTION:The pastoral staff will be in Westhcester/LAX area to meet with all who work in and around that area. Contact Pastor Jason for details and to RSVP.
URL:https://ebcla.org/event/ttt-westchester-lax/
END:VEVENT
BEGIN:VEVENT
DTSTART;TZID=UTC:20190616T120000
DTEND;TZID=UTC:20190616T133000
DTSTAMP:20260424T135701
CREATED:20190605T040451Z
LAST-MODIFIED:20190605T040451Z
UID:1494-1560686400-1560691800@ebcla.org
SUMMARY:The Open Door Parent Support Group
DESCRIPTION:A support group for parents of LGBT/Queer children.
URL:https://ebcla.org/event/open-door-parent-support-group-14/
LOCATION:Ministry Center Room 100/101
END:VEVENT
BEGIN:VEVENT
DTSTART;TZID=UTC:20190616T084500
DTEND;TZID=UTC:20190616T094500
DTSTAMP:20260424T135701
CREATED:20190423T001528Z
LAST-MODIFIED:20190423T001528Z
UID:1430-1560674700-1560678300@ebcla.org
SUMMARY:Class Community
DESCRIPTION:Join CLASS Community! Connection Parenting (MCFH).\nFinishing Well: Following Jesus In Your Encore Years (MC100/101).\nImmigration\, Race\, and Faith (MC201/202).
URL:https://ebcla.org/event/class-community-11/
END:VEVENT
END:VCALENDAR