BEGIN:VCALENDAR
VERSION:2.0
PRODID:-//Evergreen - ECPv6.15.17.1//NONSGML v1.0//EN
CALSCALE:GREGORIAN
METHOD:PUBLISH
X-WR-CALNAME:Evergreen
X-ORIGINAL-URL:https://ebcla.org
X-WR-CALDESC:Events for Evergreen
REFRESH-INTERVAL;VALUE=DURATION:PT1H
X-Robots-Tag:noindex
X-PUBLISHED-TTL:PT1H
BEGIN:VTIMEZONE
TZID:UTC
BEGIN:STANDARD
TZOFFSETFROM:+0000
TZOFFSETTO:+0000
TZNAME:UTC
DTSTART:20180101T000000
END:STANDARD
END:VTIMEZONE
BEGIN:VEVENT
DTSTART;TZID=UTC:20190623T120000
DTEND;TZID=UTC:20190623T140000
DTSTAMP:20260424T171655
CREATED:20190605T042206Z
LAST-MODIFIED:20190605T042206Z
UID:1510-1561291200-1561298400@ebcla.org
SUMMARY:The Open Door
DESCRIPTION:A support and fellowship group for LGBT/Queer Christians and allies.
URL:https://ebcla.org/event/the-open-door-22/
LOCATION:Ministry Center Room 201/202
END:VEVENT
BEGIN:VEVENT
DTSTART;TZID=UTC:20190623T114500
DTEND;TZID=UTC:20190623T130000
DTSTAMP:20260424T171655
CREATED:20190605T041313Z
LAST-MODIFIED:20190605T041313Z
UID:1501-1561290300-1561294800@ebcla.org
SUMMARY:Women's Ministry Lunch Break
DESCRIPTION:Bring your lunch plate and join us for a time of informal fellowship and prayer with fellow EBCLA women.
URL:https://ebcla.org/event/womens-ministry-lunch-break-4/
LOCATION:Ministry Center Room 200
END:VEVENT
BEGIN:VEVENT
DTSTART;TZID=UTC:20190623T113000
DTEND;TZID=UTC:20190623T130000
DTSTAMP:20260424T171655
CREATED:20190605T041732Z
LAST-MODIFIED:20190605T042311Z
UID:1503-1561289400-1561294800@ebcla.org
SUMMARY:CBS Caregiver Support Group
DESCRIPTION:Join us as we Care for each other\, Bear each other’s burdens\, and Share our stories of the joys and challenges of caregiving for ill or aging loved ones.
URL:https://ebcla.org/event/cbs-caregiver-support-group-2/
LOCATION:Ministry Center Room 205
END:VEVENT
BEGIN:VEVENT
DTSTART;TZID=UTC:20190623T113000
DTEND;TZID=UTC:20190623T130000
DTSTAMP:20260424T171655
CREATED:20190509T012710Z
LAST-MODIFIED:20190509T012710Z
UID:1460-1561289400-1561294800@ebcla.org
SUMMARY:All-Church Lunch
DESCRIPTION:Everyone is invited to stay after service for a time of eating together and fellowship. Menu: Pizza. Suggested donation $3. 
URL:https://ebcla.org/event/all-church-lunch-23/
END:VEVENT
BEGIN:VEVENT
DTSTART;TZID=UTC:20190623T090000
DTEND;TZID=UTC:20190623T100000
DTSTAMP:20260424T171655
CREATED:20190605T041121Z
LAST-MODIFIED:20190605T041121Z
UID:1498-1561280400-1561284000@ebcla.org
SUMMARY:VBS Volunteer Orientation
DESCRIPTION:All volunteers are invited to attend a VBS volunteer orientation.
URL:https://ebcla.org/event/vbs-volunteer-orientation/
LOCATION:Nagano Chapel
END:VEVENT
BEGIN:VEVENT
DTSTART;TZID=UTC:20190623T083000
DTEND;TZID=UTC:20190623T100000
DTSTAMP:20260424T171655
CREATED:20190605T050005Z
LAST-MODIFIED:20190703T043148Z
UID:1505-1561278600-1561284000@ebcla.org
SUMMARY:Recycling
DESCRIPTION:Support Boy Scout Troop 361 and bring aluminum cans\, #1 plastic\, and glass bottles for recycling.
URL:https://ebcla.org/event/recycling-13/
END:VEVENT
BEGIN:VEVENT
DTSTART;TZID=UTC:20190620T193000
DTEND;TZID=UTC:20190620T220000
DTSTAMP:20260424T171655
CREATED:20190618T053931Z
LAST-MODIFIED:20190618T054105Z
UID:1537-1561059000-1561068000@ebcla.org
SUMMARY:College/Post College Small Group
DESCRIPTION:Join us for a summer small group for ages 18-24. We will be learning from the book of Ruth. Contact: Pastor Ryan
URL:https://ebcla.org/event/college-post-college-small-group/
LOCATION:Cafe Evergreen
END:VEVENT
BEGIN:VEVENT
DTSTART;TZID=UTC:20190619T120000
DTEND;TZID=UTC:20190619T133000
DTSTAMP:20260424T171655
CREATED:20190605T040644Z
LAST-MODIFIED:20190605T040644Z
UID:1495-1560945600-1560951000@ebcla.org
SUMMARY:TTT Westchester/LAX
DESCRIPTION:The pastoral staff will be in Westhcester/LAX area to meet with all who work in and around that area. Contact Pastor Jason for details and to RSVP.
URL:https://ebcla.org/event/ttt-westchester-lax/
END:VEVENT
BEGIN:VEVENT
DTSTART;TZID=UTC:20190616T120000
DTEND;TZID=UTC:20190616T133000
DTSTAMP:20260424T171655
CREATED:20190605T040451Z
LAST-MODIFIED:20190605T040451Z
UID:1494-1560686400-1560691800@ebcla.org
SUMMARY:The Open Door Parent Support Group
DESCRIPTION:A support group for parents of LGBT/Queer children.
URL:https://ebcla.org/event/open-door-parent-support-group-14/
LOCATION:Ministry Center Room 100/101
END:VEVENT
BEGIN:VEVENT
DTSTART;TZID=UTC:20190616T084500
DTEND;TZID=UTC:20190616T094500
DTSTAMP:20260424T171655
CREATED:20190423T001528Z
LAST-MODIFIED:20190423T001528Z
UID:1430-1560674700-1560678300@ebcla.org
SUMMARY:Class Community
DESCRIPTION:Join CLASS Community! Connection Parenting (MCFH).\nFinishing Well: Following Jesus In Your Encore Years (MC100/101).\nImmigration\, Race\, and Faith (MC201/202).
URL:https://ebcla.org/event/class-community-11/
END:VEVENT
BEGIN:VEVENT
DTSTART;TZID=UTC:20190615T090000
DTEND;TZID=UTC:20190615T110000
DTSTAMP:20260424T171655
CREATED:20190605T040322Z
LAST-MODIFIED:20190605T040322Z
UID:1492-1560589200-1560596400@ebcla.org
SUMMARY:Prime Timer's Breakfast
DESCRIPTION:All Prime Timer’s (55+) are invited for a special breakfast and fellowship. Contact Michi Tanioka for details and to RSVP. 
URL:https://ebcla.org/event/prime-timers-breakfast-7/
LOCATION:EBCLA Ministry Center Fellowship Hall
END:VEVENT
BEGIN:VEVENT
DTSTART;VALUE=DATE:20190614
DTEND;VALUE=DATE:20190617
DTSTAMP:20260424T171655
CREATED:20190423T000950Z
LAST-MODIFIED:20190423T001002Z
UID:1417-1560470400-1560729599@ebcla.org
SUMMARY:Mexico Missions Trip
DESCRIPTION:We will be serving at Deborah’s House\, a home for women and children who have suffered from domestic violence in Tijuana\, Mexico. Open to adults and teens ages 15+. Valid passport for at least 6 months after trip is required. Contact Pastor Julie for details and application. 
URL:https://ebcla.org/event/mexico-missions-trip/
END:VEVENT
BEGIN:VEVENT
DTSTART;TZID=UTC:20190609T120000
DTEND;TZID=UTC:20190609T140000
DTSTAMP:20260424T171655
CREATED:20190605T042119Z
LAST-MODIFIED:20190605T042119Z
UID:1508-1560081600-1560088800@ebcla.org
SUMMARY:The Open Door
DESCRIPTION:A support and fellowship group for LGBT/Queer Christians and allies.
URL:https://ebcla.org/event/the-open-door-21/
LOCATION:Ministry Center Room 201/202
END:VEVENT
BEGIN:VEVENT
DTSTART;TZID=UTC:20190609T114500
DTEND;TZID=UTC:20190609T133000
DTSTAMP:20260424T171655
CREATED:20190605T041927Z
LAST-MODIFIED:20190605T041927Z
UID:1506-1560080700-1560087000@ebcla.org
SUMMARY:The Dialogue
DESCRIPTION:A monthly meeting on LGBT+ inclusion from a conservative point of view.
URL:https://ebcla.org/event/the-dialogue-6/
LOCATION:Nagano Chapel
END:VEVENT
BEGIN:VEVENT
DTSTART;TZID=UTC:20190609T113000
DTEND;TZID=UTC:20190609T130000
DTSTAMP:20260424T171655
CREATED:20190509T012633Z
LAST-MODIFIED:20190509T012633Z
UID:1458-1560079800-1560085200@ebcla.org
SUMMARY:All-Church Lunch
DESCRIPTION:Everyone is invited to stay after service for a time of eating together and fellowship. Menu: Pulled Pork Sliders. Suggested donation $3. 
URL:https://ebcla.org/event/all-church-lunch-22/
END:VEVENT
BEGIN:VEVENT
DTSTART;TZID=UTC:20190609T084500
DTEND;TZID=UTC:20190609T094500
DTSTAMP:20260424T171655
CREATED:20190423T001455Z
LAST-MODIFIED:20190423T001455Z
UID:1428-1560069900-1560073500@ebcla.org
SUMMARY:Class Community
DESCRIPTION:Join CLASS Community! Connection Parenting (MCFH).\nFinishing Well: Following Jesus In Your Encore Years (MC100/101).\nImmigration\, Race\, and Faith (MC201/202).
URL:https://ebcla.org/event/class-community-10/
END:VEVENT
BEGIN:VEVENT
DTSTART;TZID=UTC:20190608T073000
DTEND;TZID=UTC:20190608T093000
DTSTAMP:20260424T171655
CREATED:20190605T040148Z
LAST-MODIFIED:20190605T040148Z
UID:1490-1559979000-1559986200@ebcla.org
SUMMARY:Men's Breakfast
DESCRIPTION:All men are invited to our monthly group to eat together and reflect on a book study. RSVP to Pastor Jonathan.  Location: EBCLA\, MC100/101
URL:https://ebcla.org/event/mens-breakfast-15/
LOCATION:Ministry Center Room 100/101
END:VEVENT
BEGIN:VEVENT
DTSTART;TZID=UTC:20190602T113000
DTEND;TZID=UTC:20190602T113000
DTSTAMP:20260424T171655
CREATED:20190605T035947Z
LAST-MODIFIED:20190605T035947Z
UID:1488-1559475000-1559475000@ebcla.org
SUMMARY:Creatives Gathering
DESCRIPTION:If you are an artist\, designer\, writer\, photographer\, musician\, fashion designer\, film maker\, or anything else creative\, come join Pastor Jason for an open meeting to connect with other creatives within our church family! Contact: Pastor Jason
URL:https://ebcla.org/event/creatives-gathering-4/
LOCATION:Ministry Center Room 200
END:VEVENT
BEGIN:VEVENT
DTSTART;TZID=UTC:20190602T084500
DTEND;TZID=UTC:20190602T094500
DTSTAMP:20260424T171655
CREATED:20190423T001422Z
LAST-MODIFIED:20190423T001422Z
UID:1426-1559465100-1559468700@ebcla.org
SUMMARY:Class Community
DESCRIPTION:Join CLASS Community! Connection Parenting (MCFH).\nFinishing Well: Following Jesus In Your Encore Years (MC100/101).\nImmigration\, Race\, and Faith (MC201/202).
URL:https://ebcla.org/event/class-community-9/
END:VEVENT
BEGIN:VEVENT
DTSTART;TZID=UTC:20190602T083000
DTEND;TZID=UTC:20190602T100000
DTSTAMP:20260424T171655
CREATED:20190509T012901Z
LAST-MODIFIED:20190509T012901Z
UID:1462-1559464200-1559469600@ebcla.org
SUMMARY:New & Expecting Parents Gathering
DESCRIPTION:All expecting and parents of  young children (under 3) are invited to join us for a breakfast and a time of fellowship to connect with others who are new on their parenting journey. Contact Pastor Julie to RSVP.
URL:https://ebcla.org/event/new-expecting-parents-gathering-2/
END:VEVENT
BEGIN:VEVENT
DTSTART;VALUE=DATE:20190527
DTEND;VALUE=DATE:20190528
DTSTAMP:20260424T171655
CREATED:20190426T041612Z
LAST-MODIFIED:20190426T041612Z
UID:1433-1558915200-1559001599@ebcla.org
SUMMARY:Church Closed
DESCRIPTION:
URL:https://ebcla.org/event/church-closed-7/
END:VEVENT
BEGIN:VEVENT
DTSTART;TZID=UTC:20190526T100000
DTEND;TZID=UTC:20190526T140000
DTSTAMP:20260424T171655
CREATED:20190405T050643Z
LAST-MODIFIED:20190405T050643Z
UID:1380-1558864800-1558879200@ebcla.org
SUMMARY:Church in the Park
DESCRIPTION:Join us for our annual Church in the Park (Sunday of Memorial Day weekend). BBQ lunch with potluck sides\, salads\, and dessert. If you love planning large group events\, contact Pastor Jonathan: jcwu@ebcla.org
URL:https://ebcla.org/event/church-in-the-park-2/
LOCATION:Whittier Narrows Recreation Area
END:VEVENT
BEGIN:VEVENT
DTSTART;TZID=UTC:20190519T120000
DTEND;TZID=UTC:20190519T133000
DTSTAMP:20260424T171655
CREATED:20190422T235435Z
LAST-MODIFIED:20190422T235435Z
UID:1413-1558267200-1558272600@ebcla.org
SUMMARY:The Open Door Parent Support Group
DESCRIPTION:A support group for parents of LGBT/Queer children.
URL:https://ebcla.org/event/open-door-parent-support-group-13/
LOCATION:Ministry Center Room 100/101
END:VEVENT
BEGIN:VEVENT
DTSTART;TZID=UTC:20190519T084500
DTEND;TZID=UTC:20190519T094500
DTSTAMP:20260424T171655
CREATED:20190423T001348Z
LAST-MODIFIED:20190423T001348Z
UID:1424-1558255500-1558259100@ebcla.org
SUMMARY:Class Community
DESCRIPTION:Join CLASS Community! Connection Parenting (MCFH).\nFinishing Well: Following Jesus In Your Encore Years (MC100/101).\nImmigration\, Race\, and Faith (MC201/202).
URL:https://ebcla.org/event/class-community-8/
END:VEVENT
BEGIN:VEVENT
DTSTART;TZID=UTC:20190519T083000
DTEND;TZID=UTC:20190519T100000
DTSTAMP:20260424T171655
CREATED:20190509T012434Z
LAST-MODIFIED:20190509T012434Z
UID:1456-1558254600-1558260000@ebcla.org
SUMMARY:Recycling
DESCRIPTION:Support Boy Scout Troop 361 and bring aluminum cans\, #1 plastic\, and glass bottles for recycling.
URL:https://ebcla.org/event/recycling-12/
END:VEVENT
BEGIN:VEVENT
DTSTART;TZID=UTC:20190518T090000
DTEND;TZID=UTC:20190518T110000
DTSTAMP:20260424T171655
CREATED:20190422T235327Z
LAST-MODIFIED:20190422T235327Z
UID:1411-1558170000-1558177200@ebcla.org
SUMMARY:Prime Timer's Breakfast
DESCRIPTION:All Prime Timer’s (55+) are invited for a special breakfast and fellowship. Contact Michi Tanioka for details and to RSVP. 
URL:https://ebcla.org/event/prime-timers-breakfast-6/
LOCATION:Back of the Sanctuary
END:VEVENT
BEGIN:VEVENT
DTSTART;TZID=UTC:20190517T170000
DTEND;TZID=UTC:20190519T120000
DTSTAMP:20260424T171655
CREATED:20190314T033226Z
LAST-MODIFIED:20190422T235827Z
UID:1337-1558112400-1558267200@ebcla.org
SUMMARY:Men's Retreat
DESCRIPTION:May 17 – May 19 @ Thousand Pines\, Lake Arrowhead \nAll men are invited to attend our men’s retreat. Speaker is Kevin Doi\, chaplain\, Fuller Seminary and former founder/lead pastor\, Epic Church. Theme is “Forged”. Cost is $140 (2 nights and 5 meals). Come by the ministry cart to sign up. Contact Pastor Jonathan for more details.
URL:https://ebcla.org/event/mens-retreat/
END:VEVENT
BEGIN:VEVENT
DTSTART;TZID=UTC:20190515T120000
DTEND;TZID=UTC:20190515T133000
DTSTAMP:20260424T171655
CREATED:20190426T041754Z
LAST-MODIFIED:20190426T041831Z
UID:1435-1557921600-1557927000@ebcla.org
SUMMARY:TTT - Culver City
DESCRIPTION:The pastoral staff will be in Culver City to meet with all who work in and around that area. Contact Pastor Jonathan for details and to RSVP.
URL:https://ebcla.org/event/ttt-culver-city/
END:VEVENT
BEGIN:VEVENT
DTSTART;TZID=UTC:20190513T093000
DTEND;TZID=UTC:20190513T110000
DTSTAMP:20260424T171655
CREATED:20190314T032158Z
LAST-MODIFIED:20190314T032158Z
UID:1404-1557739800-1557745200@ebcla.org
SUMMARY:Prime Timer's Bible Study
DESCRIPTION:Join Prime Timer’s (55+) monthly for prayer\, fellowship\, and Bible study.
URL:https://ebcla.org/event/prime-timers-bible-study-8-2019-05-13/
END:VEVENT
BEGIN:VEVENT
DTSTART;TZID=UTC:20190512T120000
DTEND;TZID=UTC:20190512T140000
DTSTAMP:20260424T171655
CREATED:20190405T044851Z
LAST-MODIFIED:20190405T044851Z
UID:1415-1557662400-1557669600@ebcla.org
SUMMARY:The Open Door
DESCRIPTION:A support and fellowship group for LGBT/Queer Christians and allies.
URL:https://ebcla.org/event/the-open-door-20-2019-05-12/
LOCATION:Ministry Center Room 201/202
END:VEVENT
END:VCALENDAR