BEGIN:VCALENDAR
VERSION:2.0
PRODID:-//Evergreen - ECPv6.15.17.1//NONSGML v1.0//EN
CALSCALE:GREGORIAN
METHOD:PUBLISH
X-WR-CALNAME:Evergreen
X-ORIGINAL-URL:https://ebcla.org
X-WR-CALDESC:Events for Evergreen
REFRESH-INTERVAL;VALUE=DURATION:PT1H
X-Robots-Tag:noindex
X-PUBLISHED-TTL:PT1H
BEGIN:VTIMEZONE
TZID:UTC
BEGIN:STANDARD
TZOFFSETFROM:+0000
TZOFFSETTO:+0000
TZNAME:UTC
DTSTART:20180101T000000
END:STANDARD
END:VTIMEZONE
BEGIN:VEVENT
DTSTART;TZID=UTC:20190220T120000
DTEND;TZID=UTC:20190220T133000
DTSTAMP:20260425T071950
CREATED:20190202T055923Z
LAST-MODIFIED:20190302T035304Z
UID:1218-1550664000-1550669400@ebcla.org
SUMMARY:TTT Lunch - Orange County
DESCRIPTION:The pastoral staff will be in Orange County to meet with all who work in and around that area. Contact Pastor Jonathan for details and to RSVP.
URL:https://ebcla.org/event/ttt-lunch-orange-county/
END:VEVENT
BEGIN:VEVENT
DTSTART;TZID=UTC:20190218T080000
DTEND;TZID=UTC:20190218T170000
DTSTAMP:20260425T071950
CREATED:20190214T042949Z
LAST-MODIFIED:20190214T042949Z
UID:1236-1550476800-1550509200@ebcla.org
SUMMARY:Church Closed
DESCRIPTION:
URL:https://ebcla.org/event/church-closed-6/
END:VEVENT
BEGIN:VEVENT
DTSTART;TZID=UTC:20190217T120000
DTEND;TZID=UTC:20190217T133000
DTSTAMP:20260425T071950
CREATED:20190202T055413Z
LAST-MODIFIED:20190202T055413Z
UID:1211-1550404800-1550410200@ebcla.org
SUMMARY:The Open Door Parent Support Group
DESCRIPTION:A support group for parents of LGBT/Queer children.
URL:https://ebcla.org/event/open-door-parent-support-group-11/
LOCATION:Ministry Center Room 100/101
END:VEVENT
BEGIN:VEVENT
DTSTART;TZID=UTC:20190216T090000
DTEND;TZID=UTC:20190216T110000
DTSTAMP:20260425T071950
CREATED:20190202T055505Z
LAST-MODIFIED:20190302T035122Z
UID:1208-1550307600-1550314800@ebcla.org
SUMMARY:Prime Timer's Breakfast
DESCRIPTION:All Prime Timer’s (55+) are invited for a special breakfast and fellowship. Contact Michi Tanioka for details and to RSVP. 
URL:https://ebcla.org/event/prime-timers-breakfast-5/
END:VEVENT
BEGIN:VEVENT
DTSTART;TZID=UTC:20190211T093000
DTEND;TZID=UTC:20190211T110000
DTSTAMP:20260425T071950
CREATED:20190117T075059Z
LAST-MODIFIED:20190302T034935Z
UID:1177-1549877400-1549882800@ebcla.org
SUMMARY:Prime Timer's Bible Study
DESCRIPTION:Join Prime Timer’s (55+) monthly for prayer\, fellowship\, and Bible study.
URL:https://ebcla.org/event/prime-timers-bible-study-7/
END:VEVENT
BEGIN:VEVENT
DTSTART;TZID=UTC:20190210T120000
DTEND;TZID=UTC:20190210T140000
DTSTAMP:20260425T071950
CREATED:20190202T055033Z
LAST-MODIFIED:20190202T055128Z
UID:1204-1549800000-1549807200@ebcla.org
SUMMARY:The Open Door
DESCRIPTION:A support and fellowship group for LGBT/Queer Christians and allies.
URL:https://ebcla.org/event/the-open-door-15/
LOCATION:Ministry Center Room 201/202
END:VEVENT
BEGIN:VEVENT
DTSTART;TZID=UTC:20190210T113000
DTEND;TZID=UTC:20190210T130000
DTSTAMP:20260425T071950
CREATED:20190117T075601Z
LAST-MODIFIED:20190129T030534Z
UID:1181-1549798200-1549803600@ebcla.org
SUMMARY:All-church lunch
DESCRIPTION:Everyone is invited to stay after service for a time of eating together and fellowship. Menu: Vietnamese Sandwich. Suggested donation $3.  
URL:https://ebcla.org/event/all-church-lunch-15/
END:VEVENT
BEGIN:VEVENT
DTSTART;TZID=UTC:20190210T084500
DTEND;TZID=UTC:20190210T100000
DTSTAMP:20260425T071950
CREATED:20190117T074954Z
LAST-MODIFIED:20190302T034508Z
UID:1175-1549788300-1549792800@ebcla.org
SUMMARY:The Journey
DESCRIPTION:All parents of children (of any age) with special needs are invited to join this monthly group. Contact Pastor Shirley for more information.
URL:https://ebcla.org/event/the-journey-5/
LOCATION:Ministry Center Room 200
END:VEVENT
BEGIN:VEVENT
DTSTART;TZID=UTC:20190209T073000
DTEND;TZID=UTC:20190209T090000
DTSTAMP:20260425T071950
CREATED:20190117T074839Z
LAST-MODIFIED:20190117T074839Z
UID:1172-1549697400-1549702800@ebcla.org
SUMMARY:Men's Breakfast
DESCRIPTION:All men are invited to our monthly group to eat together and reflect on a book study. RSVP to Pastor Jonathan. Location: Colonial Kitchen\, San Marino
URL:https://ebcla.org/event/mens-breakfast-11/
LOCATION:Twohey’s Restaurant\, Alhambra\, 1224 N Atlantic Blvd\,
END:VEVENT
BEGIN:VEVENT
DTSTART;TZID=UTC:20190203T153000
DTEND;TZID=UTC:20190203T180000
DTSTAMP:20260425T071950
CREATED:20190117T073953Z
LAST-MODIFIED:20190117T073953Z
UID:1166-1549207800-1549216800@ebcla.org
SUMMARY:Superbowl Party
DESCRIPTION:Join us for our “tailgate party” fare and a great time watching the game together. $7 for food. Contact Pastor Jonathan
URL:https://ebcla.org/event/superbowl-party/
LOCATION:EBCLA Ministry Center Fellowship Hall
END:VEVENT
BEGIN:VEVENT
DTSTART;TZID=UTC:20190203T114500
DTEND;TZID=UTC:20190203T130000
DTSTAMP:20260425T071950
CREATED:20190202T055251Z
LAST-MODIFIED:20190202T055251Z
UID:1209-1549194300-1549198800@ebcla.org
SUMMARY:The Dialogue
DESCRIPTION:A monthly meeting on LGBT+ inclusion from a conservative point of view.
URL:https://ebcla.org/event/the-dialogue-3/
LOCATION:Ministry Center Room 200
END:VEVENT
BEGIN:VEVENT
DTSTART;TZID=UTC:20190203T114500
DTEND;TZID=UTC:20190203T130000
DTSTAMP:20260425T071950
CREATED:20190117T074559Z
LAST-MODIFIED:20190117T074559Z
UID:1170-1549194300-1549198800@ebcla.org
SUMMARY:Creatives Gathering
DESCRIPTION:If you are an artist\, designer\, writer\, photographer\, musician\, fashion designer\, film maker\, or anything else creative\, come join Pastor Jason for an open meeting to connect with other creatives within our church family! Contact: Pastor Jason
URL:https://ebcla.org/event/creatives-gathering/
LOCATION:Ministry Center Room 100/101
END:VEVENT
BEGIN:VEVENT
DTSTART;TZID=UTC:20190127T113000
DTEND;TZID=UTC:20190127T140000
DTSTAMP:20260425T071950
CREATED:20181221T053549Z
LAST-MODIFIED:20181221T053549Z
UID:1100-1548588600-1548597600@ebcla.org
SUMMARY:The Open Door
DESCRIPTION:A support and fellowship group for LGBT/Queer Christians and allies.
URL:https://ebcla.org/event/the-open-door-14/
LOCATION:Ministry Center Room 201/202
END:VEVENT
BEGIN:VEVENT
DTSTART;TZID=UTC:20190127T113000
DTEND;TZID=UTC:20190127T130000
DTSTAMP:20260425T071950
CREATED:20190117T073820Z
LAST-MODIFIED:20190117T073820Z
UID:1163-1548588600-1548594000@ebcla.org
SUMMARY:Elder Caregivers Support Group
DESCRIPTION:If you are caring for an elderly parent\, spouse\, sibling or other loved one\, come and receive prayer and support. Contact Sandra Jung
URL:https://ebcla.org/event/elder-caregivers-support-group/
LOCATION:Ministry Center Room 205
END:VEVENT
BEGIN:VEVENT
DTSTART;TZID=UTC:20190127T113000
DTEND;TZID=UTC:20190127T130000
DTSTAMP:20260425T071950
CREATED:20190109T034957Z
LAST-MODIFIED:20190109T034957Z
UID:1148-1548588600-1548594000@ebcla.org
SUMMARY:All-Church Lunch
DESCRIPTION:Everyone is invited to stay after service for a time of eating together and fellowship. Menu: Beef Stew. Suggested donation $3.  
URL:https://ebcla.org/event/all-church-lunch-14/
END:VEVENT
BEGIN:VEVENT
DTSTART;TZID=UTC:20190127T113000
DTEND;TZID=UTC:20190127T130000
DTSTAMP:20260425T071950
CREATED:20181221T061440Z
LAST-MODIFIED:20181221T061440Z
UID:1110-1548588600-1548594000@ebcla.org
SUMMARY:Women's Ministry Lunch Break
DESCRIPTION:Bring your lunch plate for a time of informal fellowship and prayer with fellow EBCLA women. Contact: Pastor Shirley.
URL:https://ebcla.org/event/womens-ministry-lunch-break-3/
END:VEVENT
BEGIN:VEVENT
DTSTART;TZID=UTC:20190127T083000
DTEND;TZID=UTC:20190127T100000
DTSTAMP:20260425T071950
CREATED:20190117T074427Z
LAST-MODIFIED:20190117T074427Z
UID:1168-1548577800-1548583200@ebcla.org
SUMMARY:Recycling
DESCRIPTION:Support Boy Scout Troop 361 and bring aluminum cans\, #1 plastic\, and glass bottles for recycling.
URL:https://ebcla.org/event/recycling-8/
END:VEVENT
BEGIN:VEVENT
DTSTART;VALUE=DATE:20190121
DTEND;VALUE=DATE:20190122
DTSTAMP:20260425T071950
CREATED:20181221T052353Z
LAST-MODIFIED:20181221T052353Z
UID:1093-1548028800-1548115199@ebcla.org
SUMMARY:Church Closed
DESCRIPTION:
URL:https://ebcla.org/event/church-closed-5/
END:VEVENT
BEGIN:VEVENT
DTSTART;TZID=UTC:20190120T120000
DTEND;TZID=UTC:20190120T133000
DTSTAMP:20260425T071950
CREATED:20181221T053652Z
LAST-MODIFIED:20181221T053652Z
UID:1102-1547985600-1547991000@ebcla.org
SUMMARY:The Open Door Parent Support Group
DESCRIPTION:A support group for parents of LGBT/Queer children.
URL:https://ebcla.org/event/open-door-parent-support-group-10/
LOCATION:Ministry Center Room 201/202
END:VEVENT
BEGIN:VEVENT
DTSTART;TZID=UTC:20190119T190000
DTEND;TZID=UTC:20190119T213000
DTSTAMP:20260425T071950
CREATED:20181221T060937Z
LAST-MODIFIED:20181221T060937Z
UID:1108-1547924400-1547933400@ebcla.org
SUMMARY:MLK Movie Night
DESCRIPTION:Join us as we commemorate Rev. Dr. Martin Luther King\, Jr.’s vision of an America that offers every citizen the same rights\, freedoms\, and opportunities. This year\, we will screen “Black Panther”. All are invited to come.
URL:https://ebcla.org/event/mlk-movie-night/
END:VEVENT
BEGIN:VEVENT
DTSTART;TZID=UTC:20190119T090000
DTEND;TZID=UTC:20190119T110000
DTSTAMP:20260425T071950
CREATED:20181221T060313Z
LAST-MODIFIED:20181221T060313Z
UID:1104-1547888400-1547895600@ebcla.org
SUMMARY:Prime Timer's New Years Breakfast
DESCRIPTION:All Prime Timer’s (55+) are invited for a special breakfast and fellowship. Contact Michi Tanioka for details and to RSVP. 
URL:https://ebcla.org/event/prime-timers-new-years-breakfast/
END:VEVENT
BEGIN:VEVENT
DTSTART;TZID=UTC:20190116T120000
DTEND;TZID=UTC:20190116T140000
DTSTAMP:20260425T071950
CREATED:20181221T060545Z
LAST-MODIFIED:20181221T060545Z
UID:1106-1547640000-1547647200@ebcla.org
SUMMARY:TTT Lunch - Westside
DESCRIPTION:The pastoral staff will be in the Westside to meet with all who work in and around that area. Contact Pastor Jonathan for details and to RSVP.
URL:https://ebcla.org/event/ttt-lunch-westside/
END:VEVENT
BEGIN:VEVENT
DTSTART;TZID=UTC:20190114T093000
DTEND;TZID=UTC:20190114T110000
DTSTAMP:20260425T071950
CREATED:20181214T031528Z
LAST-MODIFIED:20181214T031528Z
UID:1088-1547458200-1547463600@ebcla.org
SUMMARY:Prime Timer's Bible Study
DESCRIPTION:Join Prime Timer’s (55+) monthly for prayer\, fellowship\, and Bible study.
URL:https://ebcla.org/event/prime-timers-bible-study-6/
LOCATION:Ministry Center Room 100/101
END:VEVENT
BEGIN:VEVENT
DTSTART;TZID=UTC:20190113T114500
DTEND;TZID=UTC:20190113T133000
DTSTAMP:20260425T071950
CREATED:20181121T080022Z
LAST-MODIFIED:20181221T053401Z
UID:1026-1547379900-1547386200@ebcla.org
SUMMARY:The Dialogue
DESCRIPTION:A monthly meeting on LGBT+ inclusion from a conservative point of view.
URL:https://ebcla.org/event/the-dialogue-2/
LOCATION:Nagano Chapel
END:VEVENT
BEGIN:VEVENT
DTSTART;TZID=UTC:20190113T113000
DTEND;TZID=UTC:20190113T140000
DTSTAMP:20260425T071950
CREATED:20181221T053511Z
LAST-MODIFIED:20181221T053511Z
UID:1098-1547379000-1547388000@ebcla.org
SUMMARY:The Open Door
DESCRIPTION:A support and fellowship group for LGBT/Queer Christians and allies.
URL:https://ebcla.org/event/the-open-door-13/
LOCATION:Ministry Center Room 201/202
END:VEVENT
BEGIN:VEVENT
DTSTART;TZID=UTC:20190113T113000
DTEND;TZID=UTC:20190113T130000
DTSTAMP:20260425T071950
CREATED:20190109T034946Z
LAST-MODIFIED:20190109T034946Z
UID:1147-1547379000-1547384400@ebcla.org
SUMMARY:All-Church Lunch
DESCRIPTION:Everyone is invited to stay after service for a time of eating together and fellowship. Menu: Pizza. Suggested donation $3.
URL:https://ebcla.org/event/all-church-lunch-13/
END:VEVENT
BEGIN:VEVENT
DTSTART;TZID=UTC:20190113T084500
DTEND;TZID=UTC:20190113T094500
DTSTAMP:20260425T071950
CREATED:20181221T061953Z
LAST-MODIFIED:20181221T061953Z
UID:1112-1547369100-1547372700@ebcla.org
SUMMARY:CLASS Community
DESCRIPTION:Join CLASS Community! The Seven Churches in Revelation (MC100/101).\nUnder the Unpredictable Plant: An Exploration in Vocational Holiness (MC201/202).\nIn the Name of Jesus: Reflections on Christian Leadership (MCFH).
URL:https://ebcla.org/event/class-community-5/
END:VEVENT
BEGIN:VEVENT
DTSTART;TZID=UTC:20190113T083000
DTEND;TZID=UTC:20190113T100000
DTSTAMP:20260425T071950
CREATED:20181214T031332Z
LAST-MODIFIED:20181214T031332Z
UID:1085-1547368200-1547373600@ebcla.org
SUMMARY:The Journey
DESCRIPTION:All parents of children (of any age) with special needs are invited to join this monthly group. Contact Pastor Shirley for more information.
URL:https://ebcla.org/event/the-journey-6/
LOCATION:Ministry Center Room 200
END:VEVENT
BEGIN:VEVENT
DTSTART;TZID=UTC:20190112T073000
DTEND;TZID=UTC:20190112T210000
DTSTAMP:20260425T071950
CREATED:20181214T031157Z
LAST-MODIFIED:20181214T031157Z
UID:1082-1547278200-1547326800@ebcla.org
SUMMARY:Men's Breakfast
DESCRIPTION:All men are invited to our monthly group to eat together and reflect on a book study. RSVP to Pastor Jonathan. Location: Colonial Kitchen\, San Marino
URL:https://ebcla.org/event/mens-breakfast-10/
LOCATION:Colonial Kitchen\, 1110 Huntington Dr\, San Marino\, California\, 91108
END:VEVENT
BEGIN:VEVENT
DTSTART;TZID=UTC:20190106T113000
DTEND;TZID=UTC:20190106T130000
DTSTAMP:20260425T071950
CREATED:20190109T035253Z
LAST-MODIFIED:20190109T035253Z
UID:1151-1546774200-1546779600@ebcla.org
SUMMARY:Creative Gathering
DESCRIPTION:If you are an artist\, designer\, writer\, photographer\, musician\, fashion designer\, film maker\, or anything else creative\, come join Pastor Jason for an open meeting to connect with other creatives within our church family! Contact: Pastor Jason
URL:https://ebcla.org/event/creative-gathering-2/
END:VEVENT
END:VCALENDAR