BEGIN:VCALENDAR
VERSION:2.0
PRODID:-//Evergreen - ECPv6.15.17.1//NONSGML v1.0//EN
CALSCALE:GREGORIAN
METHOD:PUBLISH
X-ORIGINAL-URL:https://ebcla.org
X-WR-CALDESC:Events for Evergreen
REFRESH-INTERVAL;VALUE=DURATION:PT1H
X-Robots-Tag:noindex
X-PUBLISHED-TTL:PT1H
BEGIN:VTIMEZONE
TZID:UTC
BEGIN:STANDARD
TZOFFSETFROM:+0000
TZOFFSETTO:+0000
TZNAME:UTC
DTSTART:20170101T000000
END:STANDARD
END:VTIMEZONE
BEGIN:VEVENT
DTSTART;TZID=UTC:20190119T090000
DTEND;TZID=UTC:20190119T110000
DTSTAMP:20260425T102617
CREATED:20181221T060313Z
LAST-MODIFIED:20181221T060313Z
UID:1104-1547888400-1547895600@ebcla.org
SUMMARY:Prime Timer's New Years Breakfast
DESCRIPTION:All Prime Timer’s (55+) are invited for a special breakfast and fellowship. Contact Michi Tanioka for details and to RSVP. 
URL:https://ebcla.org/event/prime-timers-new-years-breakfast/
END:VEVENT
BEGIN:VEVENT
DTSTART;TZID=UTC:20190116T120000
DTEND;TZID=UTC:20190116T140000
DTSTAMP:20260425T102617
CREATED:20181221T060545Z
LAST-MODIFIED:20181221T060545Z
UID:1106-1547640000-1547647200@ebcla.org
SUMMARY:TTT Lunch - Westside
DESCRIPTION:The pastoral staff will be in the Westside to meet with all who work in and around that area. Contact Pastor Jonathan for details and to RSVP.
URL:https://ebcla.org/event/ttt-lunch-westside/
END:VEVENT
BEGIN:VEVENT
DTSTART;TZID=UTC:20190114T093000
DTEND;TZID=UTC:20190114T110000
DTSTAMP:20260425T102617
CREATED:20181214T031528Z
LAST-MODIFIED:20181214T031528Z
UID:1088-1547458200-1547463600@ebcla.org
SUMMARY:Prime Timer's Bible Study
DESCRIPTION:Join Prime Timer’s (55+) monthly for prayer\, fellowship\, and Bible study.
URL:https://ebcla.org/event/prime-timers-bible-study-6/
LOCATION:Ministry Center Room 100/101
END:VEVENT
BEGIN:VEVENT
DTSTART;TZID=UTC:20190113T114500
DTEND;TZID=UTC:20190113T133000
DTSTAMP:20260425T102617
CREATED:20181121T080022Z
LAST-MODIFIED:20181221T053401Z
UID:1026-1547379900-1547386200@ebcla.org
SUMMARY:The Dialogue
DESCRIPTION:A monthly meeting on LGBT+ inclusion from a conservative point of view.
URL:https://ebcla.org/event/the-dialogue-2/
LOCATION:Nagano Chapel
END:VEVENT
BEGIN:VEVENT
DTSTART;TZID=UTC:20190113T113000
DTEND;TZID=UTC:20190113T140000
DTSTAMP:20260425T102617
CREATED:20181221T053511Z
LAST-MODIFIED:20181221T053511Z
UID:1098-1547379000-1547388000@ebcla.org
SUMMARY:The Open Door
DESCRIPTION:A support and fellowship group for LGBT/Queer Christians and allies.
URL:https://ebcla.org/event/the-open-door-13/
LOCATION:Ministry Center Room 201/202
END:VEVENT
BEGIN:VEVENT
DTSTART;TZID=UTC:20190113T113000
DTEND;TZID=UTC:20190113T130000
DTSTAMP:20260425T102617
CREATED:20190109T034946Z
LAST-MODIFIED:20190109T034946Z
UID:1147-1547379000-1547384400@ebcla.org
SUMMARY:All-Church Lunch
DESCRIPTION:Everyone is invited to stay after service for a time of eating together and fellowship. Menu: Pizza. Suggested donation $3.
URL:https://ebcla.org/event/all-church-lunch-13/
END:VEVENT
BEGIN:VEVENT
DTSTART;TZID=UTC:20190113T084500
DTEND;TZID=UTC:20190113T094500
DTSTAMP:20260425T102617
CREATED:20181221T061953Z
LAST-MODIFIED:20181221T061953Z
UID:1112-1547369100-1547372700@ebcla.org
SUMMARY:CLASS Community
DESCRIPTION:Join CLASS Community! The Seven Churches in Revelation (MC100/101).\nUnder the Unpredictable Plant: An Exploration in Vocational Holiness (MC201/202).\nIn the Name of Jesus: Reflections on Christian Leadership (MCFH).
URL:https://ebcla.org/event/class-community-5/
END:VEVENT
BEGIN:VEVENT
DTSTART;TZID=UTC:20190113T083000
DTEND;TZID=UTC:20190113T100000
DTSTAMP:20260425T102617
CREATED:20181214T031332Z
LAST-MODIFIED:20181214T031332Z
UID:1085-1547368200-1547373600@ebcla.org
SUMMARY:The Journey
DESCRIPTION:All parents of children (of any age) with special needs are invited to join this monthly group. Contact Pastor Shirley for more information.
URL:https://ebcla.org/event/the-journey-6/
LOCATION:Ministry Center Room 200
END:VEVENT
BEGIN:VEVENT
DTSTART;TZID=UTC:20190112T073000
DTEND;TZID=UTC:20190112T210000
DTSTAMP:20260425T102617
CREATED:20181214T031157Z
LAST-MODIFIED:20181214T031157Z
UID:1082-1547278200-1547326800@ebcla.org
SUMMARY:Men's Breakfast
DESCRIPTION:All men are invited to our monthly group to eat together and reflect on a book study. RSVP to Pastor Jonathan. Location: Colonial Kitchen\, San Marino
URL:https://ebcla.org/event/mens-breakfast-10/
LOCATION:Colonial Kitchen\, 1110 Huntington Dr\, San Marino\, California\, 91108
END:VEVENT
BEGIN:VEVENT
DTSTART;TZID=UTC:20190106T113000
DTEND;TZID=UTC:20190106T130000
DTSTAMP:20260425T102617
CREATED:20190109T035253Z
LAST-MODIFIED:20190109T035253Z
UID:1151-1546774200-1546779600@ebcla.org
SUMMARY:Creative Gathering
DESCRIPTION:If you are an artist\, designer\, writer\, photographer\, musician\, fashion designer\, film maker\, or anything else creative\, come join Pastor Jason for an open meeting to connect with other creatives within our church family! Contact: Pastor Jason
URL:https://ebcla.org/event/creative-gathering-2/
END:VEVENT
BEGIN:VEVENT
DTSTART;VALUE=DATE:20190101
DTEND;VALUE=DATE:20190102
DTSTAMP:20260425T102617
CREATED:20181130T081448Z
LAST-MODIFIED:20181130T081448Z
UID:1051-1546300800-1546387199@ebcla.org
SUMMARY:Church Closed
DESCRIPTION:
URL:https://ebcla.org/event/church-closed-4/
END:VEVENT
BEGIN:VEVENT
DTSTART;VALUE=DATE:20181226
DTEND;VALUE=DATE:20181227
DTSTAMP:20260425T102617
CREATED:20181130T081429Z
LAST-MODIFIED:20181130T081429Z
UID:1050-1545782400-1545868799@ebcla.org
SUMMARY:Church Closed
DESCRIPTION:
URL:https://ebcla.org/event/church-closed-3/
END:VEVENT
BEGIN:VEVENT
DTSTART;VALUE=DATE:20181225
DTEND;VALUE=DATE:20181226
DTSTAMP:20260425T102617
CREATED:20181130T081333Z
LAST-MODIFIED:20181130T081333Z
UID:1048-1545696000-1545782399@ebcla.org
SUMMARY:Church Closed
DESCRIPTION:
URL:https://ebcla.org/event/church-closed-2/
END:VEVENT
BEGIN:VEVENT
DTSTART;TZID=UTC:20181224T193000
DTEND;TZID=UTC:20181224T203000
DTSTAMP:20260425T102617
CREATED:20181130T081721Z
LAST-MODIFIED:20181130T081721Z
UID:1056-1545679800-1545683400@ebcla.org
SUMMARY:Christmas Eve Service
DESCRIPTION:On the final evening of the Advent season\, we invite you and your family to an intimate\, reflective service as we welcome and receive God’s gift to us in Jesus Christ.
URL:https://ebcla.org/event/christmas-eve-service/
END:VEVENT
BEGIN:VEVENT
DTSTART;TZID=UTC:20181223T120000
DTEND;TZID=UTC:20181223T140000
DTSTAMP:20260425T102617
CREATED:20181130T081302Z
LAST-MODIFIED:20181130T081302Z
UID:1046-1545566400-1545573600@ebcla.org
SUMMARY:The Open Door
DESCRIPTION:A support and fellowship group for LGBT/Queer Christians and allies.
URL:https://ebcla.org/event/the-open-door-12/
LOCATION:Ministry Center Room 201/202
END:VEVENT
BEGIN:VEVENT
DTSTART;TZID=UTC:20181223T113000
DTEND;TZID=UTC:20181223T130000
DTSTAMP:20260425T102617
CREATED:20181130T081109Z
LAST-MODIFIED:20181214T030437Z
UID:1042-1545564600-1545570000@ebcla.org
SUMMARY:All-Church Lunch
DESCRIPTION:Everyone is invited to stay after service for a time of eating together and fellowship. Menu: Tamales. 
URL:https://ebcla.org/event/all-church-lunch-12/
END:VEVENT
BEGIN:VEVENT
DTSTART;TZID=UTC:20181223T100000
DTEND;TZID=UTC:20181223T113000
DTSTAMP:20260425T102617
CREATED:20181130T081806Z
LAST-MODIFIED:20181130T081806Z
UID:1058-1545559200-1545564600@ebcla.org
SUMMARY:Christmas Sunday Service
DESCRIPTION:Invite your loved ones and join in the joyous celebration of the birth of Jesus as we gather and worship together as a church family. Stay after service for a special holiday lunch!
URL:https://ebcla.org/event/christmas-sunday-service/
END:VEVENT
BEGIN:VEVENT
DTSTART;TZID=UTC:20181219T120000
DTEND;TZID=UTC:20181219T133000
DTSTAMP:20260425T102617
CREATED:20181214T030718Z
LAST-MODIFIED:20181214T030718Z
UID:1079-1545220800-1545226200@ebcla.org
SUMMARY:TTT Lunch - Alhambra
DESCRIPTION:The pastoral staff will be in Alhambra to meet with all who work in and around that area. Contact Pastor Jonathan for details and to RSVP.
URL:https://ebcla.org/event/ttt-lunch-alhambra/
LOCATION:Lovebirds Cafe\, 10 South First Street\, Alhambra\, California\, 91801
END:VEVENT
BEGIN:VEVENT
DTSTART;TZID=UTC:20181216T120000
DTEND;TZID=UTC:20181216T133000
DTSTAMP:20260425T102617
CREATED:20181130T081632Z
LAST-MODIFIED:20181130T081632Z
UID:1054-1544961600-1544967000@ebcla.org
SUMMARY:The Open Door Parent Support Group
DESCRIPTION:A support group for parents of LGBT/Queer children.
URL:https://ebcla.org/event/open-door-parent-support-group-9/
LOCATION:Ministry Center Room 100/101
END:VEVENT
BEGIN:VEVENT
DTSTART;TZID=UTC:20181209T120000
DTEND;TZID=UTC:20181209T140000
DTSTAMP:20260425T102617
CREATED:20181130T081227Z
LAST-MODIFIED:20181130T081227Z
UID:1044-1544356800-1544364000@ebcla.org
SUMMARY:The Open Door
DESCRIPTION:A support and fellowship group for LGBT/Queer Christians and allies.
URL:https://ebcla.org/event/the-open-door-11/
LOCATION:Ministry Center Room 201/202
END:VEVENT
BEGIN:VEVENT
DTSTART;TZID=UTC:20181209T120000
DTEND;TZID=UTC:20181209T140000
DTSTAMP:20260425T102617
CREATED:20181121T075617Z
LAST-MODIFIED:20181121T075617Z
UID:1021-1544356800-1544364000@ebcla.org
SUMMARY:Congregational Resource Plan Meeting
DESCRIPTION:All are invited to attend as our members gather to affirm our 2019 proposed budget.
URL:https://ebcla.org/event/congregational-resource-plan-meeting/
LOCATION:EBCLA Ministry Center Fellowship Hall
END:VEVENT
BEGIN:VEVENT
DTSTART;TZID=UTC:20181209T113000
DTEND;TZID=UTC:20181209T113000
DTSTAMP:20260425T102617
CREATED:20181121T080528Z
LAST-MODIFIED:20181121T080528Z
UID:1031-1544355000-1544355000@ebcla.org
SUMMARY:All-Church Lunch
DESCRIPTION:Everyone is invited to stay after service for a time of eating together and fellowship. Menu: Penne with meat and marinara. Suggested donation $3.
URL:https://ebcla.org/event/all-church-lunch-11/
LOCATION:EBCLA Ministry Center Fellowship Hall
END:VEVENT
BEGIN:VEVENT
DTSTART;TZID=UTC:20181208T073000
DTEND;TZID=UTC:20181208T090000
DTSTAMP:20260425T102617
CREATED:20181121T075918Z
LAST-MODIFIED:20181121T075918Z
UID:1023-1544254200-1544259600@ebcla.org
SUMMARY:Men's Breakfast
DESCRIPTION:All men are invited to our monthly group to eat together and reflect on the “The Economics of Neighborly Love”. RSVP to Pastor Jonathan. Location: Nano Cafe\, Sierra Madre.
URL:https://ebcla.org/event/mens-breakfast-9/
LOCATION:Nano Cafe\, Sierra Madre
END:VEVENT
BEGIN:VEVENT
DTSTART;TZID=UTC:20181202T120000
DTEND;TZID=UTC:20181202T130000
DTSTAMP:20260425T102617
CREATED:20181121T075509Z
LAST-MODIFIED:20181121T075509Z
UID:1019-1543752000-1543755600@ebcla.org
SUMMARY:Town Hall Meeting
DESCRIPTION:Come if you have any questions for the Finance Committee or Board regarding the 2019 proposed budget.
URL:https://ebcla.org/event/town-hall-meeting/
LOCATION:Ministry Center Room 100/101
END:VEVENT
BEGIN:VEVENT
DTSTART;TZID=UTC:20181202T114500
DTEND;TZID=UTC:20181202T130000
DTSTAMP:20260425T102617
CREATED:20181121T075236Z
LAST-MODIFIED:20181121T075236Z
UID:1016-1543751100-1543755600@ebcla.org
SUMMARY:Creative Gathering
DESCRIPTION:If you are an artist\, designer\, writer\, photographer\, musician\, fashion designer\, film maker\, or anything else creative\, come join Pastor Jason for an open meeting to connect with other creatives within our church family! Contact: Pastor Jason
URL:https://ebcla.org/event/creative-gathering/
LOCATION:Back of the Sanctuary
END:VEVENT
BEGIN:VEVENT
DTSTART;TZID=UTC:20181201T170000
DTEND;TZID=UTC:20181201T200000
DTSTAMP:20260425T102617
CREATED:20181121T074931Z
LAST-MODIFIED:20181121T074931Z
UID:1014-1543683600-1543694400@ebcla.org
SUMMARY:Advent Dinner Potluck
DESCRIPTION:Everyone is welcomed to kick off the Advent season as a church family. There will be carol singing\, crafts for the children\, and other fun holiday activities. Last name: (A-G) Side Dishes; (H-R) Main Dishes; (S-Z) Desserts.
URL:https://ebcla.org/event/advent-dinner-potluck/
END:VEVENT
BEGIN:VEVENT
DTSTART;TZID=UTC:20181128T120000
DTEND;TZID=UTC:20181128T133000
DTSTAMP:20260425T102617
CREATED:20181019T032457Z
LAST-MODIFIED:20181108T060303Z
UID:953-1543406400-1543411800@ebcla.org
SUMMARY:TTT Lunch
DESCRIPTION:The pastoral staff will be in Burbank to meet with all who work in and around that area. Contact Pastor Jonathan for details and to RSVP.
URL:https://ebcla.org/event/ttt-lunch-3/
END:VEVENT
BEGIN:VEVENT
DTSTART;TZID=UTC:20181126T093000
DTEND;TZID=UTC:20181126T110000
DTSTAMP:20260425T102617
CREATED:20181008T234750Z
LAST-MODIFIED:20181108T060503Z
UID:918-1543224600-1543230000@ebcla.org
SUMMARY:Prime Timer's Bible Study
DESCRIPTION:Join Prime Timer’s (55+) monthly for prayer\, fellowship\, and Bible study.
URL:https://ebcla.org/event/prime-timers-bible-study-5/
END:VEVENT
BEGIN:VEVENT
DTSTART;TZID=UTC:20181125T120000
DTEND;TZID=UTC:20181125T140000
DTSTAMP:20260425T102617
CREATED:20181108T061627Z
LAST-MODIFIED:20181108T061627Z
UID:995-1543147200-1543154400@ebcla.org
SUMMARY:The Open Door
DESCRIPTION:A support and fellowship group for LGBT/Queer Christians and allies.
URL:https://ebcla.org/event/the-open-door-10/
LOCATION:Ministry Center Room 201/202
END:VEVENT
BEGIN:VEVENT
DTSTART;TZID=UTC:20181125T113000
DTEND;TZID=UTC:20181125T130000
DTSTAMP:20260425T102617
CREATED:20181019T033145Z
LAST-MODIFIED:20181019T033145Z
UID:959-1543145400-1543150800@ebcla.org
SUMMARY:All-Church Lunch
DESCRIPTION:Everyone is invited to stay after service for a time of eating together and fellowship. Menu: Broasted Chicken. Suggested donation $3.
URL:https://ebcla.org/event/all-church-lunch-10/
END:VEVENT
END:VCALENDAR