BEGIN:VCALENDAR
VERSION:2.0
PRODID:-//Evergreen - ECPv6.15.17.1//NONSGML v1.0//EN
CALSCALE:GREGORIAN
METHOD:PUBLISH
X-WR-CALNAME:Evergreen
X-ORIGINAL-URL:https://ebcla.org
X-WR-CALDESC:Events for Evergreen
REFRESH-INTERVAL;VALUE=DURATION:PT1H
X-Robots-Tag:noindex
X-PUBLISHED-TTL:PT1H
BEGIN:VTIMEZONE
TZID:UTC
BEGIN:STANDARD
TZOFFSETFROM:+0000
TZOFFSETTO:+0000
TZNAME:UTC
DTSTART:20170101T000000
END:STANDARD
END:VTIMEZONE
BEGIN:VEVENT
DTSTART;TZID=UTC:20181125T100000
DTEND;TZID=UTC:20181125T110000
DTSTAMP:20260425T150155
CREATED:20181121T074702Z
LAST-MODIFIED:20181121T074702Z
UID:1012-1543140000-1543143600@ebcla.org
SUMMARY:RMMO
DESCRIPTION:Retired Ministers and Missionaries Offering
URL:https://ebcla.org/event/rmmo/
END:VEVENT
BEGIN:VEVENT
DTSTART;VALUE=DATE:20181122
DTEND;VALUE=DATE:20181124
DTSTAMP:20260425T150155
CREATED:20181121T074344Z
LAST-MODIFIED:20181121T074344Z
UID:1010-1542844800-1543017599@ebcla.org
SUMMARY:Church Closed
DESCRIPTION:
URL:https://ebcla.org/event/church-closed/
END:VEVENT
BEGIN:VEVENT
DTSTART;TZID=UTC:20181121T193000
DTEND;TZID=UTC:20181121T203000
DTSTAMP:20260425T150155
CREATED:20181108T061236Z
LAST-MODIFIED:20181108T061236Z
UID:990-1542828600-1542832200@ebcla.org
SUMMARY:Thanksgiving Worship Night
DESCRIPTION:Gather with your EBCLA family as we remember God’s grace and blessings in our lives this year through song and personal reflection.
URL:https://ebcla.org/event/thanksgiving-worship-night/
END:VEVENT
BEGIN:VEVENT
DTSTART;TZID=UTC:20181121T113000
DTEND;TZID=UTC:20181121T130000
DTSTAMP:20260425T150155
CREATED:20181121T080235Z
LAST-MODIFIED:20181121T080235Z
UID:1028-1542799800-1542805200@ebcla.org
SUMMARY:Family Promise Volunteer Luncheon
DESCRIPTION:A big thank you to all of our volunteers who helped host Family Promise in 2018. We would like to show our appreciation. Join us for a light lunch. RSVP to Brian Chan
URL:https://ebcla.org/event/family-promise-volunteer-luncheon/
LOCATION:Ministry Center Room 201/202
END:VEVENT
BEGIN:VEVENT
DTSTART;TZID=UTC:20181118T120000
DTEND;TZID=UTC:20181118T133000
DTSTAMP:20260425T150155
CREATED:20181108T061847Z
LAST-MODIFIED:20181108T061847Z
UID:997-1542542400-1542547800@ebcla.org
SUMMARY:The Open Door Parent Support Group
DESCRIPTION:A support group for parents of LGBT/Queer children.
URL:https://ebcla.org/event/open-door-parent-support-group-8/
LOCATION:Ministry Center Room 100/101
END:VEVENT
BEGIN:VEVENT
DTSTART;TZID=UTC:20181118T084500
DTEND;TZID=UTC:20181118T100000
DTSTAMP:20260425T150155
CREATED:20181108T061051Z
LAST-MODIFIED:20181108T061051Z
UID:988-1542530700-1542535200@ebcla.org
SUMMARY:Men's Fellowship
DESCRIPTION:All men are invited to enjoy a hearty breakfast and good conversation. RSVP to Pastor Jonathan.
URL:https://ebcla.org/event/mens-fellowship-2/
END:VEVENT
BEGIN:VEVENT
DTSTART;TZID=UTC:20181111T120000
DTEND;TZID=UTC:20181111T140000
DTSTAMP:20260425T150155
CREATED:20181108T061547Z
LAST-MODIFIED:20181108T061547Z
UID:992-1541937600-1541944800@ebcla.org
SUMMARY:The Open Door
DESCRIPTION:A support and fellowship group for LGBT/Queer Christians and allies.
URL:https://ebcla.org/event/the-open-door-9/
LOCATION:Ministry Center Room 201/202
END:VEVENT
BEGIN:VEVENT
DTSTART;TZID=UTC:20181111T120000
DTEND;TZID=UTC:20181111T133000
DTSTAMP:20260425T150155
CREATED:20181012T013255Z
LAST-MODIFIED:20181019T031330Z
UID:933-1541937600-1541943000@ebcla.org
SUMMARY:Membership Seminar
DESCRIPTION:Have you been wanting to commit to EBCLA and become a member? If so\, you are invited to come to this one hour seminar that will present and assist you through the membership process. RSVP by November 7 to Eileen Quon.
URL:https://ebcla.org/event/membership-seminar-3/
LOCATION:Ministry Center Room 100/101
END:VEVENT
BEGIN:VEVENT
DTSTART;TZID=UTC:20181111T114500
DTEND;TZID=UTC:20181111T133000
DTSTAMP:20260425T150155
CREATED:20181019T032247Z
LAST-MODIFIED:20181019T032247Z
UID:951-1541936700-1541943000@ebcla.org
SUMMARY:The Dialogue
DESCRIPTION:A monthly meeting on LGBT+ issues for people with a more conservative point of view.
URL:https://ebcla.org/event/the-dialogue/
LOCATION:Ministry Center Room 200
END:VEVENT
BEGIN:VEVENT
DTSTART;TZID=UTC:20181111T113000
DTEND;TZID=UTC:20181111T130000
DTSTAMP:20260425T150155
CREATED:20181019T033001Z
LAST-MODIFIED:20181019T033036Z
UID:957-1541935800-1541941200@ebcla.org
SUMMARY:All-Church Lunch
DESCRIPTION:Everyone is invited to stay after service for a time of eating together and fellowship. Menu: Vietnamese Sandwiches. Suggested donation $3.
URL:https://ebcla.org/event/all-church-lunch-9/
END:VEVENT
BEGIN:VEVENT
DTSTART;TZID=UTC:20181111T084500
DTEND;TZID=UTC:20181111T100000
DTSTAMP:20260425T150155
CREATED:20181019T031815Z
LAST-MODIFIED:20181019T031815Z
UID:945-1541925900-1541930400@ebcla.org
SUMMARY:The Journey
DESCRIPTION:All parents of children (of any age) with special needs are invited to join this monthly group. Contact Pastor Shirley for more information.
URL:https://ebcla.org/event/the-journey-4/
LOCATION:Ministry Center Room 200
END:VEVENT
BEGIN:VEVENT
DTSTART;TZID=UTC:20181110T073000
DTEND;TZID=UTC:20181110T090000
DTSTAMP:20260425T150155
CREATED:20181019T031957Z
LAST-MODIFIED:20181019T032115Z
UID:948-1541835000-1541840400@ebcla.org
SUMMARY:Men's Breakfast
DESCRIPTION:All men are invited to our monthly group to eat together and reflect on the “The Economics of Neighborly Love”. RSVP to Pastor Jonathan. Location: Twohey’s Restaurant.
URL:https://ebcla.org/event/mens-breakfast-8/
END:VEVENT
BEGIN:VEVENT
DTSTART;TZID=UTC:20181104T170000
DTEND;TZID=UTC:20181111T080000
DTSTAMP:20260425T150155
CREATED:20180926T052123Z
LAST-MODIFIED:20180926T052250Z
UID:888-1541350800-1541923200@ebcla.org
SUMMARY:Host Family Promise of SGV
DESCRIPTION:Help us show kingdom hospitality to Family Promise guests on the week of November 4-11. Volunteer individually or with a group. Be a part of hosting dinner\, staying overnight\, taking on breakfast duty\, or helping with set-up/take down. Sign up at the cart October 14-28 or contact Sue Muramatsu for details.
URL:https://ebcla.org/event/host-family-promise-sgv/
END:VEVENT
BEGIN:VEVENT
DTSTART;TZID=UTC:20181104T113000
DTEND;TZID=UTC:20181104T130000
DTSTAMP:20260425T150155
CREATED:20181012T013108Z
LAST-MODIFIED:20181019T031148Z
UID:931-1541331000-1541336400@ebcla.org
SUMMARY:Baptism Seminar
DESCRIPTION:Have you been wanting to be baptized? Baptism is a meaningful spiritual milestone because we publicly declare our faith in Christ as Savior and Lord and our incorporation into the Body of Christ. Our next baptism will be November 25. Come to learn about the baptism process here at EBCLA. RSVP by October 31 to Eileen Quon.
URL:https://ebcla.org/event/baptism-seminar/
LOCATION:Ministry Center Room 100/101
END:VEVENT
BEGIN:VEVENT
DTSTART;VALUE=DATE:20181104
DTEND;VALUE=DATE:20181105
DTSTAMP:20260425T150155
CREATED:20181019T031435Z
LAST-MODIFIED:20181019T031435Z
UID:941-1541289600-1541375999@ebcla.org
SUMMARY:Daylight Savings Time
DESCRIPTION:Make it to church on time! Turn your clocks back by one hour on Saturday night.
URL:https://ebcla.org/event/daylight-savings-time/
END:VEVENT
BEGIN:VEVENT
DTSTART;TZID=UTC:20181028T120000
DTEND;TZID=UTC:20181028T133000
DTSTAMP:20260425T150155
CREATED:20181005T021038Z
LAST-MODIFIED:20181005T021038Z
UID:912-1540728000-1540733400@ebcla.org
SUMMARY:Quarterly Congregational Meeting
DESCRIPTION:All are welcomed to hear updates from Pastor Jason and our ministry staff. We will also be affirming candidates for our Church Board. Lunch\, Chili Rice ($3).
URL:https://ebcla.org/event/quarterly-congregational-meeting-3/
END:VEVENT
BEGIN:VEVENT
DTSTART;TZID=UTC:20181028T120000
DTEND;TZID=UTC:20181028T130000
DTSTAMP:20260425T150155
CREATED:20181005T020522Z
LAST-MODIFIED:20181005T020522Z
UID:906-1540728000-1540731600@ebcla.org
SUMMARY:The Open Door
DESCRIPTION:A support and fellowship group for LGBT/Queer Christians and allies.
URL:https://ebcla.org/event/the-open-door-8/
END:VEVENT
BEGIN:VEVENT
DTSTART;TZID=UTC:20181028T113000
DTEND;TZID=UTC:20181028T130000
DTSTAMP:20260425T150155
CREATED:20180926T043820Z
LAST-MODIFIED:20180926T051624Z
UID:878-1540726200-1540731600@ebcla.org
SUMMARY:All-Church Lunch
DESCRIPTION:Everyone is invited to stay after service for a time of eating together and fellowship. Menu: Chili Rice. Suggested donation $3.
URL:https://ebcla.org/event/all-church-lunch-8/
END:VEVENT
BEGIN:VEVENT
DTSTART;TZID=UTC:20181028T084500
DTEND;TZID=UTC:20181028T100000
DTSTAMP:20260425T150155
CREATED:20181005T015314Z
LAST-MODIFIED:20181005T015314Z
UID:898-1540716300-1540720800@ebcla.org
SUMMARY:Class Community
DESCRIPTION:Join CLASS Community! Parenting with Connection (MCFH). Grace based parenting class for parents of all ages. 
URL:https://ebcla.org/event/class-community-4/
END:VEVENT
BEGIN:VEVENT
DTSTART;TZID=UTC:20181028T083000
DTEND;TZID=UTC:20181028T100000
DTSTAMP:20260425T150155
CREATED:20181012T012843Z
LAST-MODIFIED:20181012T012843Z
UID:929-1540715400-1540720800@ebcla.org
SUMMARY:Recycling
DESCRIPTION:Support Boy Scout Troop 361 and bring aluminum cans\, #1 plastic\, and glass bottles for recycling.
URL:https://ebcla.org/event/recycling-7/
END:VEVENT
BEGIN:VEVENT
DTSTART;TZID=UTC:20181027T160000
DTEND;TZID=UTC:20181027T200000
DTSTAMP:20260425T150155
CREATED:20181019T032755Z
LAST-MODIFIED:20181019T032755Z
UID:955-1540656000-1540670400@ebcla.org
SUMMARY:Fall Festival
DESCRIPTION:Everyone is invited to come and join in the fun! There will be free game booths with prizes\, baking contest\, face painting\, balloon animals\, and an outdoor movie. Food available for minimal purchase.
URL:https://ebcla.org/event/fall-festival/
END:VEVENT
BEGIN:VEVENT
DTSTART;TZID=UTC:20181021T120000
DTEND;TZID=UTC:20181021T133000
DTSTAMP:20260425T150155
CREATED:20181005T020618Z
LAST-MODIFIED:20181005T020618Z
UID:908-1540123200-1540128600@ebcla.org
SUMMARY:The Open Door Parent Support Group
DESCRIPTION:A support group for parents of LGBT/Queer children.
URL:https://ebcla.org/event/open-door-parent-support-group-7/
END:VEVENT
BEGIN:VEVENT
DTSTART;TZID=UTC:20181021T100000
DTEND;TZID=UTC:20181021T113000
DTSTAMP:20260425T150155
CREATED:20181005T031225Z
LAST-MODIFIED:20181005T031225Z
UID:914-1540116000-1540121400@ebcla.org
SUMMARY:Evacuation Drill
DESCRIPTION:We will be conducting a church-wide evacuation drill during worship service to prepare us for a potential emergency situation on campus.
URL:https://ebcla.org/event/evacuation-drill/
END:VEVENT
BEGIN:VEVENT
DTSTART;TZID=UTC:20181021T090000
DTEND;TZID=UTC:20181021T094500
DTSTAMP:20260425T150155
CREATED:20181005T020927Z
LAST-MODIFIED:20181005T020927Z
UID:910-1540112400-1540115100@ebcla.org
SUMMARY:Lectio
DESCRIPTION:Nourish your heart\, mind\, body\, and soul by reading\, hearing and reflecting personally on God’s Word and allowing the Spirit of God in us to commune with our spirit.
URL:https://ebcla.org/event/lectio-2/
END:VEVENT
BEGIN:VEVENT
DTSTART;TZID=UTC:20181021T084500
DTEND;TZID=UTC:20181021T100000
DTSTAMP:20260425T150155
CREATED:20181005T015236Z
LAST-MODIFIED:20181012T011714Z
UID:896-1540111500-1540116000@ebcla.org
SUMMARY:Class Community
DESCRIPTION:Join CLASS Community! Parenting with Connection (MCFH). Grace based parenting class for parents of all ages. You Are What You Love – The Quest of Seeking (MC100/101)
URL:https://ebcla.org/event/class-community-3/
END:VEVENT
BEGIN:VEVENT
DTSTART;TZID=UTC:20181020T090000
DTEND;TZID=UTC:20181020T110000
DTSTAMP:20260425T150155
CREATED:20181012T012100Z
LAST-MODIFIED:20181012T012100Z
UID:923-1540026000-1540033200@ebcla.org
SUMMARY:Prime Timer's Breakfast
DESCRIPTION:All Prime Timer’s (55+) are invited for a special breakfast and fellowship. Hear from speaker Bonnie Tang on the “Advancing Justice in Los Angeles for Asian Americans.” Cost $3. Contact Michi Tanioka for details and to RSVP. 
URL:https://ebcla.org/event/prime-timers-breakfast-4/
END:VEVENT
BEGIN:VEVENT
DTSTART;TZID=UTC:20181019T190000
DTEND;TZID=UTC:20181020T190000
DTSTAMP:20260425T150155
CREATED:20180926T043605Z
LAST-MODIFIED:20180926T043605Z
UID:874-1539975600-1540062000@ebcla.org
SUMMARY:24 Hour Prayer Vigil
DESCRIPTION:Everyone is invited to come and pray over our church body\, ministries\, leadership\, local community and more. Contact the Prayer Vigil Team for more information.
URL:https://ebcla.org/event/24-hour-prayer-vigil/
END:VEVENT
BEGIN:VEVENT
DTSTART;TZID=UTC:20181017T113000
DTEND;TZID=UTC:20181017T130000
DTSTAMP:20260425T150155
CREATED:20181005T015755Z
LAST-MODIFIED:20181005T015755Z
UID:900-1539775800-1539781200@ebcla.org
SUMMARY:TTT Lunch
DESCRIPTION:On the 3rd Wednesday of every month\, the Pastoral Staff will go to a different city to meet with you during your lunch hour. This is an opportunity to connect with you where you work and encourage you in what you do. This month\, the meeting place is California Pizza Kitchen on 99 N. Los Robles Ave. in Pasadena.  Contact Pastor Jonathan if you are interested in joining.
URL:https://ebcla.org/event/ttt-lunch-2/
END:VEVENT
BEGIN:VEVENT
DTSTART;TZID=UTC:20181015T093000
DTEND;TZID=UTC:20181015T230000
DTSTAMP:20260425T150155
CREATED:20181008T234656Z
LAST-MODIFIED:20181008T234715Z
UID:916-1539595800-1539644400@ebcla.org
SUMMARY:Prime Timer's Bible Study
DESCRIPTION:Join Prime Timer’s (55+) monthly for prayer\, fellowship\, and Bible study.
URL:https://ebcla.org/event/prime-timers-bible-study-4/
END:VEVENT
BEGIN:VEVENT
DTSTART;TZID=UTC:20181014T120000
DTEND;TZID=UTC:20181014T133000
DTSTAMP:20260425T150155
CREATED:20181005T020446Z
LAST-MODIFIED:20181005T020446Z
UID:904-1539518400-1539523800@ebcla.org
SUMMARY:The Open Door
DESCRIPTION:A support and fellowship group for LGBT/Queer Christians and allies.
URL:https://ebcla.org/event/the-open-door-7/
END:VEVENT
END:VCALENDAR