BEGIN:VCALENDAR
VERSION:2.0
PRODID:-//Evergreen - ECPv6.15.17.1//NONSGML v1.0//EN
CALSCALE:GREGORIAN
METHOD:PUBLISH
X-ORIGINAL-URL:https://ebcla.org
X-WR-CALDESC:Events for Evergreen
REFRESH-INTERVAL;VALUE=DURATION:PT1H
X-Robots-Tag:noindex
X-PUBLISHED-TTL:PT1H
BEGIN:VTIMEZONE
TZID:America/Los_Angeles
BEGIN:DAYLIGHT
TZOFFSETFROM:-0800
TZOFFSETTO:-0700
TZNAME:PDT
DTSTART:20200308T100000
END:DAYLIGHT
BEGIN:STANDARD
TZOFFSETFROM:-0700
TZOFFSETTO:-0800
TZNAME:PST
DTSTART:20201101T090000
END:STANDARD
BEGIN:DAYLIGHT
TZOFFSETFROM:-0800
TZOFFSETTO:-0700
TZNAME:PDT
DTSTART:20210314T100000
END:DAYLIGHT
BEGIN:STANDARD
TZOFFSETFROM:-0700
TZOFFSETTO:-0800
TZNAME:PST
DTSTART:20211107T090000
END:STANDARD
BEGIN:DAYLIGHT
TZOFFSETFROM:-0800
TZOFFSETTO:-0700
TZNAME:PDT
DTSTART:20220313T100000
END:DAYLIGHT
BEGIN:STANDARD
TZOFFSETFROM:-0700
TZOFFSETTO:-0800
TZNAME:PST
DTSTART:20221106T090000
END:STANDARD
END:VTIMEZONE
BEGIN:VEVENT
DTSTART;TZID=America/Los_Angeles:20210208T120000
DTEND;TZID=America/Los_Angeles:20210208T130000
DTSTAMP:20260419T114908
CREATED:20200911T232719Z
LAST-MODIFIED:20200911T232719Z
UID:3813-1612785600-1612789200@ebcla.org
SUMMARY:Prayer Meeting [ONLINE]
DESCRIPTION:Join us for our weekly prayer meeting! For Zoom details\, please contact info@ebcla.org
URL:https://ebcla.org/event/prayer-meeting-online-3-2021-02-08/
END:VEVENT
BEGIN:VEVENT
DTSTART;TZID=America/Los_Angeles:20210207T143000
DTEND;TZID=America/Los_Angeles:20210207T170000
DTSTAMP:20260419T114908
CREATED:20210201T184622Z
LAST-MODIFIED:20210201T184622Z
UID:3809-1612708200-1612717200@ebcla.org
SUMMARY:Men’s Ministry Super Bowl pre-game watch party
DESCRIPTION:We invite everyone to connect before the start of Super Bowl LV. BYOF (bring your own food). All who come will participate in our annual quarter score contest (with prizes!). We will announce the winners at a brief post-game watch. To RSVP and for Zoom info\, contact Pastor Jonathan
URL:https://ebcla.org/event/mens-ministry-super-bowl-pre-game-watch-party/
END:VEVENT
BEGIN:VEVENT
DTSTART;TZID=America/Los_Angeles:20210207T100000
DTEND;TZID=America/Los_Angeles:20210207T110000
DTSTAMP:20260419T114908
CREATED:20201124T192326Z
LAST-MODIFIED:20210312T004331Z
UID:3793-1612692000-1612695600@ebcla.org
SUMMARY:Zoom Communion Worship Service [ONLINE]
DESCRIPTION:Join us for a church-wide Zoom service! Please come to service with your own bread and cup for Communion. Contact info@ebcla.org for Zoom info. If you can’t join us on Zoom\, you can still enjoy the service through Facebook or YouTube.
URL:https://ebcla.org/event/zoom-sunday-worship-service-online-2021-02-07/
END:VEVENT
BEGIN:VEVENT
DTSTART;TZID=America/Los_Angeles:20210207T083000
DTEND;TZID=America/Los_Angeles:20210207T093000
DTSTAMP:20260419T114908
CREATED:20210105T010114Z
LAST-MODIFIED:20210105T010114Z
UID:3749-1612686600-1612690200@ebcla.org
SUMMARY:CLASS Community
DESCRIPTION:This upcoming sequence titled “Anchored” will introduce us to some of the Baptist distinctives of faith. Evergreen-LA is an American Baptist church and we are connected to a relatively short history within the longer Christian/Protestant tradition. This journey will help us re-visit various anchors of our faith and encourage us to grow deeper. Themes which we may cover include: Lordship of Jesus Christ\, Authority of Scripture\, Soul Freedom (private interpretation)\, Believer’s Baptism\, Separation of Church and State\, Local Church Autonomy and Spiritual Unity\, Missions. Contact Pastor Jonathan for more information.
URL:https://ebcla.org/event/class-community-14-2021-02-07/
END:VEVENT
BEGIN:VEVENT
DTSTART;TZID=America/Los_Angeles:20210205T193000
DTEND;TZID=America/Los_Angeles:20210205T210000
DTSTAMP:20260419T114908
CREATED:20201209T212511Z
LAST-MODIFIED:20210312T010229Z
UID:3865-1612553400-1612558800@ebcla.org
SUMMARY:Youth Group
DESCRIPTION:All students in 5th-12th grade are invited to join the Youth Group on Friday nights! For more information\, please contact Pastor Ryan
URL:https://ebcla.org/event/youth-group-2021-02-05/
END:VEVENT
BEGIN:VEVENT
DTSTART;TZID=America/Los_Angeles:20210202T190000
DTEND;TZID=America/Los_Angeles:20210202T203000
DTSTAMP:20260419T114908
CREATED:20200921T175053Z
LAST-MODIFIED:20200921T175053Z
UID:3872-1612292400-1612297800@ebcla.org
SUMMARY:Youth Group Check-In [ONLINE]
DESCRIPTION:If you’re in 5th-12th grade\, come play games and hang out with us! For more information\, please contact  Pastor Ryan
URL:https://ebcla.org/event/youth-group-check-in-online-2020-10-14-2021-02-02/
END:VEVENT
BEGIN:VEVENT
DTSTART;TZID=America/Los_Angeles:20210201T120000
DTEND;TZID=America/Los_Angeles:20210201T130000
DTSTAMP:20260419T114908
CREATED:20200911T232719Z
LAST-MODIFIED:20200911T232719Z
UID:3812-1612180800-1612184400@ebcla.org
SUMMARY:Prayer Meeting [ONLINE]
DESCRIPTION:Join us for our weekly prayer meeting! For Zoom details\, please contact info@ebcla.org
URL:https://ebcla.org/event/prayer-meeting-online-3-2021-02-01/
END:VEVENT
BEGIN:VEVENT
DTSTART;TZID=America/Los_Angeles:20210131T083000
DTEND;TZID=America/Los_Angeles:20210131T093000
DTSTAMP:20260419T114908
CREATED:20210105T010114Z
LAST-MODIFIED:20210105T010114Z
UID:3748-1612081800-1612085400@ebcla.org
SUMMARY:CLASS Community
DESCRIPTION:This upcoming sequence titled “Anchored” will introduce us to some of the Baptist distinctives of faith. Evergreen-LA is an American Baptist church and we are connected to a relatively short history within the longer Christian/Protestant tradition. This journey will help us re-visit various anchors of our faith and encourage us to grow deeper. Themes which we may cover include: Lordship of Jesus Christ\, Authority of Scripture\, Soul Freedom (private interpretation)\, Believer’s Baptism\, Separation of Church and State\, Local Church Autonomy and Spiritual Unity\, Missions. Contact Pastor Jonathan for more information.
URL:https://ebcla.org/event/class-community-14-2021-01-31/
END:VEVENT
BEGIN:VEVENT
DTSTART;TZID=America/Los_Angeles:20210130T110000
DTEND;TZID=America/Los_Angeles:20210130T130000
DTSTAMP:20260419T114908
CREATED:20201028T230031Z
LAST-MODIFIED:20210111T192230Z
UID:3772-1612004400-1612011600@ebcla.org
SUMMARY:Rosemead Churches Community Food Distribution
DESCRIPTION:In response to the physical needs in our Rosemead community\, Branches Christian Ministries\, Evergreen Baptist Church\, Mission Community United Methodist Church\, and Open Bible Church are co-hosting a drive through food distribution on Saturday\, January 30 at 11:00am at Open Bible Church\, 7915 Hellman Ave\, Rosemead\, CA 91770. Contact info@ebcla.org for more information.
URL:https://ebcla.org/event/rosemead-churches-community-food-distribution-2-2021-01-30/
END:VEVENT
BEGIN:VEVENT
DTSTART;TZID=America/Los_Angeles:20210129T193000
DTEND;TZID=America/Los_Angeles:20210129T210000
DTSTAMP:20260419T114908
CREATED:20201209T212511Z
LAST-MODIFIED:20210312T010229Z
UID:3657-1611948600-1611954000@ebcla.org
SUMMARY:Youth Group
DESCRIPTION:All students in 5th-12th grade are invited to join the Youth Group on Friday nights! For more information\, please contact Pastor Ryan
URL:https://ebcla.org/event/youth-group-2021-01-29/
END:VEVENT
BEGIN:VEVENT
DTSTART;TZID=America/Los_Angeles:20210126T190000
DTEND;TZID=America/Los_Angeles:20210126T203000
DTSTAMP:20260419T114908
CREATED:20200921T175053Z
LAST-MODIFIED:20210211T180744Z
UID:3735-1611687600-1611693000@ebcla.org
SUMMARY:Youth Group Check-In [ONLINE]
DESCRIPTION:If you’re in 5th-12th grade\, come play games and hang out with us! For more information\, please contact  Pastor Ryan
URL:https://ebcla.org/event/youth-group-check-in-online-2020-10-14-2021-01-26/
END:VEVENT
BEGIN:VEVENT
DTSTART;TZID=America/Los_Angeles:20210125T120000
DTEND;TZID=America/Los_Angeles:20210125T130000
DTSTAMP:20260419T114908
CREATED:20200911T232719Z
LAST-MODIFIED:20210201T185007Z
UID:3701-1611576000-1611579600@ebcla.org
SUMMARY:Prayer Meeting [ONLINE]
DESCRIPTION:Join us for our weekly prayer meeting! For Zoom details\, please contact info@ebcla.org
URL:https://ebcla.org/event/prayer-meeting-online-3-2021-01-25/
END:VEVENT
BEGIN:VEVENT
DTSTART;TZID=America/Los_Angeles:20210124T123000
DTEND;TZID=America/Los_Angeles:20210124T140000
DTSTAMP:20260419T114908
CREATED:20201224T235103Z
LAST-MODIFIED:20210312T001459Z
UID:3715-1611491400-1611496800@ebcla.org
SUMMARY:TOD Parent Support Group
DESCRIPTION:A support group for parents of LGBT/Queer children. Contact info@ebcla.org.
URL:https://ebcla.org/event/tod-parent-support-group-2/
END:VEVENT
BEGIN:VEVENT
DTSTART;TZID=America/Los_Angeles:20210124T110000
DTEND;TZID=America/Los_Angeles:20210124T123000
DTSTAMP:20260419T114908
CREATED:20200513T175606Z
LAST-MODIFIED:20210312T001039Z
UID:3713-1611486000-1611491400@ebcla.org
SUMMARY:The Open Door [ONLINE]
DESCRIPTION:A support and fellowship group for LGBT/Queer Christians and allies. Contact Pastor Ryan for more information.
URL:https://ebcla.org/event/open-door-online-10-2021-01-24/
END:VEVENT
BEGIN:VEVENT
DTSTART;TZID=America/Los_Angeles:20210124T110000
DTEND;TZID=America/Los_Angeles:20210124T120000
DTSTAMP:20260419T114908
CREATED:20201028T211807Z
LAST-MODIFIED:20210312T000916Z
UID:3741-1611486000-1611489600@ebcla.org
SUMMARY:Parent Connection [ONLINE]
DESCRIPTION:Community for parents who are expecting or who have kids ages 0-30. Share with and learn from other parents! New topics every week. Contact Shirley Lew for more information.
URL:https://ebcla.org/event/parent-connection-online-10-2021-01-24/
END:VEVENT
BEGIN:VEVENT
DTSTART;TZID=America/Los_Angeles:20210124T083000
DTEND;TZID=America/Los_Angeles:20210124T093000
DTSTAMP:20260419T114908
CREATED:20210105T010114Z
LAST-MODIFIED:20210105T010114Z
UID:3747-1611477000-1611480600@ebcla.org
SUMMARY:CLASS Community
DESCRIPTION:This upcoming sequence titled “Anchored” will introduce us to some of the Baptist distinctives of faith. Evergreen-LA is an American Baptist church and we are connected to a relatively short history within the longer Christian/Protestant tradition. This journey will help us re-visit various anchors of our faith and encourage us to grow deeper. Themes which we may cover include: Lordship of Jesus Christ\, Authority of Scripture\, Soul Freedom (private interpretation)\, Believer’s Baptism\, Separation of Church and State\, Local Church Autonomy and Spiritual Unity\, Missions. Contact Pastor Jonathan for more information.
URL:https://ebcla.org/event/class-community-14-2021-01-24/
END:VEVENT
BEGIN:VEVENT
DTSTART;TZID=America/Los_Angeles:20210122T193000
DTEND;TZID=America/Los_Angeles:20210122T210000
DTSTAMP:20260419T114908
CREATED:20201209T212511Z
LAST-MODIFIED:20210312T010229Z
UID:3656-1611343800-1611349200@ebcla.org
SUMMARY:Youth Group
DESCRIPTION:All students in 5th-12th grade are invited to join the Youth Group on Friday nights! For more information\, please contact Pastor Ryan
URL:https://ebcla.org/event/youth-group-2021-01-22/
END:VEVENT
BEGIN:VEVENT
DTSTART;TZID=America/Los_Angeles:20210119T190000
DTEND;TZID=America/Los_Angeles:20210119T203000
DTSTAMP:20260419T114908
CREATED:20200921T175053Z
LAST-MODIFIED:20210211T180744Z
UID:3734-1611082800-1611088200@ebcla.org
SUMMARY:Youth Group Check-In [ONLINE]
DESCRIPTION:If you’re in 5th-12th grade\, come play games and hang out with us! For more information\, please contact  Pastor Ryan
URL:https://ebcla.org/event/youth-group-check-in-online-2020-10-14-2021-01-19/
END:VEVENT
BEGIN:VEVENT
DTSTART;TZID=America/Los_Angeles:20210118T120000
DTEND;TZID=America/Los_Angeles:20210118T130000
DTSTAMP:20260419T114908
CREATED:20200911T232719Z
LAST-MODIFIED:20210201T185007Z
UID:3700-1610971200-1610974800@ebcla.org
SUMMARY:Prayer Meeting [ONLINE]
DESCRIPTION:Join us for our weekly prayer meeting! For Zoom details\, please contact info@ebcla.org
URL:https://ebcla.org/event/prayer-meeting-online-3-2021-01-18/
END:VEVENT
BEGIN:VEVENT
DTSTART;TZID=America/Los_Angeles:20210117T110000
DTEND;TZID=America/Los_Angeles:20210117T120000
DTSTAMP:20260419T114908
CREATED:20200827T203606Z
LAST-MODIFIED:20200827T203606Z
UID:3765-1610881200-1610884800@ebcla.org
SUMMARY:Sunday Lunch Fellowship [ONLINE]
DESCRIPTION:Join us as we gather on-line for lunch and fellowship! For Zoom details\, please contact info@ebcla.org.
URL:https://ebcla.org/event/sunday-lunch-fellowship-online-6-2021-01-17/
END:VEVENT
BEGIN:VEVENT
DTSTART;TZID=America/Los_Angeles:20210117T083000
DTEND;TZID=America/Los_Angeles:20210117T093000
DTSTAMP:20260419T114908
CREATED:20210105T010114Z
LAST-MODIFIED:20210105T010114Z
UID:3746-1610872200-1610875800@ebcla.org
SUMMARY:CLASS Community
DESCRIPTION:This upcoming sequence titled “Anchored” will introduce us to some of the Baptist distinctives of faith. Evergreen-LA is an American Baptist church and we are connected to a relatively short history within the longer Christian/Protestant tradition. This journey will help us re-visit various anchors of our faith and encourage us to grow deeper. Themes which we may cover include: Lordship of Jesus Christ\, Authority of Scripture\, Soul Freedom (private interpretation)\, Believer’s Baptism\, Separation of Church and State\, Local Church Autonomy and Spiritual Unity\, Missions. Contact Pastor Jonathan for more information.
URL:https://ebcla.org/event/class-community-14-2021-01-17/
END:VEVENT
BEGIN:VEVENT
DTSTART;TZID=America/Los_Angeles:20210116T083000
DTEND;TZID=America/Los_Angeles:20210116T093000
DTSTAMP:20260419T114908
CREATED:20210107T211813Z
LAST-MODIFIED:20210107T211813Z
UID:3763-1610785800-1610789400@ebcla.org
SUMMARY:Prime Timer's New Year's Breakfast Zoom
DESCRIPTION:All Prime Timer’s (55+) are invited to a New Year’s Breakfast Zoom at 8:30am. We will also be having a drive through to pick up the New Year bento box at 10:30am. Contact info@ebcla\,org for Zoom information and to RSVP for the Bento Box pick-up.\n \n 
URL:https://ebcla.org/event/prime-timers-new-years-breakfast-zoom/
END:VEVENT
BEGIN:VEVENT
DTSTART;TZID=America/Los_Angeles:20210115T193000
DTEND;TZID=America/Los_Angeles:20210115T210000
DTSTAMP:20260419T114908
CREATED:20201209T212511Z
LAST-MODIFIED:20210312T010228Z
UID:3655-1610739000-1610744400@ebcla.org
SUMMARY:Youth Group
DESCRIPTION:All students in 5th-12th grade are invited to join the Youth Group on Friday nights! For more information\, please contact Pastor Ryan
URL:https://ebcla.org/event/youth-group-2021-01-15/
END:VEVENT
BEGIN:VEVENT
DTSTART;TZID=America/Los_Angeles:20210112T190000
DTEND;TZID=America/Los_Angeles:20210112T203000
DTSTAMP:20260419T114908
CREATED:20200921T175053Z
LAST-MODIFIED:20210211T180744Z
UID:3733-1610478000-1610483400@ebcla.org
SUMMARY:Youth Group Check-In [ONLINE]
DESCRIPTION:If you’re in 5th-12th grade\, come play games and hang out with us! For more information\, please contact  Pastor Ryan
URL:https://ebcla.org/event/youth-group-check-in-online-2020-10-14-2021-01-12/
END:VEVENT
BEGIN:VEVENT
DTSTART;TZID=America/Los_Angeles:20210111T120000
DTEND;TZID=America/Los_Angeles:20210111T130000
DTSTAMP:20260419T114908
CREATED:20200911T232719Z
LAST-MODIFIED:20210201T184959Z
UID:3699-1610366400-1610370000@ebcla.org
SUMMARY:Prayer Meeting [ONLINE]
DESCRIPTION:Join us for our weekly prayer meeting! For Zoom details\, please contact info@ebcla.org
URL:https://ebcla.org/event/prayer-meeting-online-3-2021-01-11/
END:VEVENT
BEGIN:VEVENT
DTSTART;TZID=America/Los_Angeles:20210110T110000
DTEND;TZID=America/Los_Angeles:20210110T123000
DTSTAMP:20260419T114908
CREATED:20200513T175606Z
LAST-MODIFIED:20210312T001033Z
UID:3712-1610276400-1610281800@ebcla.org
SUMMARY:The Open Door [ONLINE]
DESCRIPTION:A support and fellowship group for LGBT/Queer Christians and allies. Contact Pastor Ryan for more information.
URL:https://ebcla.org/event/open-door-online-10-2021-01-10/
END:VEVENT
BEGIN:VEVENT
DTSTART;TZID=America/Los_Angeles:20210110T110000
DTEND;TZID=America/Los_Angeles:20210110T120000
DTSTAMP:20260419T114908
CREATED:20201202T184039Z
LAST-MODIFIED:20210119T210423Z
UID:3737-1610276400-1610280000@ebcla.org
SUMMARY:Caregivers Support Group
DESCRIPTION:Join us as we Care for each other\, Bear each other’s burdens\, and Share our stories of the joys and challenges of caregiving for ill or aging loved ones. Contact Sandra Jung for more information.
URL:https://ebcla.org/event/caregivers-support-group-2-2021-01-10/
END:VEVENT
BEGIN:VEVENT
DTSTART;TZID=America/Los_Angeles:20210110T100000
DTEND;TZID=America/Los_Angeles:20210110T110000
DTSTAMP:20260419T114908
CREATED:20210107T195836Z
LAST-MODIFIED:20210107T195836Z
UID:3761-1610272800-1610276400@ebcla.org
SUMMARY:Sunday Worship Zoom Service
DESCRIPTION:Join us for a live Zoom Worship service. This will give us the freedom to adjust the service to keep it current and allow us to gather (virtually) in a time when we need to be together. Contact info@ebcla.org for Zoom details.
URL:https://ebcla.org/event/sunday-worship-zoom-service/
END:VEVENT
BEGIN:VEVENT
DTSTART;TZID=America/Los_Angeles:20210110T090000
DTEND;TZID=America/Los_Angeles:20210110T100000
DTSTAMP:20260419T114908
CREATED:20201019T210526Z
LAST-MODIFIED:20210311T235655Z
UID:3718-1610269200-1610272800@ebcla.org
SUMMARY:The Journey [ONLINE]
DESCRIPTION:All parents of children (of any age) with special needs are invited to join this monthly group. Contact Pastor Julie for more information.
URL:https://ebcla.org/event/the-journey-online-4-2021-01-10/
END:VEVENT
BEGIN:VEVENT
DTSTART;TZID=America/Los_Angeles:20210110T083000
DTEND;TZID=America/Los_Angeles:20210110T093000
DTSTAMP:20260419T114908
CREATED:20210105T010114Z
LAST-MODIFIED:20210105T220155Z
UID:3738-1610267400-1610271000@ebcla.org
SUMMARY:CLASS Community
DESCRIPTION:This upcoming sequence titled “Anchored” will introduce us to some of the Baptist distinctives of faith. Evergreen-LA is an American Baptist church and we are connected to a relatively short history within the longer Christian/Protestant tradition. This journey will help us re-visit various anchors of our faith and encourage us to grow deeper. Themes which we may cover include: Lordship of Jesus Christ\, Authority of Scripture\, Soul Freedom (private interpretation)\, Believer’s Baptism\, Separation of Church and State\, Local Church Autonomy and Spiritual Unity\, Missions. Contact Pastor Jonathan for more information.
URL:https://ebcla.org/event/class-community-14/
END:VEVENT
END:VCALENDAR