BEGIN:VCALENDAR
VERSION:2.0
PRODID:-//Evergreen - ECPv6.15.17.1//NONSGML v1.0//EN
CALSCALE:GREGORIAN
METHOD:PUBLISH
X-WR-CALNAME:Evergreen
X-ORIGINAL-URL:https://ebcla.org
X-WR-CALDESC:Events for Evergreen
REFRESH-INTERVAL;VALUE=DURATION:PT1H
X-Robots-Tag:noindex
X-PUBLISHED-TTL:PT1H
BEGIN:VTIMEZONE
TZID:UTC
BEGIN:STANDARD
TZOFFSETFROM:+0000
TZOFFSETTO:+0000
TZNAME:UTC
DTSTART:20170101T000000
END:STANDARD
END:VTIMEZONE
BEGIN:VEVENT
DTSTART;TZID=UTC:20180929T170000
DTEND;TZID=UTC:20180929T200000
DTSTAMP:20260425T212315
CREATED:20180830T020201Z
LAST-MODIFIED:20180830T020229Z
UID:812-1538240400-1538251200@ebcla.org
SUMMARY:Men's Ministry BBQ
DESCRIPTION:Come and enjoy good eats and fellowship. Smoked beef brisket\, grilled chicken\, sausages\, and more! $10. Contact Eileen Quon to RSVP.
URL:https://ebcla.org/event/mens-ministry-bbq-2/
END:VEVENT
BEGIN:VEVENT
DTSTART;TZID=UTC:20180923T113000
DTEND;TZID=UTC:20180923T130000
DTSTAMP:20260425T212315
CREATED:20180830T015711Z
LAST-MODIFIED:20180920T055438Z
UID:810-1537702200-1537707600@ebcla.org
SUMMARY:All-Church Lunch
DESCRIPTION:Everyone is invited to stay after service for a time of eating together and fellowship. Menu: Pastrami Sandwich. Suggested donation $3.
URL:https://ebcla.org/event/all-church-lunch-6/
END:VEVENT
BEGIN:VEVENT
DTSTART;TZID=UTC:20180919T113000
DTEND;TZID=UTC:20180919T123000
DTSTAMP:20260425T212315
CREATED:20180830T050028Z
LAST-MODIFIED:20180830T050159Z
UID:823-1537356600-1537360200@ebcla.org
SUMMARY:TTT Lunch
DESCRIPTION:On the 3rd Wednesday of every month\, the Pastoral Staff will go to a different city to meet with you during your lunch hour. This is an opportunity to connect with you where you work and encourage you in what you do. This month\, the meeting place is Fig & 7th in Downtown LA. Bring your own lunch or pick something up at the food court. Contact Pastor Jonathan if you are interested in joining.
URL:https://ebcla.org/event/ttt-lunch/
END:VEVENT
BEGIN:VEVENT
DTSTART;TZID=UTC:20180916T120000
DTEND;TZID=UTC:20180916T130000
DTSTAMP:20260425T212315
CREATED:20180830T020859Z
LAST-MODIFIED:20180830T020859Z
UID:821-1537099200-1537102800@ebcla.org
SUMMARY:The Open Door Parent Support Group
DESCRIPTION:A support group for parents of LGBT/Queer children.
URL:https://ebcla.org/event/open-door-parent-support-group-6/
END:VEVENT
BEGIN:VEVENT
DTSTART;TZID=UTC:20180916T084500
DTEND;TZID=UTC:20180916T100000
DTSTAMP:20260425T212315
CREATED:20180817T053827Z
LAST-MODIFIED:20180817T053827Z
UID:779-1537087500-1537092000@ebcla.org
SUMMARY:CLASS Community
DESCRIPTION:Join CLASS Community! Parenting with Connection (MCFH). Grace based parenting class for parents of all ages.\nYou Are What You Love – The Quest of Seeking (MC100/101).
URL:https://ebcla.org/event/class-community-2/
END:VEVENT
BEGIN:VEVENT
DTSTART;TZID=UTC:20180915T090000
DTEND;TZID=UTC:20180915T110000
DTSTAMP:20260425T212315
CREATED:20180830T020447Z
LAST-MODIFIED:20180830T020517Z
UID:815-1537002000-1537009200@ebcla.org
SUMMARY:Prime Timer's Breakfast
DESCRIPTION:All Prime Timer’s (55+) are invited for a special breakfast and fellowship. Hear from speaker Sandra Jung on the “Journey of Gratitude.” Cost $3. Contact Michi Tanioka for details and to RSVP. 
URL:https://ebcla.org/event/815/
END:VEVENT
BEGIN:VEVENT
DTSTART;TZID=UTC:20180910T093000
DTEND;TZID=UTC:20180910T110000
DTSTAMP:20260425T212315
CREATED:20180817T053019Z
LAST-MODIFIED:20180817T053019Z
UID:773-1536571800-1536577200@ebcla.org
SUMMARY:Prime Timer's Bible Study
DESCRIPTION:Join Prime Timer’s (55+) monthly for prayer\, fellowship\, and Bible study.
URL:https://ebcla.org/event/prime-timers-bible-study-3/
END:VEVENT
BEGIN:VEVENT
DTSTART;TZID=UTC:20180909T120000
DTEND;TZID=UTC:20180909T133000
DTSTAMP:20260425T212315
CREATED:20180830T020727Z
LAST-MODIFIED:20180830T020727Z
UID:818-1536494400-1536499800@ebcla.org
SUMMARY:The Open Door
DESCRIPTION:A support and fellowship group for LGBT/Queer Christians and allies.
URL:https://ebcla.org/event/the-open-door-6/
END:VEVENT
BEGIN:VEVENT
DTSTART;TZID=UTC:20180909T113000
DTEND;TZID=UTC:20180909T130000
DTSTAMP:20260425T212315
CREATED:20180830T015633Z
LAST-MODIFIED:20180830T015633Z
UID:808-1536492600-1536498000@ebcla.org
SUMMARY:All-Church Lunch
DESCRIPTION:Everyone is invited to stay after service for a time of eating together and fellowship. Menu: Pizza. Suggested donation $3.
URL:https://ebcla.org/event/all-church-lunch-5/
END:VEVENT
BEGIN:VEVENT
DTSTART;TZID=UTC:20180909T084500
DTEND;TZID=UTC:20180909T100000
DTSTAMP:20260425T212315
CREATED:20180817T053735Z
LAST-MODIFIED:20180817T053735Z
UID:777-1536482700-1536487200@ebcla.org
SUMMARY:CLASS Community
DESCRIPTION:Join CLASS Community! Parenting with Connection (MCFH). Grace based parenting class for parents of all ages.
URL:https://ebcla.org/event/class-community/
END:VEVENT
BEGIN:VEVENT
DTSTART;TZID=UTC:20180909T084500
DTEND;TZID=UTC:20180909T100000
DTSTAMP:20260425T212315
CREATED:20180817T052905Z
LAST-MODIFIED:20180817T052905Z
UID:771-1536482700-1536487200@ebcla.org
SUMMARY:The Journey - Special Needs Support Group
DESCRIPTION:All parents of children (of any age) with special needs are invited to join this monthly group. Contact Pastor Julie
URL:https://ebcla.org/event/journey-special-needs-support-group/
END:VEVENT
BEGIN:VEVENT
DTSTART;TZID=UTC:20180909T083000
DTEND;TZID=UTC:20180909T113000
DTSTAMP:20260425T212315
CREATED:20180817T052334Z
LAST-MODIFIED:20180817T052334Z
UID:766-1536481800-1536492600@ebcla.org
SUMMARY:Sunday School Begins!
DESCRIPTION:Sunday school for children and youth ages 16 months – 12th grade begins. Contact Kathy Hubbard for more information.
URL:https://ebcla.org/event/sunday-school-begins/
END:VEVENT
BEGIN:VEVENT
DTSTART;TZID=UTC:20180908T073000
DTEND;TZID=UTC:20180908T090000
DTSTAMP:20260425T212315
CREATED:20180817T052606Z
LAST-MODIFIED:20180817T052703Z
UID:768-1536391800-1536397200@ebcla.org
SUMMARY:Men's Breakfast
DESCRIPTION:All men are invited to our monthly group to eat together and reflect on the Gospel and poverty. RSVP to Pastor Jonathan. Location: Twohey’s\, Alhambra
URL:https://ebcla.org/event/mens-breakfast-6/
END:VEVENT
BEGIN:VEVENT
DTSTART;TZID=UTC:20180903T083000
DTEND;TZID=UTC:20180903T163000
DTSTAMP:20260425T212315
CREATED:20180817T051954Z
LAST-MODIFIED:20180817T052107Z
UID:764-1535963400-1535992200@ebcla.org
SUMMARY:Church Office Closed
DESCRIPTION:The Church office will be closed on Monday\, September 3 in observance of Labor Day. The office will reopen on Tuesday\, September 4.
URL:https://ebcla.org/event/church-office-closed-3/
END:VEVENT
BEGIN:VEVENT
DTSTART;TZID=UTC:20180826T120000
DTEND;TZID=UTC:20180826T133000
DTSTAMP:20260425T212315
CREATED:20180807T051632Z
LAST-MODIFIED:20180807T051632Z
UID:751-1535284800-1535290200@ebcla.org
SUMMARY:The Open Door
DESCRIPTION:A support and fellowship group for LGBT/Queer Christians and allies.
URL:https://ebcla.org/event/the-open-door-5/
END:VEVENT
BEGIN:VEVENT
DTSTART;TZID=UTC:20180826T114500
DTEND;TZID=UTC:20180826T130000
DTSTAMP:20260425T212315
CREATED:20180807T052601Z
LAST-MODIFIED:20180807T052601Z
UID:755-1535283900-1535288400@ebcla.org
SUMMARY:Women's Ministry Lunch Break
DESCRIPTION:Bring your lunch plate for an informal fellowship time and prayer\, catch up with fellow EBCLA women. Contact Pastor Shirley for more info.
URL:https://ebcla.org/event/womens-ministry-lunch-break-2/
END:VEVENT
BEGIN:VEVENT
DTSTART;TZID=UTC:20180826T113000
DTEND;TZID=UTC:20180826T130000
DTSTAMP:20260425T212315
CREATED:20180817T053222Z
LAST-MODIFIED:20180817T053222Z
UID:775-1535283000-1535288400@ebcla.org
SUMMARY:All-Church Lunch
DESCRIPTION:Everyone is invited to stay after service for a time of eating together and fellowship. Menu: Hamburgers. Suggested donation $3.
URL:https://ebcla.org/event/all-church-lunch-3/
END:VEVENT
BEGIN:VEVENT
DTSTART;TZID=UTC:20180826T083000
DTEND;TZID=UTC:20180826T100000
DTSTAMP:20260425T212315
CREATED:20180817T051801Z
LAST-MODIFIED:20180817T051801Z
UID:762-1535272200-1535277600@ebcla.org
SUMMARY:Recycling
DESCRIPTION:Support Boy Scout Troop 361 and bring aluminum cans\, #1 plastic\, and glass bottles for recycling.
URL:https://ebcla.org/event/recycling-5/
END:VEVENT
BEGIN:VEVENT
DTSTART;TZID=UTC:20180825T090000
DTEND;TZID=UTC:20180825T150000
DTSTAMP:20260425T212315
CREATED:20180712T054853Z
LAST-MODIFIED:20180712T054853Z
UID:714-1535187600-1535209200@ebcla.org
SUMMARY:Leadership Summit
DESCRIPTION:Join us for a day of vision casting\, community building\, and prayer for the church. Guest speaker Alan Fadling will lead us in a time of re-nourishment. Lunch is included. Childcare available upon request. RSVP to Eileen Quon by August 22.
URL:https://ebcla.org/event/leadership-summit/
END:VEVENT
BEGIN:VEVENT
DTSTART;TZID=UTC:20180819T120000
DTEND;TZID=UTC:20180819T130000
DTSTAMP:20260425T212315
CREATED:20180807T051755Z
LAST-MODIFIED:20180807T051755Z
UID:753-1534680000-1534683600@ebcla.org
SUMMARY:The Open Door Parent Support Group
DESCRIPTION:A support group for parents of LGBT/Queer children.
URL:https://ebcla.org/event/open-door-parent-support-group-5/
END:VEVENT
BEGIN:VEVENT
DTSTART;TZID=UTC:20180819T113000
DTEND;TZID=UTC:20180819T120000
DTSTAMP:20260425T212315
CREATED:20180807T053239Z
LAST-MODIFIED:20180807T053239Z
UID:757-1534678200-1534680000@ebcla.org
SUMMARY:Register for the Women's Retreat
DESCRIPTION:All women are invited to the Women’s Retreat! Taking place on October 5-7 in Manhattan Beach. Theme: “Trust the Journey”. Speaker: Rev. Sharon Koh. Contact Pastor Shirley for more information.
URL:https://ebcla.org/event/register-womens-retreat/
END:VEVENT
BEGIN:VEVENT
DTSTART;TZID=UTC:20180818T170000
DTEND;TZID=UTC:20180818T200000
DTSTAMP:20260425T212315
CREATED:20180712T054529Z
LAST-MODIFIED:20180712T054529Z
UID:712-1534611600-1534622400@ebcla.org
SUMMARY:Men's Ministry BBQ
DESCRIPTION:Everyone is invited to celebrate a great summer with fun\, fellowship and good eats!
URL:https://ebcla.org/event/mens-ministry-bbq/
END:VEVENT
BEGIN:VEVENT
DTSTART;TZID=UTC:20180818T090000
DTEND;TZID=UTC:20180818T110000
DTSTAMP:20260425T212315
CREATED:20180727T054858Z
LAST-MODIFIED:20180727T054858Z
UID:733-1534582800-1534590000@ebcla.org
SUMMARY:Prime Timer's Breakfast
DESCRIPTION:All Prime Timer’s (55+) are invited for a special breakfast prepared by the ministry staff. Location: Miller and Jetty’s home. Contact Michi Tanioka for details and to RSVP. 
URL:https://ebcla.org/event/prime-timers-breakfast-3/
END:VEVENT
BEGIN:VEVENT
DTSTART;TZID=UTC:20180812T120000
DTEND;TZID=UTC:20180812T133000
DTSTAMP:20260425T212315
CREATED:20180807T051549Z
LAST-MODIFIED:20180807T051549Z
UID:749-1534075200-1534080600@ebcla.org
SUMMARY:The Open Door
DESCRIPTION:A support and fellowship group for LGBT/Queer Christians and allies.
URL:https://ebcla.org/event/the-open-door-4/
END:VEVENT
BEGIN:VEVENT
DTSTART;TZID=UTC:20180812T113000
DTEND;TZID=UTC:20180812T130000
DTSTAMP:20260425T212315
CREATED:20180727T055925Z
LAST-MODIFIED:20180807T051101Z
UID:740-1534073400-1534078800@ebcla.org
SUMMARY:All-Church Lunch
DESCRIPTION:Everyone is invited to stay after service for a time of eating together and fellowship. Menu: Fish Tacos. Suggested donation $3.
URL:https://ebcla.org/event/all-church-lunch-4/
END:VEVENT
BEGIN:VEVENT
DTSTART;TZID=UTC:20180812T100000
DTEND;TZID=UTC:20180812T130000
DTSTAMP:20260425T212315
CREATED:20180727T055217Z
LAST-MODIFIED:20180727T055217Z
UID:735-1534068000-1534078800@ebcla.org
SUMMARY:VBS Finale
DESCRIPTION:Join us during the 10AM worship service\, to celebrate the finale of our Vacation Bible School “Rolling Rampage – experience the ride of a lifetime with God!” There will be worship\, special performances and lunch afterwards for $3/person.
URL:https://ebcla.org/event/vbs-finale/
END:VEVENT
BEGIN:VEVENT
DTSTART;TZID=UTC:20180811T080000
DTEND;TZID=UTC:20180811T090000
DTSTAMP:20260425T212315
CREATED:20180712T054325Z
LAST-MODIFIED:20180712T054325Z
UID:710-1533974400-1533978000@ebcla.org
SUMMARY:Men's Breakfast
DESCRIPTION:All men are invited to our monthly group to eat together and reflect on wisdom and the modern economy. RSVP to Pastor Jonathan. Location: Colonial Kitchen\, San Marino
URL:https://ebcla.org/event/mens-breakfast-5/
END:VEVENT
BEGIN:VEVENT
DTSTART;TZID=UTC:20180810T193000
DTEND;TZID=UTC:20180810T210000
DTSTAMP:20260425T212315
CREATED:20180727T054427Z
LAST-MODIFIED:20180727T054427Z
UID:731-1533929400-1533934800@ebcla.org
SUMMARY:Summer Worship Acoustic Series
DESCRIPTION:An evening of worship\, reflection\, prayer and soaking in God’s Presence. Contact Romellus Wilson
URL:https://ebcla.org/event/summer-worship-acoustic-series-2/
END:VEVENT
BEGIN:VEVENT
DTSTART;TZID=UTC:20180804T180000
DTEND;TZID=UTC:20180804T220000
DTSTAMP:20260425T212315
CREATED:20180629T052017Z
LAST-MODIFIED:20180629T052017Z
UID:672-1533405600-1533420000@ebcla.org
SUMMARY:EBCLA Dodgers Game Outing
DESCRIPTION:Everyone is invited to come out for a fun night. Group seats in the Right Field Pavilion. Purchase tickets by July 13 ($40 includes all you can eat). Contact Pastor Jonathan
URL:https://ebcla.org/event/ebcla-dodgers-game-outing/
END:VEVENT
BEGIN:VEVENT
DTSTART;TZID=UTC:20180729T120000
DTEND;TZID=UTC:20180729T133000
DTSTAMP:20260425T212315
CREATED:20180629T051423Z
LAST-MODIFIED:20180718T231544Z
UID:669-1532865600-1532871000@ebcla.org
SUMMARY:Quarterly Congregational Meeting
DESCRIPTION:All are welcomed to hear an update of the first 6 months in 2018. We will hear from ministry staff and affirm new members & board members. Lunch will be Broasted Chicken ($3).
URL:https://ebcla.org/event/quarterly-congregational-meeting-2/
END:VEVENT
END:VCALENDAR